BEGIN:VCALENDAR
VERSION:2.0
PRODID:-//Tulsa Arts District - ECPv6.15.20//NONSGML v1.0//EN
CALSCALE:GREGORIAN
METHOD:PUBLISH
X-WR-CALNAME:Tulsa Arts District
X-ORIGINAL-URL:https://thetulsaartsdistrict.org
X-WR-CALDESC:Events for Tulsa Arts District
REFRESH-INTERVAL;VALUE=DURATION:PT1H
X-Robots-Tag:noindex
X-PUBLISHED-TTL:PT1H
BEGIN:VTIMEZONE
TZID:America/Chicago
BEGIN:DAYLIGHT
TZOFFSETFROM:-0600
TZOFFSETTO:-0500
TZNAME:CDT
DTSTART:20250309T080000
END:DAYLIGHT
BEGIN:STANDARD
TZOFFSETFROM:-0500
TZOFFSETTO:-0600
TZNAME:CST
DTSTART:20251102T070000
END:STANDARD
BEGIN:DAYLIGHT
TZOFFSETFROM:-0600
TZOFFSETTO:-0500
TZNAME:CDT
DTSTART:20260308T080000
END:DAYLIGHT
BEGIN:STANDARD
TZOFFSETFROM:-0500
TZOFFSETTO:-0600
TZNAME:CST
DTSTART:20261101T070000
END:STANDARD
BEGIN:DAYLIGHT
TZOFFSETFROM:-0600
TZOFFSETTO:-0500
TZNAME:CDT
DTSTART:20270314T080000
END:DAYLIGHT
BEGIN:STANDARD
TZOFFSETFROM:-0500
TZOFFSETTO:-0600
TZNAME:CST
DTSTART:20271107T070000
END:STANDARD
END:VTIMEZONE
BEGIN:VEVENT
DTSTART;TZID=America/Chicago:20260424T210000
DTEND;TZID=America/Chicago:20260425T013000
DTSTAMP:20260419T072813
CREATED:20260409T182648Z
LAST-MODIFIED:20260414T205537Z
UID:118069-1777064400-1777080600@thetulsaartsdistrict.org
SUMMARY:Dance to the Music of DJ Konnect + Hoe You Think You Can Dance! Contest at Club Majestic at 12:30 am - 18+
DESCRIPTION:
URL:https://thetulsaartsdistrict.org/event/dance-to-the-music-of-dj-konnect-hoe-you-think-you-can-dance-contest-at-club-majestic-at-1230-am-18-2026-04-24/2026-04-24/
LOCATION:Club Majestic\, 124 N Boston\, Tulsa\, OK\, 74103\, United States
END:VEVENT
BEGIN:VEVENT
DTSTART;TZID=America/Chicago:20260508T210000
DTEND;TZID=America/Chicago:20260509T013000
DTSTAMP:20260419T072813
CREATED:20260409T182648Z
LAST-MODIFIED:20260414T205537Z
UID:118079-1778274000-1778290200@thetulsaartsdistrict.org
SUMMARY:Dance to the Music of DJ Konnect + Hoe You Think You Can Dance! Contest at Club Majestic at 12:30 am - 18+
DESCRIPTION:
URL:https://thetulsaartsdistrict.org/event/dance-to-the-music-of-dj-konnect-hoe-you-think-you-can-dance-contest-at-club-majestic-at-1230-am-18-2026-04-24/2026-05-08/
LOCATION:Club Majestic\, 124 N Boston\, Tulsa\, OK\, 74103\, United States
END:VEVENT
BEGIN:VEVENT
DTSTART;TZID=America/Chicago:20260515T210000
DTEND;TZID=America/Chicago:20260516T013000
DTSTAMP:20260419T072813
CREATED:20260409T182648Z
LAST-MODIFIED:20260414T205537Z
UID:118070-1778878800-1778895000@thetulsaartsdistrict.org
SUMMARY:Dance to the Music of DJ Konnect + Hoe You Think You Can Dance! Contest at Club Majestic at 12:30 am - 18+
DESCRIPTION:
URL:https://thetulsaartsdistrict.org/event/dance-to-the-music-of-dj-konnect-hoe-you-think-you-can-dance-contest-at-club-majestic-at-1230-am-18-2026-04-24/2026-05-15/
LOCATION:Club Majestic\, 124 N Boston\, Tulsa\, OK\, 74103\, United States
END:VEVENT
BEGIN:VEVENT
DTSTART;TZID=America/Chicago:20260522T210000
DTEND;TZID=America/Chicago:20260523T013000
DTSTAMP:20260419T072813
CREATED:20260409T182648Z
LAST-MODIFIED:20260414T205537Z
UID:118071-1779483600-1779499800@thetulsaartsdistrict.org
SUMMARY:Dance to the Music of DJ Konnect + Hoe You Think You Can Dance! Contest at Club Majestic at 12:30 am - 18+
DESCRIPTION:
URL:https://thetulsaartsdistrict.org/event/dance-to-the-music-of-dj-konnect-hoe-you-think-you-can-dance-contest-at-club-majestic-at-1230-am-18-2026-04-24/2026-05-22/
LOCATION:Club Majestic\, 124 N Boston\, Tulsa\, OK\, 74103\, United States
END:VEVENT
BEGIN:VEVENT
DTSTART;TZID=America/Chicago:20260612T210000
DTEND;TZID=America/Chicago:20260613T013000
DTSTAMP:20260419T072813
CREATED:20260409T182648Z
LAST-MODIFIED:20260414T205538Z
UID:118080-1781298000-1781314200@thetulsaartsdistrict.org
SUMMARY:Dance to the Music of DJ Konnect + Hoe You Think You Can Dance! Contest at Club Majestic at 12:30 am - 18+
DESCRIPTION:
URL:https://thetulsaartsdistrict.org/event/dance-to-the-music-of-dj-konnect-hoe-you-think-you-can-dance-contest-at-club-majestic-at-1230-am-18-2026-04-24/2026-06-12/
LOCATION:Club Majestic\, 124 N Boston\, Tulsa\, OK\, 74103\, United States
END:VEVENT
BEGIN:VEVENT
DTSTART;TZID=America/Chicago:20260619T210000
DTEND;TZID=America/Chicago:20260620T013000
DTSTAMP:20260419T072813
CREATED:20260409T182648Z
LAST-MODIFIED:20260414T205538Z
UID:118072-1781902800-1781919000@thetulsaartsdistrict.org
SUMMARY:Dance to the Music of DJ Konnect + Hoe You Think You Can Dance! Contest at Club Majestic at 12:30 am - 18+
DESCRIPTION:
URL:https://thetulsaartsdistrict.org/event/dance-to-the-music-of-dj-konnect-hoe-you-think-you-can-dance-contest-at-club-majestic-at-1230-am-18-2026-04-24/2026-06-19/
LOCATION:Club Majestic\, 124 N Boston\, Tulsa\, OK\, 74103\, United States
END:VEVENT
BEGIN:VEVENT
DTSTART;TZID=America/Chicago:20260626T210000
DTEND;TZID=America/Chicago:20260627T013000
DTSTAMP:20260419T072813
CREATED:20260409T182648Z
LAST-MODIFIED:20260414T205538Z
UID:118073-1782507600-1782523800@thetulsaartsdistrict.org
SUMMARY:Dance to the Music of DJ Konnect + Hoe You Think You Can Dance! Contest at Club Majestic at 12:30 am - 18+
DESCRIPTION:
URL:https://thetulsaartsdistrict.org/event/dance-to-the-music-of-dj-konnect-hoe-you-think-you-can-dance-contest-at-club-majestic-at-1230-am-18-2026-04-24/2026-06-26/
LOCATION:Club Majestic\, 124 N Boston\, Tulsa\, OK\, 74103\, United States
END:VEVENT
BEGIN:VEVENT
DTSTART;TZID=America/Chicago:20260710T210000
DTEND;TZID=America/Chicago:20260711T013000
DTSTAMP:20260419T072813
CREATED:20260409T182648Z
LAST-MODIFIED:20260414T205538Z
UID:118081-1783717200-1783733400@thetulsaartsdistrict.org
SUMMARY:Dance to the Music of DJ Konnect + Hoe You Think You Can Dance! Contest at Club Majestic at 12:30 am - 18+
DESCRIPTION:
URL:https://thetulsaartsdistrict.org/event/dance-to-the-music-of-dj-konnect-hoe-you-think-you-can-dance-contest-at-club-majestic-at-1230-am-18-2026-04-24/2026-07-10/
LOCATION:Club Majestic\, 124 N Boston\, Tulsa\, OK\, 74103\, United States
END:VEVENT
BEGIN:VEVENT
DTSTART;TZID=America/Chicago:20260717T210000
DTEND;TZID=America/Chicago:20260718T013000
DTSTAMP:20260419T072813
CREATED:20260409T182648Z
LAST-MODIFIED:20260414T205538Z
UID:118074-1784322000-1784338200@thetulsaartsdistrict.org
SUMMARY:Dance to the Music of DJ Konnect + Hoe You Think You Can Dance! Contest at Club Majestic at 12:30 am - 18+
DESCRIPTION:
URL:https://thetulsaartsdistrict.org/event/dance-to-the-music-of-dj-konnect-hoe-you-think-you-can-dance-contest-at-club-majestic-at-1230-am-18-2026-04-24/2026-07-17/
LOCATION:Club Majestic\, 124 N Boston\, Tulsa\, OK\, 74103\, United States
END:VEVENT
BEGIN:VEVENT
DTSTART;TZID=America/Chicago:20260724T210000
DTEND;TZID=America/Chicago:20260725T013000
DTSTAMP:20260419T072813
CREATED:20260409T182648Z
LAST-MODIFIED:20260414T205538Z
UID:118075-1784926800-1784943000@thetulsaartsdistrict.org
SUMMARY:Dance to the Music of DJ Konnect + Hoe You Think You Can Dance! Contest at Club Majestic at 12:30 am - 18+
DESCRIPTION:
URL:https://thetulsaartsdistrict.org/event/dance-to-the-music-of-dj-konnect-hoe-you-think-you-can-dance-contest-at-club-majestic-at-1230-am-18-2026-04-24/2026-07-24/
LOCATION:Club Majestic\, 124 N Boston\, Tulsa\, OK\, 74103\, United States
END:VEVENT
BEGIN:VEVENT
DTSTART;TZID=America/Chicago:20260814T210000
DTEND;TZID=America/Chicago:20260815T013000
DTSTAMP:20260419T072813
CREATED:20260409T182648Z
LAST-MODIFIED:20260414T205538Z
UID:118082-1786741200-1786757400@thetulsaartsdistrict.org
SUMMARY:Dance to the Music of DJ Konnect + Hoe You Think You Can Dance! Contest at Club Majestic at 12:30 am - 18+
DESCRIPTION:
URL:https://thetulsaartsdistrict.org/event/dance-to-the-music-of-dj-konnect-hoe-you-think-you-can-dance-contest-at-club-majestic-at-1230-am-18-2026-04-24/2026-08-14/
LOCATION:Club Majestic\, 124 N Boston\, Tulsa\, OK\, 74103\, United States
END:VEVENT
BEGIN:VEVENT
DTSTART;TZID=America/Chicago:20260821T210000
DTEND;TZID=America/Chicago:20260822T013000
DTSTAMP:20260419T072813
CREATED:20260409T182648Z
LAST-MODIFIED:20260414T205538Z
UID:118076-1787346000-1787362200@thetulsaartsdistrict.org
SUMMARY:Dance to the Music of DJ Konnect + Hoe You Think You Can Dance! Contest at Club Majestic at 12:30 am - 18+
DESCRIPTION:
URL:https://thetulsaartsdistrict.org/event/dance-to-the-music-of-dj-konnect-hoe-you-think-you-can-dance-contest-at-club-majestic-at-1230-am-18-2026-04-24/2026-08-21/
LOCATION:Club Majestic\, 124 N Boston\, Tulsa\, OK\, 74103\, United States
END:VEVENT
BEGIN:VEVENT
DTSTART;TZID=America/Chicago:20260828T210000
DTEND;TZID=America/Chicago:20260829T013000
DTSTAMP:20260419T072813
CREATED:20260409T182648Z
LAST-MODIFIED:20260414T205538Z
UID:118077-1787950800-1787967000@thetulsaartsdistrict.org
SUMMARY:Dance to the Music of DJ Konnect + Hoe You Think You Can Dance! Contest at Club Majestic at 12:30 am - 18+
DESCRIPTION:
URL:https://thetulsaartsdistrict.org/event/dance-to-the-music-of-dj-konnect-hoe-you-think-you-can-dance-contest-at-club-majestic-at-1230-am-18-2026-04-24/2026-08-28/
LOCATION:Club Majestic\, 124 N Boston\, Tulsa\, OK\, 74103\, United States
END:VEVENT
END:VCALENDAR