BEGIN:VCALENDAR
VERSION:2.0
PRODID:-//Tulsa Arts District - ECPv6.15.20//NONSGML v1.0//EN
CALSCALE:GREGORIAN
METHOD:PUBLISH
X-ORIGINAL-URL:https://thetulsaartsdistrict.org
X-WR-CALDESC:Events for Tulsa Arts District
REFRESH-INTERVAL;VALUE=DURATION:PT1H
X-Robots-Tag:noindex
X-PUBLISHED-TTL:PT1H
BEGIN:VTIMEZONE
TZID:America/Chicago
BEGIN:DAYLIGHT
TZOFFSETFROM:-0600
TZOFFSETTO:-0500
TZNAME:CDT
DTSTART:20250309T080000
END:DAYLIGHT
BEGIN:STANDARD
TZOFFSETFROM:-0500
TZOFFSETTO:-0600
TZNAME:CST
DTSTART:20251102T070000
END:STANDARD
BEGIN:DAYLIGHT
TZOFFSETFROM:-0600
TZOFFSETTO:-0500
TZNAME:CDT
DTSTART:20260308T080000
END:DAYLIGHT
BEGIN:STANDARD
TZOFFSETFROM:-0500
TZOFFSETTO:-0600
TZNAME:CST
DTSTART:20261101T070000
END:STANDARD
BEGIN:DAYLIGHT
TZOFFSETFROM:-0600
TZOFFSETTO:-0500
TZNAME:CDT
DTSTART:20270314T080000
END:DAYLIGHT
BEGIN:STANDARD
TZOFFSETFROM:-0500
TZOFFSETTO:-0600
TZNAME:CST
DTSTART:20271107T070000
END:STANDARD
END:VTIMEZONE
BEGIN:VEVENT
DTSTART;TZID=America/Chicago:20260425T140000
DTEND;TZID=America/Chicago:20260425T160000
DTSTAMP:20260419T114517
CREATED:20250706T214425Z
LAST-MODIFIED:20260412T212928Z
UID:95551-1777125600-1777132800@thetulsaartsdistrict.org
SUMMARY:Inner Circle Drag Show
DESCRIPTION:
URL:https://thetulsaartsdistrict.org/event/inner-circle-drag-show-5-2026-04-25/2026-04-25/
LOCATION:Inner Circle Vodka Bar\, 410 N Main\, Tulsa\, OK\, 74103\, United States
END:VEVENT
BEGIN:VEVENT
DTSTART;TZID=America/Chicago:20260523T140000
DTEND;TZID=America/Chicago:20260523T160000
DTSTAMP:20260419T114517
CREATED:20250706T214425Z
LAST-MODIFIED:20260412T212930Z
UID:95552-1779544800-1779552000@thetulsaartsdistrict.org
SUMMARY:Inner Circle Drag Show
DESCRIPTION:
URL:https://thetulsaartsdistrict.org/event/inner-circle-drag-show-5-2026-04-25/2026-05-23/
LOCATION:Inner Circle Vodka Bar\, 410 N Main\, Tulsa\, OK\, 74103\, United States
END:VEVENT
BEGIN:VEVENT
DTSTART;TZID=America/Chicago:20260627T140000
DTEND;TZID=America/Chicago:20260627T160000
DTSTAMP:20260419T114517
CREATED:20250706T214425Z
LAST-MODIFIED:20260412T212930Z
UID:95553-1782568800-1782576000@thetulsaartsdistrict.org
SUMMARY:Inner Circle Drag Show
DESCRIPTION:
URL:https://thetulsaartsdistrict.org/event/inner-circle-drag-show-5-2026-04-25/2026-06-27/
LOCATION:Inner Circle Vodka Bar\, 410 N Main\, Tulsa\, OK\, 74103\, United States
END:VEVENT
END:VCALENDAR