BEGIN:VCALENDAR
VERSION:2.0
PRODID:-//Tulsa Arts District - ECPv6.15.20//NONSGML v1.0//EN
CALSCALE:GREGORIAN
METHOD:PUBLISH
X-WR-CALNAME:Tulsa Arts District
X-ORIGINAL-URL:https://thetulsaartsdistrict.org
X-WR-CALDESC:Events for Tulsa Arts District
REFRESH-INTERVAL;VALUE=DURATION:PT1H
X-Robots-Tag:noindex
X-PUBLISHED-TTL:PT1H
BEGIN:VTIMEZONE
TZID:America/Chicago
BEGIN:DAYLIGHT
TZOFFSETFROM:-0600
TZOFFSETTO:-0500
TZNAME:CDT
DTSTART:20250309T080000
END:DAYLIGHT
BEGIN:STANDARD
TZOFFSETFROM:-0500
TZOFFSETTO:-0600
TZNAME:CST
DTSTART:20251102T070000
END:STANDARD
BEGIN:DAYLIGHT
TZOFFSETFROM:-0600
TZOFFSETTO:-0500
TZNAME:CDT
DTSTART:20260308T080000
END:DAYLIGHT
BEGIN:STANDARD
TZOFFSETFROM:-0500
TZOFFSETTO:-0600
TZNAME:CST
DTSTART:20261101T070000
END:STANDARD
BEGIN:DAYLIGHT
TZOFFSETFROM:-0600
TZOFFSETTO:-0500
TZNAME:CDT
DTSTART:20270314T080000
END:DAYLIGHT
BEGIN:STANDARD
TZOFFSETFROM:-0500
TZOFFSETTO:-0600
TZNAME:CST
DTSTART:20271107T070000
END:STANDARD
END:VTIMEZONE
BEGIN:VEVENT
DTSTART;TZID=America/Chicago:20260501T100000
DTEND;TZID=America/Chicago:20260502T013000
DTSTAMP:20260421T053533
CREATED:20251218T003147Z
LAST-MODIFIED:20251218T003147Z
UID:101743-1777629600-1777685400@thetulsaartsdistrict.org
SUMMARY:First Friday Art Crawl in Tulsa Arts District
DESCRIPTION:
URL:https://thetulsaartsdistrict.org/event/first-friday-art-crawl-in-tulsa-arts-district-6/2026-05-01/
LOCATION:Tulsa Arts District\, 1 E Reconciliation Way\, Tulsa\, 74103\, United States
END:VEVENT
BEGIN:VEVENT
DTSTART;TZID=America/Chicago:20260501T110000
DTEND;TZID=America/Chicago:20260501T140000
DTSTAMP:20260421T053533
CREATED:20250621T162437Z
LAST-MODIFIED:20250621T162437Z
UID:102791-1777633200-1777644000@thetulsaartsdistrict.org
SUMMARY:Lunch Specials at Elgin Park
DESCRIPTION:
URL:https://thetulsaartsdistrict.org/event/lunch-specials-at-elgin-park-2-2025-12-30/2026-05-01/
LOCATION:Elgin Park Brewery\, 325 E Reconciliation Way\, Tulsa\, OK\, 74103\, United States
END:VEVENT
BEGIN:VEVENT
DTSTART;TZID=America/Chicago:20260501T110000
DTEND;TZID=America/Chicago:20260501T140000
DTSTAMP:20260421T053533
CREATED:20250621T164628Z
LAST-MODIFIED:20250621T164628Z
UID:102631-1777633200-1777644000@thetulsaartsdistrict.org
SUMMARY:Lunch Special at Empire Slice House
DESCRIPTION:
URL:https://thetulsaartsdistrict.org/event/lunch-special-at-empire-slice-house-2025-12-30/2026-05-01/
LOCATION:Empire Slice House Tulsa / 84 Hospitality Group\, 417 N Main Street\, Tulsa\, OK\, 74103\, United States
END:VEVENT
BEGIN:VEVENT
DTSTART;TZID=America/Chicago:20260501T120000
DTEND;TZID=America/Chicago:20260501T160000
DTSTAMP:20260421T053533
CREATED:20260322T185345Z
LAST-MODIFIED:20260405T205857Z
UID:115270-1777636800-1777651200@thetulsaartsdistrict.org
SUMMARY:Kenny Reams’s "Who Lives\, Who Dies\, Who Decides" at Living Arts - Free Admission
DESCRIPTION:
URL:https://thetulsaartsdistrict.org/event/kenny-reamss-who-lives-who-dies-who-decides-at-living-arts-2026-04-07/2026-05-01/
LOCATION:Living Arts of Tulsa\, 307 E. Reconciliation Way.\, Tulsa\, OK\, 74120\, United States
END:VEVENT
BEGIN:VEVENT
DTSTART;TZID=America/Chicago:20260501T120000
DTEND;TZID=America/Chicago:20260501T170000
DTSTAMP:20260421T053533
CREATED:20260322T182528Z
LAST-MODIFIED:20260409T132119Z
UID:115192-1777636800-1777654800@thetulsaartsdistrict.org
SUMMARY:Shawn Smith: Entangled Ecologies at 108 Contemporary - Free Admission
DESCRIPTION:
URL:https://thetulsaartsdistrict.org/event/shawn-smith-entangled-ecologies-at-108-contemporary-2026-04-04/2026-05-01/
LOCATION:108 Contemporary\, 108 E Reconciliation Way\, Tulsa\, OK\, 74103\, United States
END:VEVENT
BEGIN:VEVENT
DTSTART;TZID=America/Chicago:20260501T120000
DTEND;TZID=America/Chicago:20260501T180000
DTSTAMP:20260421T053533
CREATED:20260331T213915Z
LAST-MODIFIED:20260331T213915Z
UID:115818-1777636800-1777658400@thetulsaartsdistrict.org
SUMMARY:“A Dozen Loops: The Radical Voice of Woody Guthrie” + “Tom Paxton: A Car Full of Songs\,” + “The Melody of Riot: Jay Farrar\, Son Volt\, and the Legacy of Woody Guthrie\,” at Woody Guthrie Center
DESCRIPTION:
URL:https://thetulsaartsdistrict.org/event/a-dozen-loops-the-radical-voice-of-woody-guthrie-tom-paxton-a-car-full-of-songs-the-melody-of-riot-jay-farrar-son-volt-and-the-legacy-of-woo/2026-05-01/
LOCATION:Woody Guthrie Center\, 102 E Reconciliation Way\, Tulsa\, OK\, 74103\, United States
END:VEVENT
BEGIN:VEVENT
DTSTART;TZID=America/Chicago:20260501T140000
DTEND;TZID=America/Chicago:20260501T180000
DTSTAMP:20260421T053533
CREATED:20250621T171310Z
LAST-MODIFIED:20250621T171310Z
UID:102365-1777644000-1777658400@thetulsaartsdistrict.org
SUMMARY:Happy Hour\, 2-6pm! $2 off glass of wine / $4 off bottle of wine! $3.50 mules AND 1/2 price apps with any bar purchase! at The Chowhouse
DESCRIPTION:
URL:https://thetulsaartsdistrict.org/event/happy-hour-2-6pm-2-off-glass-of-wine-4-off-bottle-of-wine-3-50-mules-and-1-2-price-apps-with-any-bar-purchase-at-the-chowhouse-3-2025-12-26/2026-05-01/
LOCATION:The Chowhouse\, 18 E Reconciliation Way\, Tulsa\, OK\, 74103\, United States
END:VEVENT
BEGIN:VEVENT
DTSTART;TZID=America/Chicago:20260501T150000
DTEND;TZID=America/Chicago:20260501T180000
DTSTAMP:20260421T053533
CREATED:20240104T213250Z
LAST-MODIFIED:20260111T222304Z
UID:101029-1777647600-1777658400@thetulsaartsdistrict.org
SUMMARY:Happy Hour at Cabin Boys Brewpub
DESCRIPTION:Every Tues-Fri from 3-6pm we feature: $5 Draft Beer
URL:https://thetulsaartsdistrict.org/event/happy-hour-at-cabin-boys-brewpub-2024-07-25-2024-11-01-2025-09-19-2025-11-26/2026-05-01/
LOCATION:Cabin Boys Brewpub\, 223 N Main\, Tulsa\, OK\, 74103
END:VEVENT
BEGIN:VEVENT
DTSTART;TZID=America/Chicago:20260501T150000
DTEND;TZID=America/Chicago:20260501T180000
DTSTAMP:20260421T053533
CREATED:20250109T232936Z
LAST-MODIFIED:20260103T233026Z
UID:104320-1777647600-1777658400@thetulsaartsdistrict.org
SUMMARY:Happy Hour at Caz's Pub
DESCRIPTION:
URL:https://thetulsaartsdistrict.org/event/happy-hour-with-free-pool-at-cazs-pub-2025-06-30-2025-12-30/2026-05-01/
LOCATION:Caz’s Pub\, 21 E Reconciliation Way\, Tulsa\, OK\, 74103\, United States
END:VEVENT
BEGIN:VEVENT
DTSTART;TZID=America/Chicago:20260501T150000
DTEND;TZID=America/Chicago:20260501T180000
DTSTAMP:20260421T053533
CREATED:20250123T002406Z
LAST-MODIFIED:20251222T191930Z
UID:102506-1777647600-1777658400@thetulsaartsdistrict.org
SUMMARY:Happy Hour at Caz's Pub
DESCRIPTION:
URL:https://thetulsaartsdistrict.org/event/happy-hour-at-cazs-pub-2025-12-26-2026-01-02/2026-05-01/
LOCATION:Caz’s Pub\, 21 E Reconciliation Way\, Tulsa\, OK\, 74103\, United States
END:VEVENT
BEGIN:VEVENT
DTSTART;TZID=America/Chicago:20260501T150000
DTEND;TZID=America/Chicago:20260501T180000
DTSTAMP:20260421T053533
CREATED:20250621T220636Z
LAST-MODIFIED:20260123T225051Z
UID:103485-1777647600-1777658400@thetulsaartsdistrict.org
SUMMARY:Happy Hour at En Fuego
DESCRIPTION:
URL:https://thetulsaartsdistrict.org/event/happy-hour-at-en-fuego-3-2025-12-31/2026-05-01/
LOCATION:En Fuego\, 229 N Luther King Jr. Blvd\, Tulsa\, OK\, 74103\, United States
END:VEVENT
BEGIN:VEVENT
DTSTART;TZID=America/Chicago:20260501T150000
DTEND;TZID=America/Chicago:20260501T180000
DTSTAMP:20260421T053533
CREATED:20250831T145807Z
LAST-MODIFIED:20260124T161042Z
UID:102223-1777647600-1777658400@thetulsaartsdistrict.org
SUMMARY:Happy hour includes drinks and appetizers at Misfit Kitchen
DESCRIPTION:Tue-Sat 3-6
URL:https://thetulsaartsdistrict.org/event/happy-hour-includes-drinks-and-appetizers-at-misfit-kitchen-2025-12-30/2026-05-01/
LOCATION:Misfit Kitchen\, 111 N Main Street\, Tulsa\, OK\, 74103\, United States
END:VEVENT
BEGIN:VEVENT
DTSTART;TZID=America/Chicago:20260501T150000
DTEND;TZID=America/Chicago:20260501T180000
DTSTAMP:20260421T053533
CREATED:20251226T223854Z
LAST-MODIFIED:20251226T223854Z
UID:103374-1777647600-1777658400@thetulsaartsdistrict.org
SUMMARY:En Fuego Happy Hour
DESCRIPTION:
URL:https://thetulsaartsdistrict.org/event/en-fuego-happy-hour/2026-05-01/
LOCATION:OK
END:VEVENT
BEGIN:VEVENT
DTSTART;TZID=America/Chicago:20260501T160000
DTEND;TZID=America/Chicago:20260501T180000
DTSTAMP:20260421T053533
CREATED:20250622T145605Z
LAST-MODIFIED:20250622T145605Z
UID:104684-1777651200-1777658400@thetulsaartsdistrict.org
SUMMARY:Happy Hour at PRHYME Bar
DESCRIPTION:
URL:https://thetulsaartsdistrict.org/event/summer-happy-hour-at-prhyme-2025-08-22/2026-05-01/
LOCATION:PRHYME: Downtown Steakhouse\, 111 N Main Suite A\, Tulsa\, OK\, 74103\, United States
END:VEVENT
BEGIN:VEVENT
DTSTART;TZID=America/Chicago:20260501T160000
DTEND;TZID=America/Chicago:20260501T180000
DTSTAMP:20260421T053533
CREATED:20260116T161515Z
LAST-MODIFIED:20260124T184301Z
UID:105743-1777651200-1777658400@thetulsaartsdistrict.org
SUMMARY:French Hen Happy Hour 
DESCRIPTION:
URL:https://thetulsaartsdistrict.org/event/french-hen-happy-hour/2026-05-01/
LOCATION:The French Hen\, 319 E Archer St\, Tulsa\, OK\, 74120\, United States
END:VEVENT
BEGIN:VEVENT
DTSTART;TZID=America/Chicago:20260501T160000
DTEND;TZID=America/Chicago:20260501T180000
DTSTAMP:20260421T053533
CREATED:20260416T183807Z
LAST-MODIFIED:20260416T183807Z
UID:118342-1777651200-1777658400@thetulsaartsdistrict.org
SUMMARY:Happy Hour at Saturn Room
DESCRIPTION:
URL:https://thetulsaartsdistrict.org/event/happy-hour-at-saturn-room/2026-05-01/
LOCATION:Saturn Room\, 209 N Boulder\, Tulsa\, OK\, 74103\, United States
END:VEVENT
BEGIN:VEVENT
DTSTART;TZID=America/Chicago:20260501T170000
DTEND;TZID=America/Chicago:20260501T210000
DTSTAMP:20260421T053533
CREATED:20211230T225345Z
LAST-MODIFIED:20211230T225345Z
UID:101454-1777654800-1777669200@thetulsaartsdistrict.org
SUMMARY:Pie Night at Antoinette Bakery & Cafe
DESCRIPTION:
URL:https://thetulsaartsdistrict.org/event/pie-night-at-antoinette-baking-co-2023-07-01-2024-07-26-2024-12-27-2025-06-28-2025-12-27/2026-05-01/
LOCATION:Antoinette Bakery and Cafe\, 207 N Main\, Tulsa\, OK\, 74103\, United States
END:VEVENT
BEGIN:VEVENT
DTSTART;TZID=America/Chicago:20260501T170000
DTEND;TZID=America/Chicago:20260501T220000
DTSTAMP:20260421T053533
CREATED:20230630T212636Z
LAST-MODIFIED:20260124T194038Z
UID:101792-1777654800-1777672800@thetulsaartsdistrict.org
SUMMARY:Live music at Duet Restaurant from 6:30-9:30p
DESCRIPTION:
URL:https://thetulsaartsdistrict.org/event/live-music-at-duet-restaurant-from-7-9-pm-2023-09-16-2023-12-30-2024-06-29-2024-08-09-2024-12-14-2024-12-14-2024-12-28-2025-06-28-2025-12-27/2026-05-01/
LOCATION:Duet Jazz Restaurant\, 108 N Detroit\, Tulsa\, OK\, 74103\, United States
END:VEVENT
BEGIN:VEVENT
DTSTART;TZID=America/Chicago:20260501T180000
DTEND;TZID=America/Chicago:20260501T210000
DTSTAMP:20260421T053533
CREATED:20260412T211042Z
LAST-MODIFIED:20260412T211044Z
UID:118183-1777658400-1777669200@thetulsaartsdistrict.org
SUMMARY:$5 First Friday at LowDown - 18+
DESCRIPTION:
URL:https://thetulsaartsdistrict.org/event/5-first-friday-at-lowdown-18/
LOCATION:LowDown\, 108 N Detroit Ave (Basement)\, Tulsa\, OK\, 74103\, United States
END:VEVENT
BEGIN:VEVENT
DTSTART;TZID=America/Chicago:20260501T180000
DTEND;TZID=America/Chicago:20260501T210000
DTSTAMP:20260421T053533
CREATED:20260103T195029Z
LAST-MODIFIED:20260103T195029Z
UID:104193-1777658400-1777669200@thetulsaartsdistrict.org
SUMMARY:First Friday Pop-ups at Cabin Boys Brewpub
DESCRIPTION:
URL:https://thetulsaartsdistrict.org/event/first-friday-pop-ups-at-cabin-boys-brewpub/2026-05-01/
LOCATION:Cabin Boys Brewpub\, 223 N Main\, Tulsa\, OK\, 74103
END:VEVENT
BEGIN:VEVENT
DTSTART;TZID=America/Chicago:20260501T180000
DTEND;TZID=America/Chicago:20260501T210000
DTSTAMP:20260421T053533
CREATED:20260115T164917Z
LAST-MODIFIED:20260115T164917Z
UID:105560-1777658400-1777669200@thetulsaartsdistrict.org
SUMMARY:Tulsa Artist Fellowship Archer Studios Open House
DESCRIPTION:
URL:https://thetulsaartsdistrict.org/event/tulsa-artist-fellowship-archer-studios-open-house/2026-05-01/
LOCATION:Tulsa Artist Fellowship – Archer Studios\, 109 N ML King Blvd\, Tulsa\, OK\, 74103\, United States
END:VEVENT
BEGIN:VEVENT
DTSTART;TZID=America/Chicago:20260501T190000
DTEND;TZID=America/Chicago:20260501T223000
DTSTAMP:20260421T053533
CREATED:20260409T233526Z
LAST-MODIFIED:20260409T233528Z
UID:118107-1777662000-1777674600@thetulsaartsdistrict.org
SUMMARY:Dead Sugar's The Inland Tour at Chimera
DESCRIPTION:
URL:https://thetulsaartsdistrict.org/event/dead-sugars-the-inland-tour-at-chimera/
LOCATION:Chimera Café\, 212 N Main\, Tulsa\, OK\, 74103\, United States
END:VEVENT
BEGIN:VEVENT
DTSTART;TZID=America/Chicago:20260501T190000
DTEND;TZID=America/Chicago:20260501T210000
DTSTAMP:20260421T053533
CREATED:20260322T152716Z
LAST-MODIFIED:20260322T154857Z
UID:115112-1777662000-1777669200@thetulsaartsdistrict.org
SUMMARY:Tulsa Drillers vs San Antonio Missions at ONEOK Field in Greenwood + News On 6 K-Hits Friday Night Fireworks - Cancer Survivor Night
DESCRIPTION:
URL:https://thetulsaartsdistrict.org/event/tulsa-drillers-vs-san-antonio-missions-at-oneok-field-in-greenwood-4-2026-05-01/
LOCATION:Tulsa Drillers\, 201 N Elgin\, Tulsa\, OK\, 74120\, United States
END:VEVENT
BEGIN:VEVENT
DTSTART;TZID=America/Chicago:20260501T200000
DTEND;TZID=America/Chicago:20260501T220000
DTSTAMP:20260421T053533
CREATED:20260329T200456Z
LAST-MODIFIED:20260419T182954Z
UID:115655-1777665600-1777672800@thetulsaartsdistrict.org
SUMMARY:Inspyral Fire Circus: "The Traveler's Atlas" at Guthrie Green
DESCRIPTION:
URL:https://thetulsaartsdistrict.org/event/inspyral-circus-jam-at-guthrie-green-2-2026-05-01/
LOCATION:Guthrie Green\, 111 E Reconciliation Way\, Tulsa\, OK\, 74103\, United States
END:VEVENT
BEGIN:VEVENT
DTSTART;TZID=America/Chicago:20260501T210000
DTEND;TZID=America/Chicago:20260502T013000
DTSTAMP:20260421T053533
CREATED:20241228T210938Z
LAST-MODIFIED:20241228T210938Z
UID:101361-1777669200-1777685400@thetulsaartsdistrict.org
SUMMARY:First Friday Latin Infusion & Hoe You Think You Can Dance! Contest at Club Majestic at 12:30 am
DESCRIPTION:
URL:https://thetulsaartsdistrict.org/event/first-friday-latin-infusion-hoe-you-think-you-can-dance-contest-at-club-majestic-at-1230-am-2025-06-06-2025-12-05/2026-05-01/
LOCATION:Club Majestic\, 124 N Boston\, Tulsa\, OK\, 74103\, United States
END:VEVENT
BEGIN:VEVENT
DTSTART;TZID=America/Chicago:20260501T220000
DTEND;TZID=America/Chicago:20260501T233000
DTSTAMP:20260421T053533
CREATED:20260327T202337Z
LAST-MODIFIED:20260327T202339Z
UID:115500-1777672800-1777678200@thetulsaartsdistrict.org
SUMMARY:Hosty at Hunt Club
DESCRIPTION:
URL:https://thetulsaartsdistrict.org/event/hosty-at-hunt-club-11/
LOCATION:The Hunt Club\, 224 N Main\, Tulsa\, OK\, 74103\, United States
END:VEVENT
END:VCALENDAR