BEGIN:VCALENDAR
VERSION:2.0
PRODID:-//Tulsa Arts District - ECPv6.15.20//NONSGML v1.0//EN
CALSCALE:GREGORIAN
METHOD:PUBLISH
X-WR-CALNAME:Tulsa Arts District
X-ORIGINAL-URL:https://thetulsaartsdistrict.org
X-WR-CALDESC:Events for Tulsa Arts District
REFRESH-INTERVAL;VALUE=DURATION:PT1H
X-Robots-Tag:noindex
X-PUBLISHED-TTL:PT1H
BEGIN:VTIMEZONE
TZID:America/Chicago
BEGIN:DAYLIGHT
TZOFFSETFROM:-0600
TZOFFSETTO:-0500
TZNAME:CDT
DTSTART:20210314T080000
END:DAYLIGHT
BEGIN:STANDARD
TZOFFSETFROM:-0500
TZOFFSETTO:-0600
TZNAME:CST
DTSTART:20211107T070000
END:STANDARD
BEGIN:DAYLIGHT
TZOFFSETFROM:-0600
TZOFFSETTO:-0500
TZNAME:CDT
DTSTART:20220313T080000
END:DAYLIGHT
BEGIN:STANDARD
TZOFFSETFROM:-0500
TZOFFSETTO:-0600
TZNAME:CST
DTSTART:20221106T070000
END:STANDARD
BEGIN:DAYLIGHT
TZOFFSETFROM:-0600
TZOFFSETTO:-0500
TZNAME:CDT
DTSTART:20230312T080000
END:DAYLIGHT
BEGIN:STANDARD
TZOFFSETFROM:-0500
TZOFFSETTO:-0600
TZNAME:CST
DTSTART:20231105T070000
END:STANDARD
END:VTIMEZONE
BEGIN:VEVENT
DTSTART;TZID=America/Chicago:20221017T190000
DTEND;TZID=America/Chicago:20221017T213000
DTSTAMP:20260421T054308
CREATED:20220925T184232Z
LAST-MODIFIED:20220925T184233Z
UID:45161-1666033200-1666042200@thetulsaartsdistrict.org
SUMMARY:Marcus Mumford at Cain's Ballroom - SOLD OUT
DESCRIPTION:
URL:https://thetulsaartsdistrict.org/event/marcus-mumford-at-cains-ballroom-sold-out/
LOCATION:Cain’s Ballroom\, 423 N Main\, Tulsa\, OK\, 74103\, United States
END:VEVENT
BEGIN:VEVENT
DTSTART;TZID=America/Chicago:20221016T220000
DTEND;TZID=America/Chicago:20221017T013000
DTSTAMP:20260421T054308
CREATED:20221012T180951Z
LAST-MODIFIED:20221012T180952Z
UID:45773-1665957600-1665970200@thetulsaartsdistrict.org
SUMMARY:Miss Gay Tulsa America 2022 at Club Majestic
DESCRIPTION:
URL:https://thetulsaartsdistrict.org/event/miss-gay-tulsa-america-2022-at-club-majestic/
LOCATION:Club Majestic\, 124 N Boston\, Tulsa\, OK\, 74103\, United States
END:VEVENT
BEGIN:VEVENT
DTSTART;TZID=America/Chicago:20221016T190000
DTEND;TZID=America/Chicago:20221016T213000
DTSTAMP:20260421T054308
CREATED:20221013T220933Z
LAST-MODIFIED:20221013T220935Z
UID:45828-1665946800-1665955800@thetulsaartsdistrict.org
SUMMARY:NICK MASON’S SAUCERFUL OF SECRETS at Tulsa Theater
DESCRIPTION:
URL:https://thetulsaartsdistrict.org/event/nick-masons-saucerful-of-secrets-at-tulsa-theater/
LOCATION:Tulsa Theater\, 105 W Reconciliation Way\, Tulsa\, OK\, 74103\, United States
END:VEVENT
BEGIN:VEVENT
DTSTART;TZID=America/Chicago:20221016T190000
DTEND;TZID=America/Chicago:20221016T210000
DTSTAMP:20260421T054308
CREATED:20221012T120514Z
LAST-MODIFIED:20221012T121429Z
UID:45763-1665946800-1665954000@thetulsaartsdistrict.org
SUMMARY:Haystack Slim at Gypsy Coffeehouse
DESCRIPTION:
URL:https://thetulsaartsdistrict.org/event/haystack-slim-at-gypsy-coffeehouse/
LOCATION:Gypsy Coffee House & Cyber Café\, 303 N ML King Blvd\, Tulsa\, OK\, 74103\, United States
END:VEVENT
BEGIN:VEVENT
DTSTART;TZID=America/Chicago:20221016T170000
DTEND;TZID=America/Chicago:20221016T233000
DTSTAMP:20260421T054308
CREATED:20220912T125313Z
LAST-MODIFIED:20220928T214701Z
UID:44994-1665939600-1665963000@thetulsaartsdistrict.org
SUMMARY:*HAPPY HOUR COOKOUT W/ CHEF PAVEY!! + FEVEREST (5PM)** LATE SHOW W/ DESPERATE ELECTRIC (10PM) at Soundpony
DESCRIPTION:
URL:https://thetulsaartsdistrict.org/event/desperate-electric-at-soundpony/
LOCATION:Soundpony\, 409 N Main\, Tulsa\, OK\, 74103\, United States
END:VEVENT
BEGIN:VEVENT
DTSTART;TZID=America/Chicago:20221016T143000
DTEND;TZID=America/Chicago:20221016T183000
DTSTAMP:20260421T054308
CREATED:20221013T174747Z
LAST-MODIFIED:20221013T174749Z
UID:45816-1665930600-1665945000@thetulsaartsdistrict.org
SUMMARY:Sunday Concert: Brother Rabbit\, CBG & The Get Ahead Band\, Beau Jennings & The Tigers at Guthrie Green
DESCRIPTION:
URL:https://thetulsaartsdistrict.org/event/sunday-concert-brother-rabbit-cbg-the-get-ahead-band-beau-jennings-the-tigers-at-guthrie-green/
LOCATION:Guthrie Green\, 111 E Reconciliation Way\, Tulsa\, OK\, 74103\, United States
END:VEVENT
BEGIN:VEVENT
DTSTART;TZID=America/Chicago:20221016T130000
DTEND;TZID=America/Chicago:20221016T170000
DTSTAMP:20260421T054308
CREATED:20221009T151232Z
LAST-MODIFIED:20221009T151234Z
UID:45734-1665925200-1665939600@thetulsaartsdistrict.org
SUMMARY:STUDIO Sunday at ahha Tulsa
DESCRIPTION:
URL:https://thetulsaartsdistrict.org/event/studio-sunday-at-ahha-tulsa-2/
LOCATION:OK
END:VEVENT
BEGIN:VEVENT
DTSTART;TZID=America/Chicago:20221016T120000
DTEND;TZID=America/Chicago:20221016T190000
DTSTAMP:20260421T054308
CREATED:20260310T082058Z
LAST-MODIFIED:20260310T082058Z
UID:114121-1665921600-1665946800@thetulsaartsdistrict.org
SUMMARY:Sticker Book – Julie Alpert & Tour De Quartz & The EXPERIENCE at ahha Tulsa
DESCRIPTION:
URL:https://thetulsaartsdistrict.org/event/sticker-book-julie-alpert-the-experience-at-ahha-tulsa-2022-10-12/2022-10-16/
LOCATION:100 Civic Center\, Tulsa\, OK\, United States
END:VEVENT
BEGIN:VEVENT
DTSTART;TZID=America/Chicago:20221016T120000
DTEND;TZID=America/Chicago:20221016T190000
DTSTAMP:20260421T054308
CREATED:20260223T090716Z
LAST-MODIFIED:20260223T090716Z
UID:108065-1665921600-1665946800@thetulsaartsdistrict.org
SUMMARY:Sticker Book – Julie Alpert & Tour De Quartz & The EXPERIENCE at ahha Tulsa
DESCRIPTION:
URL:https://thetulsaartsdistrict.org/event/sticker-book-julie-alpert-the-experience-at-ahha-tulsa-2022-10-12/2022-10-16/
LOCATION:100 Civic Center\, Tulsa\, OK\, United States
END:VEVENT
BEGIN:VEVENT
DTSTART;TZID=America/Chicago:20221016T110000
DTEND;TZID=America/Chicago:20221016T150000
DTSTAMP:20260421T054308
CREATED:20220106T164856Z
LAST-MODIFIED:20221014T203832Z
UID:39743-1665918000-1665932400@thetulsaartsdistrict.org
SUMMARY:Brunch and Live Music by Chris Combs Trio (noon-2 pm) at Duet Restaurant
DESCRIPTION:
URL:https://thetulsaartsdistrict.org/event/brunch-and-live-music-noon-2-pm-at-duet-restaurant-3-2022-01-30-2022-10-16/
LOCATION:Duet Jazz Restaurant\, 108 N Detroit\, Tulsa\, OK\, 74103\, United States
END:VEVENT
BEGIN:VEVENT
DTSTART;TZID=America/Chicago:20221015T220000
DTEND;TZID=America/Chicago:20221016T010000
DTSTAMP:20260421T054308
CREATED:20220928T203636Z
LAST-MODIFIED:20221011T203416Z
UID:45378-1665871200-1665882000@thetulsaartsdistrict.org
SUMMARY:Belushi's Farm Product Release
DESCRIPTION:
URL:https://thetulsaartsdistrict.org/event/the-plumbers-at-the-hunt-club-8/
LOCATION:The Hunt Club\, 224 N Main\, Tulsa\, OK\, 74103\, United States
END:VEVENT
BEGIN:VEVENT
DTSTART;TZID=America/Chicago:20221015T220000
DTEND;TZID=America/Chicago:20221015T233000
DTSTAMP:20260421T054308
CREATED:20220912T125206Z
LAST-MODIFIED:20220912T125207Z
UID:44992-1665871200-1665876600@thetulsaartsdistrict.org
SUMMARY:MR. SOFTHEART at Soundpony
DESCRIPTION:
URL:https://thetulsaartsdistrict.org/event/mr-softheart-at-soundpony/
LOCATION:Soundpony\, 409 N Main\, Tulsa\, OK\, 74103\, United States
END:VEVENT
BEGIN:VEVENT
DTSTART;TZID=America/Chicago:20221015T200000
DTEND;TZID=America/Chicago:20221015T230000
DTSTAMP:20260421T054308
CREATED:20220927T211424Z
LAST-MODIFIED:20220927T211426Z
UID:45318-1665864000-1665874800@thetulsaartsdistrict.org
SUMMARY:Blue Whale Comedy Night: Ian Lara at LowDown
DESCRIPTION:
URL:https://thetulsaartsdistrict.org/event/blue-whale-comedy-night-ian-lara-at-lowdown/
LOCATION:LowDown\, 108 N Detroit Ave (Basement)\, Tulsa\, OK\, 74103\, United States
END:VEVENT
BEGIN:VEVENT
DTSTART;TZID=America/Chicago:20221015T193000
DTEND;TZID=America/Chicago:20221015T210000
DTSTAMP:20260421T054308
CREATED:20220827T144920Z
LAST-MODIFIED:20220827T144922Z
UID:44299-1665862200-1665867600@thetulsaartsdistrict.org
SUMMARY:FC Tulsa vs Memphis 901 at ONEOK Field in Greenwood
DESCRIPTION:
URL:https://thetulsaartsdistrict.org/event/fc-tulsa-vs-memphis-901-at-oneok-field-in-greenwood/
LOCATION:FC Tulsa\, 1155 S. Elgin Ave.\, Tulsa\, OK\, 74120\, United States
END:VEVENT
BEGIN:VEVENT
DTSTART;TZID=America/Chicago:20221015T190000
DTEND;TZID=America/Chicago:20221015T210000
DTSTAMP:20260421T054308
CREATED:20220106T174326Z
LAST-MODIFIED:20221014T203419Z
UID:39643-1665860400-1665867600@thetulsaartsdistrict.org
SUMMARY:Live Music by Margie Tanner & Company (7-10 pm) at Duet Restaurant
DESCRIPTION:
URL:https://thetulsaartsdistrict.org/event/live-music-7-9pm-at-duet-restaurant-2022-01-14-2022-05-27-2022-05-27-2022-10-15/
LOCATION:Duet Jazz Restaurant\, 108 N Detroit\, Tulsa\, OK\, 74103\, United States
END:VEVENT
BEGIN:VEVENT
DTSTART;TZID=America/Chicago:20221015T173000
DTEND;TZID=America/Chicago:20221015T193000
DTSTAMP:20260421T054308
CREATED:20220909T185711Z
LAST-MODIFIED:20220909T185712Z
UID:44866-1665855000-1665862200@thetulsaartsdistrict.org
SUMMARY:Anvdvnelisgi ᎠᏅᏛᏁᎵᏍᎩ Cherokee Language Concert at Woody Guthrie Center
DESCRIPTION:
URL:https://thetulsaartsdistrict.org/event/anvdvnelisgi-%ea%ad%b0%ea%ae%95%ea%ae%ab%ea%ae%91%ea%ae%85%ea%ae%9d%ea%ad%b9-cherokee-language-concert-at-woody-guthrie-center/
LOCATION:Woody Guthrie Center\, 102 E Reconciliation Way\, Tulsa\, OK\, 74103\, United States
END:VEVENT
BEGIN:VEVENT
DTSTART;TZID=America/Chicago:20221015T170000
DTEND;TZID=America/Chicago:20221015T190000
DTSTAMP:20260421T054308
CREATED:20220925T183038Z
LAST-MODIFIED:20220925T184103Z
UID:45158-1665853200-1665860400@thetulsaartsdistrict.org
SUMMARY:ANVDVNELISGI ᎠᏅᏛᏁᎵᏍᎩ CHEROKEE LANGUAGE CONCERT at Cain's Ballroom
DESCRIPTION:
URL:https://thetulsaartsdistrict.org/event/anvdvnelisgi-%ea%ad%b0%ea%ae%95%ea%ae%ab%ea%ae%91%ea%ae%85%ea%ae%9d%ea%ad%b9-cherokee-language-concert-at-cains-ballroom/
LOCATION:Cain’s Ballroom\, 423 N Main\, Tulsa\, OK\, 74103\, United States
END:VEVENT
BEGIN:VEVENT
DTSTART;TZID=America/Chicago:20221015T140000
DTEND;TZID=America/Chicago:20221015T220000
DTSTAMP:20260421T054308
CREATED:20220930T214540Z
LAST-MODIFIED:20220930T214541Z
UID:45572-1665842400-1665871200@thetulsaartsdistrict.org
SUMMARY:Chili on the Green Presented by the Kiwanis Club of Tulsa at Guthrie Green
DESCRIPTION:
URL:https://thetulsaartsdistrict.org/event/chili-on-the-green-presented-by-the-kiwanis-club-of-tulsa-at-guthrie-green/
LOCATION:Guthrie Green\, 111 E Reconciliation Way\, Tulsa\, OK\, 74103\, United States
END:VEVENT
BEGIN:VEVENT
DTSTART;TZID=America/Chicago:20221015T140000
DTEND;TZID=America/Chicago:20221015T210000
DTSTAMP:20260421T054308
CREATED:20221005T140507Z
LAST-MODIFIED:20221018T161429Z
UID:45649-1665842400-1665867600@thetulsaartsdistrict.org
SUMMARY:SOAKED: Bread Pudding/Tres Leches POP-UP at Beatrice Ice Cream location
DESCRIPTION:
URL:https://thetulsaartsdistrict.org/event/soaked-bread-pudding-tres-leches-pop-up-at-beatrice-ice-cream-location-2022-10-15/2022-10-15/
LOCATION:Beatrice Ice Cream Co.\, 11 E Reconciliation Way\, Tulsa\, OK\, 74103
END:VEVENT
BEGIN:VEVENT
DTSTART;TZID=America/Chicago:20221015T103000
DTEND;TZID=America/Chicago:20221015T123000
DTSTAMP:20260421T054308
CREATED:20220820T213738Z
LAST-MODIFIED:20220820T213740Z
UID:44077-1665829800-1665837000@thetulsaartsdistrict.org
SUMMARY:Panel Discussion: “This Land Is Whose Land?” at Woody Guthrie Center
DESCRIPTION:
URL:https://thetulsaartsdistrict.org/event/panel-discussion-this-land-is-whose-land-at-woody-guthrie-center/
LOCATION:Woody Guthrie Center\, 102 E Reconciliation Way\, Tulsa\, OK\, 74103\, United States
END:VEVENT
BEGIN:VEVENT
DTSTART;TZID=America/Chicago:20221014T220000
DTEND;TZID=America/Chicago:20221015T010000
DTSTAMP:20260421T054308
CREATED:20220928T203449Z
LAST-MODIFIED:20221015T122203Z
UID:45375-1665784800-1665795600@thetulsaartsdistrict.org
SUMMARY:Garrett Brown at The Hunt Club
DESCRIPTION:
URL:https://thetulsaartsdistrict.org/event/garrett-brown-at-the-hunt-club/
LOCATION:The Hunt Club\, 224 N Main\, Tulsa\, OK\, 74103\, United States
END:VEVENT
BEGIN:VEVENT
DTSTART;TZID=America/Chicago:20221014T220000
DTEND;TZID=America/Chicago:20221014T233000
DTSTAMP:20260421T054308
CREATED:20221003T221244Z
LAST-MODIFIED:20221011T201718Z
UID:45579-1665784800-1665790200@thetulsaartsdistrict.org
SUMMARY:DJ FOXY at Saturn Room
DESCRIPTION:
URL:https://thetulsaartsdistrict.org/event/dj-heartwerk-at-saturn-room-2/
LOCATION:Saturn Room\, 209 N Boulder\, Tulsa\, OK\, 74103\, United States
END:VEVENT
BEGIN:VEVENT
DTSTART;TZID=America/Chicago:20221014T220000
DTEND;TZID=America/Chicago:20221014T233000
DTSTAMP:20260421T054308
CREATED:20220912T125105Z
LAST-MODIFIED:20220912T125106Z
UID:44989-1665784800-1665790200@thetulsaartsdistrict.org
SUMMARY:SOUL NIGHT W/ DJ SWEET BABY JAYSUS AND AFISTAFACE! at Soundpony
DESCRIPTION:
URL:https://thetulsaartsdistrict.org/event/soul-night-w-dj-sweet-baby-jaysus-and-afistaface-at-soundpony/
LOCATION:Soundpony\, 409 N Main\, Tulsa\, OK\, 74103\, United States
END:VEVENT
BEGIN:VEVENT
DTSTART;TZID=America/Chicago:20221014T213000
DTEND;TZID=America/Chicago:20221014T223000
DTSTAMP:20260421T054308
CREATED:20221012T180603Z
LAST-MODIFIED:20221012T180605Z
UID:45769-1665783000-1665786600@thetulsaartsdistrict.org
SUMMARY:Bad Boys On The Block! at Club Majestic
DESCRIPTION:Bad Boys On The Block!  Hosted by Scrappy Legacy \n\n\n\nFeaturing Adam Mitchelle Legacy\, Londenn D. Raine\, special guests\, D’Angelo\, Vincent Van Rose\, \n\n\n\nand LL killjoy.
URL:https://thetulsaartsdistrict.org/event/bad-boys-on-the-block-at-club-majestic-16/
LOCATION:Club Majestic\, 124 N Boston\, Tulsa\, OK\, 74103\, United States
END:VEVENT
BEGIN:VEVENT
DTSTART;TZID=America/Chicago:20221014T203000
DTEND;TZID=America/Chicago:20221014T223000
DTSTAMP:20260421T054308
CREATED:20220820T213431Z
LAST-MODIFIED:20221013T225910Z
UID:44074-1665779400-1665786600@thetulsaartsdistrict.org
SUMMARY:Panel Discussion: AFRICAN AMERICAN TRADITIONAL MUSIC\, HISTORY AND THE BLACK EXPERIENCE: BLACK OKLAHOMA BLUES at Woody Guthrie Center
DESCRIPTION:
URL:https://thetulsaartsdistrict.org/event/lecture-african-american-traditional-music-history-and-the-black-experience-black-oklahoma-blues/
LOCATION:Woody Guthrie Center\, 102 E Reconciliation Way\, Tulsa\, OK\, 74103\, United States
END:VEVENT
BEGIN:VEVENT
DTSTART;TZID=America/Chicago:20221014T200000
DTEND;TZID=America/Chicago:20221014T230000
DTSTAMP:20260421T054308
CREATED:20220927T211252Z
LAST-MODIFIED:20220927T211253Z
UID:45315-1665777600-1665788400@thetulsaartsdistrict.org
SUMMARY:John Hanrahan Quartet at LowDown
DESCRIPTION:
URL:https://thetulsaartsdistrict.org/event/john-hanrahan-quartet-at-lowdown/
LOCATION:LowDown\, 108 N Detroit Ave (Basement)\, Tulsa\, OK\, 74103\, United States
END:VEVENT
BEGIN:VEVENT
DTSTART;TZID=America/Chicago:20221014T190000
DTEND;TZID=America/Chicago:20221014T213000
DTSTAMP:20260421T054308
CREATED:20220925T182844Z
LAST-MODIFIED:20220925T182845Z
UID:45155-1665774000-1665783000@thetulsaartsdistrict.org
SUMMARY:The Great Divide and The Reeves Brothers at Cain's Ballroom
DESCRIPTION:
URL:https://thetulsaartsdistrict.org/event/the-great-divide-and-the-reeves-brothers-at-cains-ballroom/
LOCATION:Cain’s Ballroom\, 423 N Main\, Tulsa\, OK\, 74103\, United States
END:VEVENT
BEGIN:VEVENT
DTSTART;TZID=America/Chicago:20221014T190000
DTEND;TZID=America/Chicago:20221014T210000
DTSTAMP:20260421T054308
CREATED:20220106T174326Z
LAST-MODIFIED:20221014T203252Z
UID:39642-1665774000-1665781200@thetulsaartsdistrict.org
SUMMARY:Live Music by Jack Wolf and the Wolfpack (7-10 pm) at Duet Restaurant
DESCRIPTION:
URL:https://thetulsaartsdistrict.org/event/live-music-7-9pm-at-duet-restaurant-2022-01-14-2022-05-27-2022-05-27-2022-10-14/
LOCATION:Duet Jazz Restaurant\, 108 N Detroit\, Tulsa\, OK\, 74103\, United States
END:VEVENT
BEGIN:VEVENT
DTSTART;TZID=America/Chicago:20221014T180000
DTEND;TZID=America/Chicago:20221014T220000
DTSTAMP:20260421T054308
CREATED:20221012T221432Z
LAST-MODIFIED:20221012T221433Z
UID:45812-1665770400-1665784800@thetulsaartsdistrict.org
SUMMARY:Festival de la Herencia Hispana / Hispanic Heritage Festival at Guthrie Green hosted by Escuelas Públicas de Tulsa and Vega and Treviño Consultants
DESCRIPTION:
URL:https://thetulsaartsdistrict.org/event/festival-de-la-herencia-hispana-hispanic-heritage-festival-at-guthrie-green-hosted-by-escuelas-publicas-de-tulsa-and-vega-and-trevino-consultants/
LOCATION:Guthrie Green\, 111 E Reconciliation Way\, Tulsa\, OK\, 74103\, United States
END:VEVENT
BEGIN:VEVENT
DTSTART;TZID=America/Chicago:20221014T130000
DTEND;TZID=America/Chicago:20221014T200000
DTSTAMP:20260421T054308
CREATED:20221005T140507Z
LAST-MODIFIED:20221005T140509Z
UID:45646-1665752400-1665777600@thetulsaartsdistrict.org
SUMMARY:SOAKED: Bread Pudding/Tres Leches POP-UP at Beatrice Ice Cream location
DESCRIPTION:
URL:https://thetulsaartsdistrict.org/event/soaked-bread-pudding-tres-leches-pop-up-at-beatrice-ice-cream-location/2022-10-14/
LOCATION:Beatrice Ice Cream Co.\, 11 E Reconciliation Way\, Tulsa\, OK\, 74103
END:VEVENT
END:VCALENDAR