BEGIN:VCALENDAR
VERSION:2.0
PRODID:-//Tulsa Arts District - ECPv6.15.20//NONSGML v1.0//EN
CALSCALE:GREGORIAN
METHOD:PUBLISH
X-WR-CALNAME:Tulsa Arts District
X-ORIGINAL-URL:https://thetulsaartsdistrict.org
X-WR-CALDESC:Events for Tulsa Arts District
REFRESH-INTERVAL;VALUE=DURATION:PT1H
X-Robots-Tag:noindex
X-PUBLISHED-TTL:PT1H
BEGIN:VTIMEZONE
TZID:America/Chicago
BEGIN:DAYLIGHT
TZOFFSETFROM:-0600
TZOFFSETTO:-0500
TZNAME:CDT
DTSTART:20230312T080000
END:DAYLIGHT
BEGIN:STANDARD
TZOFFSETFROM:-0500
TZOFFSETTO:-0600
TZNAME:CST
DTSTART:20231105T070000
END:STANDARD
BEGIN:DAYLIGHT
TZOFFSETFROM:-0600
TZOFFSETTO:-0500
TZNAME:CDT
DTSTART:20240310T080000
END:DAYLIGHT
BEGIN:STANDARD
TZOFFSETFROM:-0500
TZOFFSETTO:-0600
TZNAME:CST
DTSTART:20241103T070000
END:STANDARD
BEGIN:DAYLIGHT
TZOFFSETFROM:-0600
TZOFFSETTO:-0500
TZNAME:CDT
DTSTART:20250309T080000
END:DAYLIGHT
BEGIN:STANDARD
TZOFFSETFROM:-0500
TZOFFSETTO:-0600
TZNAME:CST
DTSTART:20251102T070000
END:STANDARD
END:VTIMEZONE
BEGIN:VEVENT
DTSTART;TZID=America/Chicago:20241202T220000
DTEND;TZID=America/Chicago:20241202T230000
DTSTAMP:20260419T133718
CREATED:20241201T143228Z
LAST-MODIFIED:20241201T154227Z
UID:83555-1733176800-1733180400@thetulsaartsdistrict.org
SUMMARY:Soundpony Comedy Hour - hosted by Evan Hughes
DESCRIPTION:
URL:https://thetulsaartsdistrict.org/event/soundpony-comedy-hour-hosted-by-evan-hughes-10/
LOCATION:Soundpony\, 409 N Main\, Tulsa\, OK\, 74103\, United States
END:VEVENT
BEGIN:VEVENT
DTSTART;TZID=America/Chicago:20241201T220000
DTEND;TZID=America/Chicago:20241202T010000
DTSTAMP:20260419T133718
CREATED:20241130T221306Z
LAST-MODIFIED:20241130T221308Z
UID:83548-1733090400-1733101200@thetulsaartsdistrict.org
SUMMARY:Mickyle James at Soundpony
DESCRIPTION:
URL:https://thetulsaartsdistrict.org/event/mickyle-james-at-soundpony/
LOCATION:Soundpony\, 409 N Main\, Tulsa\, OK\, 74103\, United States
END:VEVENT
BEGIN:VEVENT
DTSTART;TZID=America/Chicago:20241201T180000
DTEND;TZID=America/Chicago:20241201T193000
DTSTAMP:20260419T133718
CREATED:20241130T222151Z
LAST-MODIFIED:20241130T222240Z
UID:83551-1733076000-1733081400@thetulsaartsdistrict.org
SUMMARY:12th Annual First Lady Nog Off hosted by Tulsa Arts District Business Association at Living Arts
DESCRIPTION:Nog Off is a friendly contest between the Tulsa Arts District’s restaurants and bars providing an unusual opportunity to sample the establishments’ egg nog and glogg (spiced mulled wine) quaffs. \n\n\n\nYour entire donation is directed to Emerson Elementary School Art Department. The event is completely underwritten by Tulsa Arts District Business Association.
URL:https://thetulsaartsdistrict.org/event/12th-annual-first-lady-nog-off-hosted-by-tulsa-arts-district-business-association-at-living-arts/
LOCATION:Living Arts of Tulsa\, 307 E. Reconciliation Way.\, Tulsa\, OK\, 74120\, United States
END:VEVENT
BEGIN:VEVENT
DTSTART;TZID=America/Chicago:20241201T170000
DTEND;TZID=America/Chicago:20241201T200000
DTSTAMP:20260419T133718
CREATED:20230527T155413Z
LAST-MODIFIED:20241130T221003Z
UID:73673-1733072400-1733083200@thetulsaartsdistrict.org
SUMMARY:Sunday Song Swap with Billy Moore and Amber Watson at The Hunt Club
DESCRIPTION:
URL:https://thetulsaartsdistrict.org/event/sunday-set-at-the-hunt-club-2023-08-27-2023-09-03-2024-06-30-2024-12-01/
LOCATION:The Hunt Club\, 224 N Main\, Tulsa\, OK\, 74103\, United States
END:VEVENT
BEGIN:VEVENT
DTSTART;TZID=America/Chicago:20241201T150000
DTEND;TZID=America/Chicago:20241201T160000
DTSTAMP:20260419T133718
CREATED:20241127T142722Z
LAST-MODIFIED:20241127T142724Z
UID:83363-1733065200-1733068800@thetulsaartsdistrict.org
SUMMARY:Vintage Barbie Museum Guided Tour
DESCRIPTION:
URL:https://thetulsaartsdistrict.org/event/vintage-barbie-museum-guided-tour/
LOCATION:Vintage Barbie Museum – Pop Up Shop\, 216 N Main Street\, Tulsa\, OK\, 74103\, United States
END:VEVENT
BEGIN:VEVENT
DTSTART;TZID=America/Chicago:20241201T130000
DTEND;TZID=America/Chicago:20241201T170000
DTSTAMP:20260419T133718
CREATED:20241122T210515Z
LAST-MODIFIED:20241122T210634Z
UID:83336-1733058000-1733072400@thetulsaartsdistrict.org
SUMMARY:Take Advantage of TAC Art Photography Week - Pick Up
DESCRIPTION:
URL:https://thetulsaartsdistrict.org/event/take-advantage-of-tac-art-photography-week-2024-12-01/
LOCATION:Tulsa Artists’ Coalition\, 9 E Reconciliation Way\, Tulsa\, OK\, 74103\, United States
END:VEVENT
BEGIN:VEVENT
DTSTART;TZID=America/Chicago:20241201T103000
DTEND;TZID=America/Chicago:20241201T113000
DTSTAMP:20260419T133718
CREATED:20240811T192614Z
LAST-MODIFIED:20240811T195220Z
UID:78935-1733049000-1733052600@thetulsaartsdistrict.org
SUMMARY:The Morning After Book Club: "A Merry Little Meet Cute" by Julie Murphy and Sierra Simone at Magic City Books
DESCRIPTION:
URL:https://thetulsaartsdistrict.org/event/the-morning-after-at-magic-city-books-2024-12-01/
LOCATION:TBD\, Tulsa\, ok
END:VEVENT
BEGIN:VEVENT
DTSTART;TZID=America/Chicago:20241130T220000
DTEND;TZID=America/Chicago:20241130T233000
DTSTAMP:20260419T133718
CREATED:20241027T214117Z
LAST-MODIFIED:20241027T214120Z
UID:82549-1733004000-1733009400@thetulsaartsdistrict.org
SUMMARY:Sky Run Roger at Soundpony
DESCRIPTION:
URL:https://thetulsaartsdistrict.org/event/sky-run-roger-at-soundpony-13/
LOCATION:Soundpony\, 409 N Main\, Tulsa\, OK\, 74103\, United States
END:VEVENT
BEGIN:VEVENT
DTSTART;TZID=America/Chicago:20241130T210000
DTEND;TZID=America/Chicago:20241201T000000
DTSTAMP:20260419T133718
CREATED:20241027T205725Z
LAST-MODIFIED:20241130T220500Z
UID:82510-1733000400-1733011200@thetulsaartsdistrict.org
SUMMARY:David Hernandez Trio at The Hunt Club
DESCRIPTION:
URL:https://thetulsaartsdistrict.org/event/fauntleroy-and-the-pickled-okra-playboys-at-the-hunt-club-2/
LOCATION:The Hunt Club\, 224 N Main\, Tulsa\, OK\, 74103\, United States
END:VEVENT
BEGIN:VEVENT
DTSTART;TZID=America/Chicago:20241130T210000
DTEND;TZID=America/Chicago:20241130T233000
DTSTAMP:20260419T133718
CREATED:20241125T184807Z
LAST-MODIFIED:20241125T184810Z
UID:83350-1733000400-1733009400@thetulsaartsdistrict.org
SUMMARY:Mike Cameron Collective at Saturn Room
DESCRIPTION:
URL:https://thetulsaartsdistrict.org/event/mike-cameron-collective-at-saturn-room-2/
LOCATION:Saturn Room\, 209 N Boulder\, Tulsa\, OK\, 74103\, United States
END:VEVENT
BEGIN:VEVENT
DTSTART;TZID=America/Chicago:20241130T200000
DTEND;TZID=America/Chicago:20241130T223000
DTSTAMP:20260419T133718
CREATED:20241027T194808Z
LAST-MODIFIED:20241027T194810Z
UID:82477-1732996800-1733005800@thetulsaartsdistrict.org
SUMMARY:Blue Whale Comedy Night feat. Lizzy Cooperman at LowDown - 21+
DESCRIPTION:
URL:https://thetulsaartsdistrict.org/event/blue-whale-comedy-night-feat-lizzy-cooperman-at-lowdown-21/
LOCATION:LowDown\, 108 N Detroit Ave (Basement)\, Tulsa\, OK\, 74103\, United States
END:VEVENT
BEGIN:VEVENT
DTSTART;TZID=America/Chicago:20241130T193000
DTEND;TZID=America/Chicago:20241130T213000
DTSTAMP:20260419T133718
CREATED:20241029T201713Z
LAST-MODIFIED:20241029T201715Z
UID:82634-1732995000-1733002200@thetulsaartsdistrict.org
SUMMARY:Tulsa Symphony Orchestra\, led by Maestro Hector Guzman\, for a spectacular Christmas event featuring the world-renowned Mariachi Los Camperos at Tulsa PAC
DESCRIPTION:
URL:https://thetulsaartsdistrict.org/event/tulsa-symphony-orchestra-led-by-maestro-hector-guzman-for-a-spectacular-christmas-event-featuring-the-world-renowned-mariachi-los-camperos-at-tulsa-pac/
LOCATION:Tulsa Symphony Orchestra\, 117 N Boston 2nd floor\, Tulsa\, OK\, 74103\, United States
END:VEVENT
BEGIN:VEVENT
DTSTART;TZID=America/Chicago:20241130T190000
DTEND;TZID=America/Chicago:20241130T210000
DTSTAMP:20260419T133718
CREATED:20241026T211531Z
LAST-MODIFIED:20241026T211533Z
UID:82357-1732993200-1733000400@thetulsaartsdistrict.org
SUMMARY:Cancer Sucks Concert featuring Stephen Pearcy of Ratt and special guests Quiet Riot at Cain's Ballroom
DESCRIPTION:
URL:https://thetulsaartsdistrict.org/event/cancer-sucks-concert-featuring-stephen-pearcy-of-ratt-and-special-guests-quiet-riot-at-cains-ballroom/
LOCATION:Cain’s Ballroom\, 423 N Main\, Tulsa\, OK\, 74103\, United States
END:VEVENT
BEGIN:VEVENT
DTSTART;TZID=America/Chicago:20241129T213000
DTEND;TZID=America/Chicago:20241130T003000
DTSTAMP:20260419T133718
CREATED:20241027T205457Z
LAST-MODIFIED:20241129T180031Z
UID:82508-1732915800-1732926600@thetulsaartsdistrict.org
SUMMARY:BC and the Big Rig with Eli Howard at The Hunt Club
DESCRIPTION:
URL:https://thetulsaartsdistrict.org/event/bc-and-the-big-rig-at-the-hunt-club-23/
LOCATION:The Hunt Club\, 224 N Main\, Tulsa\, OK\, 74103\, United States
END:VEVENT
BEGIN:VEVENT
DTSTART;TZID=America/Chicago:20241129T200000
DTEND;TZID=America/Chicago:20241129T230000
DTSTAMP:20260419T133718
CREATED:20241027T194550Z
LAST-MODIFIED:20241027T194551Z
UID:82474-1732910400-1732921200@thetulsaartsdistrict.org
SUMMARY:Gabriel Royal at LowDown - 21+
DESCRIPTION:
URL:https://thetulsaartsdistrict.org/event/gabriel-royal-at-lowdown-21/
LOCATION:LowDown\, 108 N Detroit Ave (Basement)\, Tulsa\, OK\, 74103\, United States
END:VEVENT
BEGIN:VEVENT
DTSTART;TZID=America/Chicago:20241129T190000
DTEND;TZID=America/Chicago:20241129T210000
DTSTAMP:20260419T133718
CREATED:20241026T211139Z
LAST-MODIFIED:20241026T211140Z
UID:82354-1732906800-1732914000@thetulsaartsdistrict.org
SUMMARY:19th Annual Leftover Turkey - Jason Boland & The Stragglers with Kat Hasty\, Red Dirt Rangers at Cain's Ballroom - All ages
DESCRIPTION:
URL:https://thetulsaartsdistrict.org/event/19th-annual-leftover-turkey-jason-boland-the-stragglers-with-kat-hasty-red-dirt-rangers-at-cains-ballroom-all-ages/
LOCATION:Cain’s Ballroom\, 423 N Main\, Tulsa\, OK\, 74103\, United States
END:VEVENT
BEGIN:VEVENT
DTSTART;TZID=America/Chicago:20241129T160000
DTEND;TZID=America/Chicago:20241129T220000
DTSTAMP:20260419T133718
CREATED:20241107T220815Z
LAST-MODIFIED:20241120T232920Z
UID:83119-1732896000-1732917600@thetulsaartsdistrict.org
SUMMARY:Sippin' Santa Launch Party at Saturn Room
DESCRIPTION:
URL:https://thetulsaartsdistrict.org/event/sippin-santa-launch-party-at-saturn-room/
LOCATION:Saturn Room\, 209 N Boulder\, Tulsa\, OK\, 74103\, United States
END:VEVENT
BEGIN:VEVENT
DTSTART;TZID=America/Chicago:20241129T120000
DTEND;TZID=America/Chicago:20241129T170000
DTSTAMP:20260419T133718
CREATED:20241128T164323Z
LAST-MODIFIED:20241128T164325Z
UID:83412-1732881600-1732899600@thetulsaartsdistrict.org
SUMMARY:BLACK FRIDAY SALE! 20% OFF SHOP108 Contemporary
DESCRIPTION:
URL:https://thetulsaartsdistrict.org/event/black-friday-sale-20-off-shop108-contemporary/2024-11-29/
LOCATION:108 Contemporary\, 108 E Reconciliation Way\, Tulsa\, OK\, 74103\, United States
END:VEVENT
BEGIN:VEVENT
DTSTART;TZID=America/Chicago:20241129T090000
DTEND;TZID=America/Chicago:20241129T190000
DTSTAMP:20260419T133718
CREATED:20241127T143358Z
LAST-MODIFIED:20241128T155408Z
UID:83366-1732870800-1732906800@thetulsaartsdistrict.org
SUMMARY:Vintage Barbie Museum
DESCRIPTION:
URL:https://thetulsaartsdistrict.org/event/vintage-barbie-museum/2024-11-29/
LOCATION:Vintage Barbie Museum – Pop Up Shop\, 216 N Main Street\, Tulsa\, OK\, 74103\, United States
END:VEVENT
BEGIN:VEVENT
DTSTART;TZID=America/Chicago:20241128T220000
DTEND;TZID=America/Chicago:20241128T233000
DTSTAMP:20260419T133718
CREATED:20241125T203537Z
LAST-MODIFIED:20241125T203540Z
UID:83354-1732831200-1732836600@thetulsaartsdistrict.org
SUMMARY:Thanksgiving Roast at Club Majestic
DESCRIPTION:
URL:https://thetulsaartsdistrict.org/event/thanksgiving-roast-at-club-majestic-2/
LOCATION:Club Majestic\, 124 N Boston\, Tulsa\, OK\, 74103\, United States
END:VEVENT
BEGIN:VEVENT
DTSTART;TZID=America/Chicago:20241127T220000
DTEND;TZID=America/Chicago:20241127T233000
DTSTAMP:20260419T133719
CREATED:20241027T213918Z
LAST-MODIFIED:20241027T213921Z
UID:82546-1732744800-1732750200@thetulsaartsdistrict.org
SUMMARY:DJ Seth Styles at Soundpony
DESCRIPTION:
URL:https://thetulsaartsdistrict.org/event/dj-seth-styles-at-soundpony-6/
LOCATION:Soundpony\, 409 N Main\, Tulsa\, OK\, 74103\, United States
END:VEVENT
BEGIN:VEVENT
DTSTART;TZID=America/Chicago:20241127T190000
DTEND;TZID=America/Chicago:20241127T220000
DTSTAMP:20260419T133719
CREATED:20241027T193219Z
LAST-MODIFIED:20241027T202447Z
UID:82458-1732734000-1732744800@thetulsaartsdistrict.org
SUMMARY:Free Energy: All-Ages Jazz Jam at LowDown
DESCRIPTION:
URL:https://thetulsaartsdistrict.org/event/free-energy-all-ages-jazz-jam-at-lowdown-43-2024-11-27/
LOCATION:LowDown\, 108 N Detroit Ave (Basement)\, Tulsa\, OK\, 74103\, United States
END:VEVENT
BEGIN:VEVENT
DTSTART;TZID=America/Chicago:20241127T080000
DTEND;TZID=America/Chicago:20241127T233000
DTSTAMP:20260419T133719
CREATED:20230119T143844Z
LAST-MODIFIED:20241029T182745Z
UID:74859-1732694400-1732750200@thetulsaartsdistrict.org
SUMMARY:Every Wednesday is Veteran's Day at Eufloria & Gypsy Coffeehouse
DESCRIPTION:All veterans receive 20% off their entire purchase.
URL:https://thetulsaartsdistrict.org/event/every-wednesday-is-veterans-day-at-eufloria-2023-12-27-2024-06-26-2024-11-27-2024-11-27/2024-11-27/
LOCATION:Gypsy Coffee House & Cyber Café\, 303 N ML King Blvd\, Tulsa\, OK\, 74103\, United States
END:VEVENT
BEGIN:VEVENT
DTSTART;TZID=America/Chicago:20241126T190000
DTEND;TZID=America/Chicago:20241126T210000
DTSTAMP:20260419T133719
CREATED:20241125T211212Z
LAST-MODIFIED:20241125T211214Z
UID:83358-1732647600-1732654800@thetulsaartsdistrict.org
SUMMARY:Lisandro Boccacci Presents Local Short Film Screenings at The Hunt Club
DESCRIPTION:
URL:https://thetulsaartsdistrict.org/event/lisandro-boccacci-presents-local-short-film-screenings-at-the-hunt-club/
LOCATION:The Hunt Club\, 224 N Main\, Tulsa\, OK\, 74103\, United States
END:VEVENT
BEGIN:VEVENT
DTSTART;TZID=America/Chicago:20241126T183000
DTEND;TZID=America/Chicago:20241126T203000
DTSTAMP:20260419T133719
CREATED:20241121T231821Z
LAST-MODIFIED:20241121T231824Z
UID:83317-1732645800-1732653000@thetulsaartsdistrict.org
SUMMARY:Sparkling Wine Dinner at Duet Restaurant
DESCRIPTION:
URL:https://thetulsaartsdistrict.org/event/sparkling-wine-dinner-at-duet-restaurant-4/2024-11-26/
LOCATION:Duet Jazz Restaurant\, 108 N Detroit\, Tulsa\, OK\, 74103\, United States
END:VEVENT
BEGIN:VEVENT
DTSTART;TZID=America/Chicago:20241124T170000
DTEND;TZID=America/Chicago:20241124T200000
DTSTAMP:20260419T133719
CREATED:20230527T155413Z
LAST-MODIFIED:20241120T222005Z
UID:73672-1732467600-1732478400@thetulsaartsdistrict.org
SUMMARY:Sunday Song Swap Jordan Cox at The Hunt Club
DESCRIPTION:
URL:https://thetulsaartsdistrict.org/event/sunday-set-at-the-hunt-club-2023-08-27-2023-09-03-2024-06-30-2024-11-24/
LOCATION:The Hunt Club\, 224 N Main\, Tulsa\, OK\, 74103\, United States
END:VEVENT
BEGIN:VEVENT
DTSTART;TZID=America/Chicago:20241124T170000
DTEND;TZID=America/Chicago:20241124T190000
DTSTAMP:20260419T133719
CREATED:20241026T210628Z
LAST-MODIFIED:20241026T210631Z
UID:82351-1732467600-1732474800@thetulsaartsdistrict.org
SUMMARY:The Leftover Last Waltz at Cain's Ballroom
DESCRIPTION:
URL:https://thetulsaartsdistrict.org/event/the-leftover-last-waltz-at-cains-ballroom-2/
LOCATION:Cain’s Ballroom\, 423 N Main\, Tulsa\, OK\, 74103\, United States
END:VEVENT
BEGIN:VEVENT
DTSTART;TZID=America/Chicago:20241124T160000
DTEND;TZID=America/Chicago:20241124T190000
DTSTAMP:20260419T133719
CREATED:20241027T213708Z
LAST-MODIFIED:20241027T213710Z
UID:82543-1732464000-1732474800@thetulsaartsdistrict.org
SUMMARY:Jam eCono at Soundpony
DESCRIPTION:
URL:https://thetulsaartsdistrict.org/event/jam-econo-at-soundpony-4/
LOCATION:Soundpony\, 409 N Main\, Tulsa\, OK\, 74103\, United States
END:VEVENT
BEGIN:VEVENT
DTSTART;TZID=America/Chicago:20241124T150000
DTEND;TZID=America/Chicago:20241124T160000
DTSTAMP:20260419T133719
CREATED:20240811T203605Z
LAST-MODIFIED:20240811T205019Z
UID:78994-1732460400-1732464000@thetulsaartsdistrict.org
SUMMARY:Own Voices Book Club: "Birdcatcher" by Gayl Jones at Magic City Books
DESCRIPTION:
URL:https://thetulsaartsdistrict.org/event/own-voices-book-club-at-magic-city-books-2024-11-24/
LOCATION:Magic City Books\, 221 E Archer\, Tulsa\, OK\, 74103\, United States
END:VEVENT
BEGIN:VEVENT
DTSTART;TZID=America/Chicago:20241124T130000
DTEND;TZID=America/Chicago:20241124T170000
DTSTAMP:20260419T133719
CREATED:20241122T210515Z
LAST-MODIFIED:20241122T210717Z
UID:83333-1732453200-1732467600@thetulsaartsdistrict.org
SUMMARY:Take Advantage of TAC Art Photography Week - Drop Off
DESCRIPTION:
URL:https://thetulsaartsdistrict.org/event/take-advantage-of-tac-art-photography-week/
LOCATION:Tulsa Artists’ Coalition\, 9 E Reconciliation Way\, Tulsa\, OK\, 74103\, United States
END:VEVENT
END:VCALENDAR