BEGIN:VCALENDAR
VERSION:2.0
PRODID:-//Tulsa Arts District - ECPv6.15.20//NONSGML v1.0//EN
CALSCALE:GREGORIAN
METHOD:PUBLISH
X-WR-CALNAME:Tulsa Arts District
X-ORIGINAL-URL:https://thetulsaartsdistrict.org
X-WR-CALDESC:Events for Tulsa Arts District
REFRESH-INTERVAL;VALUE=DURATION:PT1H
X-Robots-Tag:noindex
X-PUBLISHED-TTL:PT1H
BEGIN:VTIMEZONE
TZID:America/Chicago
BEGIN:DAYLIGHT
TZOFFSETFROM:-0600
TZOFFSETTO:-0500
TZNAME:CDT
DTSTART:20230312T080000
END:DAYLIGHT
BEGIN:STANDARD
TZOFFSETFROM:-0500
TZOFFSETTO:-0600
TZNAME:CST
DTSTART:20231105T070000
END:STANDARD
BEGIN:DAYLIGHT
TZOFFSETFROM:-0600
TZOFFSETTO:-0500
TZNAME:CDT
DTSTART:20240310T080000
END:DAYLIGHT
BEGIN:STANDARD
TZOFFSETFROM:-0500
TZOFFSETTO:-0600
TZNAME:CST
DTSTART:20241103T070000
END:STANDARD
BEGIN:DAYLIGHT
TZOFFSETFROM:-0600
TZOFFSETTO:-0500
TZNAME:CDT
DTSTART:20250309T080000
END:DAYLIGHT
BEGIN:STANDARD
TZOFFSETFROM:-0500
TZOFFSETTO:-0600
TZNAME:CST
DTSTART:20251102T070000
END:STANDARD
END:VTIMEZONE
BEGIN:VEVENT
DTSTART;TZID=America/Chicago:20241211T190000
DTEND;TZID=America/Chicago:20241211T203000
DTSTAMP:20260419T120415
CREATED:20241211T142407Z
LAST-MODIFIED:20241211T142409Z
UID:83718-1733943600-1733949000@thetulsaartsdistrict.org
SUMMARY:Free Energy: All-Ages Jazz Jam at LowDown
DESCRIPTION:
URL:https://thetulsaartsdistrict.org/event/free-energy-all-ages-jazz-jam-at-lowdown-44/
LOCATION:LowDown\, 108 N Detroit Ave (Basement)\, Tulsa\, OK\, 74103\, United States
END:VEVENT
BEGIN:VEVENT
DTSTART;TZID=America/Chicago:20241211T183000
DTEND;TZID=America/Chicago:20241211T203000
DTSTAMP:20260419T120415
CREATED:20241206T214222Z
LAST-MODIFIED:20241206T214224Z
UID:83650-1733941800-1733949000@thetulsaartsdistrict.org
SUMMARY:An Evening with Wilco (Night 2) - All ages welcome at Cain's Ballroom
DESCRIPTION:
URL:https://thetulsaartsdistrict.org/event/an-evening-with-wilco-night-2-all-ages-welcome-at-cains-ballroom/
LOCATION:Cain’s Ballroom\, 423 N Main\, Tulsa\, OK\, 74103\, United States
END:VEVENT
BEGIN:VEVENT
DTSTART;TZID=America/Chicago:20241211T140000
DTEND;TZID=America/Chicago:20241211T160000
DTSTAMP:20260419T120415
CREATED:20241102T154642Z
LAST-MODIFIED:20241102T154644Z
UID:82729-1733925600-1733932800@thetulsaartsdistrict.org
SUMMARY:Jeff Tweedy Book & Record Signing at Woody Guthrie Center
DESCRIPTION:
URL:https://thetulsaartsdistrict.org/event/jeff-tweedy-book-record-signing-at-woody-guthrie-center/
LOCATION:Woody Guthrie Center\, 102 E Reconciliation Way\, Tulsa\, OK\, 74103\, United States
END:VEVENT
BEGIN:VEVENT
DTSTART;TZID=America/Chicago:20241210T190000
DTEND;TZID=America/Chicago:20241210T230000
DTSTAMP:20260419T120415
CREATED:20241210T223451Z
LAST-MODIFIED:20241222T184748Z
UID:83702-1733857200-1733871600@thetulsaartsdistrict.org
SUMMARY:Oklahoma's Indie Auteur: Lisandro Boccacci presents the Indie Showcase 7pm short films 9pm talent show. Events end at 11pm at The Hunt Club
DESCRIPTION:
URL:https://thetulsaartsdistrict.org/event/oklahomas-indie-auteur-lisandro-boccacci-presents-the-indie-showcase-7pm-short-films-9pm-talent-show-events-end-at-11pm-at-the-hunt-club/2024-12-10/
LOCATION:The Hunt Club\, 224 N Main\, Tulsa\, OK\, 74103\, United States
END:VEVENT
BEGIN:VEVENT
DTSTART;TZID=America/Chicago:20241210T180000
DTEND;TZID=America/Chicago:20241210T203000
DTSTAMP:20260419T120415
CREATED:20241206T204323Z
LAST-MODIFIED:20241206T214442Z
UID:83647-1733853600-1733862600@thetulsaartsdistrict.org
SUMMARY:An evening with Wilco (Night 1) at Cain's Ballroom - All ages welcome
DESCRIPTION:
URL:https://thetulsaartsdistrict.org/event/wilco-night-1-at-cains-ballroom/
LOCATION:Cain’s Ballroom\, 423 N Main\, Tulsa\, OK\, 74103\, United States
END:VEVENT
BEGIN:VEVENT
DTSTART;TZID=America/Chicago:20241210T180000
DTEND;TZID=America/Chicago:20241210T203000
DTSTAMP:20260419T120415
CREATED:20241206T204034Z
LAST-MODIFIED:20241206T214553Z
UID:83644-1733853600-1733862600@thetulsaartsdistrict.org
SUMMARY:An evening with Wilco (2 Night Pass) at Cain's Ballroom - All ages welcome
DESCRIPTION:
URL:https://thetulsaartsdistrict.org/event/wilco-2-night-pass/
LOCATION:Cain’s Ballroom\, 423 N Main\, Tulsa\, OK\, 74103\, United States
END:VEVENT
BEGIN:VEVENT
DTSTART;TZID=America/Chicago:20241209T183000
DTEND;TZID=America/Chicago:20241209T203000
DTSTAMP:20260419T120415
CREATED:20241206T024254Z
LAST-MODIFIED:20241206T024256Z
UID:83635-1733769000-1733776200@thetulsaartsdistrict.org
SUMMARY:Taylor Swift Birthday Wine Dinner at Duet Restaurant
DESCRIPTION:
URL:https://thetulsaartsdistrict.org/event/taylor-swift-birthday-wine-dinner-at-duet-restaurant/2024-12-09/
LOCATION:Duet Jazz Restaurant\, 108 N Detroit\, Tulsa\, OK\, 74103\, United States
END:VEVENT
BEGIN:VEVENT
DTSTART;TZID=America/Chicago:20241208T210000
DTEND;TZID=America/Chicago:20241209T010000
DTSTAMP:20260419T120415
CREATED:20211031T194628Z
LAST-MODIFIED:20241207T230400Z
UID:78271-1733691600-1733706000@thetulsaartsdistrict.org
SUMMARY:O Hoe-ly Night\, a benefit for Tracy La Louisianne at 9:30 - The Sunday Showdown! Featuring your host Shanel Sterling with Scrappy Legacy and Londenn D. Raine! at 11 at Club Majestic
DESCRIPTION:.
URL:https://thetulsaartsdistrict.org/event/the-sunday-showdown-featuring-your-host-shanel-sterling-londenn-d-raine-at-club-majestic-2-2021-11-28-2023-06-25-2023-12-17-2024-06-30-2024-07-07-2024-07-14-2024-08-04-2024-12-08/
LOCATION:Club Majestic\, 124 N Boston\, Tulsa\, OK\, 74103\, United States
END:VEVENT
BEGIN:VEVENT
DTSTART;TZID=America/Chicago:20241208T180000
DTEND;TZID=America/Chicago:20241208T210000
DTSTAMP:20260419T120415
CREATED:20241201T154944Z
LAST-MODIFIED:20241201T154947Z
UID:83564-1733680800-1733691600@thetulsaartsdistrict.org
SUMMARY:Sad Sunday Solstice w/ Johnee Kemper\, Dylan Pitman\, Alystr Zelland at Soundpony
DESCRIPTION:
URL:https://thetulsaartsdistrict.org/event/sad-sunday-solstice-w-johnee-kemper-dylan-pitman-alystr-zelland-at-soundpony/
LOCATION:Soundpony\, 409 N Main\, Tulsa\, OK\, 74103\, United States
END:VEVENT
BEGIN:VEVENT
DTSTART;TZID=America/Chicago:20241208T170000
DTEND;TZID=America/Chicago:20241208T200000
DTSTAMP:20260419T120415
CREATED:20230527T155413Z
LAST-MODIFIED:20241204T203306Z
UID:73674-1733677200-1733688000@thetulsaartsdistrict.org
SUMMARY:Sunday Song Swap with Ben Brock and Megan Marlene at The Hunt Club
DESCRIPTION:
URL:https://thetulsaartsdistrict.org/event/sunday-set-at-the-hunt-club-2023-08-27-2023-09-03-2024-06-30-2024-12-08/
LOCATION:The Hunt Club\, 224 N Main\, Tulsa\, OK\, 74103\, United States
END:VEVENT
BEGIN:VEVENT
DTSTART;TZID=America/Chicago:20241208T150000
DTEND;TZID=America/Chicago:20241208T160000
DTSTAMP:20260419T120415
CREATED:20240811T200420Z
LAST-MODIFIED:20240811T201553Z
UID:78968-1733670000-1733673600@thetulsaartsdistrict.org
SUMMARY:All-Star Debuts Book Club: "Light a Penny Candle" by Maeve Binchy at Magic City Books
DESCRIPTION:Light a Penny Candle by Maeve Binchy \n\n\n\n\n\n\n\nLight a Penny Candle by Maeve Binchy
URL:https://thetulsaartsdistrict.org/event/all-star-debuts-book-club-at-magic-city-books-2024-12-08/
LOCATION:Magic City Books\, 221 E Archer\, Tulsa\, OK\, 74103\, United States
END:VEVENT
BEGIN:VEVENT
DTSTART;TZID=America/Chicago:20241208T143000
DTEND;TZID=America/Chicago:20241208T153000
DTSTAMP:20260419T120415
CREATED:20241123T144251Z
LAST-MODIFIED:20241123T144253Z
UID:83340-1733668200-1733671800@thetulsaartsdistrict.org
SUMMARY:An Exclusive Spiced Rum Rum Club Gathering at Saturn Room
DESCRIPTION:
URL:https://thetulsaartsdistrict.org/event/an-exclusive-spiced-rum-rum-club-gathering-at-saturn-room/
LOCATION:Saturn Room\, 209 N Boulder\, Tulsa\, OK\, 74103\, United States
END:VEVENT
BEGIN:VEVENT
DTSTART;TZID=America/Chicago:20241207T220000
DTEND;TZID=America/Chicago:20241208T010000
DTSTAMP:20260419T120415
CREATED:20241201T154633Z
LAST-MODIFIED:20241201T154810Z
UID:83561-1733608800-1733619600@thetulsaartsdistrict.org
SUMMARY:Slick Shame at Soundpony
DESCRIPTION:
URL:https://thetulsaartsdistrict.org/event/slick-shame-at-soundpony/
LOCATION:Soundpony\, 409 N Main\, Tulsa\, OK\, 74103\, United States
END:VEVENT
BEGIN:VEVENT
DTSTART;TZID=America/Chicago:20241207T213000
DTEND;TZID=America/Chicago:20241208T003000
DTSTAMP:20260419T120415
CREATED:20241201T162454Z
LAST-MODIFIED:20241201T162456Z
UID:83571-1733607000-1733617800@thetulsaartsdistrict.org
SUMMARY:Western Horn at The Hunt Club
DESCRIPTION:
URL:https://thetulsaartsdistrict.org/event/western-horn-at-the-hunt-club-4/
LOCATION:The Hunt Club\, 224 N Main\, Tulsa\, OK\, 74103\, United States
END:VEVENT
BEGIN:VEVENT
DTSTART;TZID=America/Chicago:20241207T200000
DTEND;TZID=America/Chicago:20241207T230000
DTSTAMP:20260419T120415
CREATED:20241204T204741Z
LAST-MODIFIED:20241204T204743Z
UID:83603-1733601600-1733612400@thetulsaartsdistrict.org
SUMMARY:Jonathan Kreisberg Quartet at LowDown
DESCRIPTION:
URL:https://thetulsaartsdistrict.org/event/jonathan-kreisberg-quartet-at-lowdown/
LOCATION:LowDown\, 108 N Detroit Ave (Basement)\, Tulsa\, OK\, 74103\, United States
END:VEVENT
BEGIN:VEVENT
DTSTART;TZID=America/Chicago:20241207T170000
DTEND;TZID=America/Chicago:20241207T200000
DTSTAMP:20260419T120415
CREATED:20241204T203603Z
LAST-MODIFIED:20241204T203606Z
UID:83594-1733590800-1733601600@thetulsaartsdistrict.org
SUMMARY:Santa And The Grinch Bring Holiday Cheer To Art In The Park at Guthrie Green
DESCRIPTION:
URL:https://thetulsaartsdistrict.org/event/santa-and-the-grinch-bring-holiday-cheer-to-art-in-the-park-at-guthrie-green/
LOCATION:Guthrie Green\, 111 E Reconciliation Way\, Tulsa\, OK\, 74103\, United States
END:VEVENT
BEGIN:VEVENT
DTSTART;TZID=America/Chicago:20241207T120000
DTEND;TZID=America/Chicago:20241207T170000
DTSTAMP:20260419T120415
CREATED:20241128T164738Z
LAST-MODIFIED:20250118T143930Z
UID:83419-1733572800-1733590800@thetulsaartsdistrict.org
SUMMARY:VisionMakers2024 at 108 Contemporary - Free Admission
DESCRIPTION:
URL:https://thetulsaartsdistrict.org/event/visionmakers2024-at-108-contempoary-2024-12-07/2024-12-07/
LOCATION:108 Contemporary\, 108 E Reconciliation Way\, Tulsa\, OK\, 74103\, United States
END:VEVENT
BEGIN:VEVENT
DTSTART;TZID=America/Chicago:20241207T120000
DTEND;TZID=America/Chicago:20241207T170000
DTSTAMP:20260419T120415
CREATED:20241122T205230Z
LAST-MODIFIED:20241204T211342Z
UID:83324-1733572800-1733590800@thetulsaartsdistrict.org
SUMMARY:Art on Vinyl Record: An Upcycle Artist's Feminine Voice Plays Through Acrylic & Mixed Media at TAC Gallery
DESCRIPTION:
URL:https://thetulsaartsdistrict.org/event/art-on-vinyl-record-an-upcycle-artists-feminine-voice-plays-through-acrylic-mixed-media-at-tac-gallery-2024-12-07/2024-12-07/
LOCATION:Tulsa Artists’ Coalition\, 9 E Reconciliation Way\, Tulsa\, OK\, 74103\, United States
END:VEVENT
BEGIN:VEVENT
DTSTART;TZID=America/Chicago:20241207T120000
DTEND;TZID=America/Chicago:20241207T160000
DTSTAMP:20260419T120415
CREATED:20241128T161140Z
LAST-MODIFIED:20241128T161708Z
UID:83384-1733572800-1733587200@thetulsaartsdistrict.org
SUMMARY:Faith Green showing The Tales of a Girl Rabbit\, and Lauren Henson showing Diva at Living Arts.
DESCRIPTION:
URL:https://thetulsaartsdistrict.org/event/faith-green-showing-the-tales-of-a-girl-rabbit-and-lauren-henson-showing-diva-at-living-arts-2024-12-07/2024-12-07/
LOCATION:Living Arts of Tulsa\, 307 E. Reconciliation Way.\, Tulsa\, OK\, 74120\, United States
END:VEVENT
BEGIN:VEVENT
DTSTART;TZID=America/Chicago:20241206T220000
DTEND;TZID=America/Chicago:20241207T010000
DTSTAMP:20260419T120415
CREATED:20241201T154537Z
LAST-MODIFIED:20241201T154539Z
UID:83558-1733522400-1733533200@thetulsaartsdistrict.org
SUMMARY:Alien Abstraction + Static Cathedral + Surus at Soundpony
DESCRIPTION:
URL:https://thetulsaartsdistrict.org/event/alien-abstraction-static-cathedral-surus-at-soundpony/
LOCATION:Soundpony\, 409 N Main\, Tulsa\, OK\, 74103\, United States
END:VEVENT
BEGIN:VEVENT
DTSTART;TZID=America/Chicago:20241206T213000
DTEND;TZID=America/Chicago:20241207T003000
DTSTAMP:20260419T120415
CREATED:20241201T162234Z
LAST-MODIFIED:20241201T162237Z
UID:83569-1733520600-1733531400@thetulsaartsdistrict.org
SUMMARY:Brandon Clark at The Hunt Club
DESCRIPTION:
URL:https://thetulsaartsdistrict.org/event/brandon-clark-at-the-hunt-club-13/
LOCATION:The Hunt Club\, 224 N Main\, Tulsa\, OK\, 74103\, United States
END:VEVENT
BEGIN:VEVENT
DTSTART;TZID=America/Chicago:20241206T210000
DTEND;TZID=America/Chicago:20241207T013000
DTSTAMP:20260419T120415
CREATED:20210103T161634Z
LAST-MODIFIED:20241228T205758Z
UID:72102-1733518800-1733535000@thetulsaartsdistrict.org
SUMMARY:First Friday Latin Infusion & Hoe You Think You Can Dance! Contest at Club Majestic at 12:30 am
DESCRIPTION:
URL:https://thetulsaartsdistrict.org/event/hoe-you-think-you-can-dance-contest-at-club-majestic-at-1230-am-2021-05-07-2021-12-03-2022-12-02-2023-06-02-2023-08-04-2024-06-07-2024-12-06/2024-12-06/
LOCATION:Club Majestic\, 124 N Boston\, Tulsa\, OK\, 74103\, United States
END:VEVENT
BEGIN:VEVENT
DTSTART;TZID=America/Chicago:20241206T200000
DTEND;TZID=America/Chicago:20241206T220000
DTSTAMP:20260419T120415
CREATED:20241204T204553Z
LAST-MODIFIED:20241204T204555Z
UID:83600-1733515200-1733522400@thetulsaartsdistrict.org
SUMMARY:Shawna Blake Comedy Special at LowDown - 21+
DESCRIPTION:
URL:https://thetulsaartsdistrict.org/event/shawna-blake-comedy-special-at-lowdown-21/
LOCATION:LowDown\, 108 N Detroit Ave (Basement)\, Tulsa\, OK\, 74103\, United States
END:VEVENT
BEGIN:VEVENT
DTSTART;TZID=America/Chicago:20241206T190000
DTEND;TZID=America/Chicago:20241206T210000
DTSTAMP:20260419T120415
CREATED:20241204T200256Z
LAST-MODIFIED:20241204T200259Z
UID:83590-1733511600-1733518800@thetulsaartsdistrict.org
SUMMARY:Nathan Scott Live! at Gypsy Coffee House
DESCRIPTION:
URL:https://thetulsaartsdistrict.org/event/nathan-scott-live-at-gypsy-coffee-house/
LOCATION:Gypsy Coffee House & Cyber Café\, 303 N ML King Blvd\, Tulsa\, OK\, 74103\, United States
END:VEVENT
BEGIN:VEVENT
DTSTART;TZID=America/Chicago:20241206T180000
DTEND;TZID=America/Chicago:20241206T230000
DTSTAMP:20260419T120415
CREATED:20241120T223622Z
LAST-MODIFIED:20241120T232326Z
UID:83310-1733508000-1733526000@thetulsaartsdistrict.org
SUMMARY:Winter Blues at Saturn Room featuring Bucky & the Bookworms and Etham Reyes and Art Vendors
DESCRIPTION:Show at 8 PM | Art Market 6 PM
URL:https://thetulsaartsdistrict.org/event/winter-blues-at-saturn-room-featuring-bucky-the-bookworms-and-etham-reyes-and-art-vendors/
LOCATION:Saturn Room\, 209 N Boulder\, Tulsa\, OK\, 74103\, United States
END:VEVENT
BEGIN:VEVENT
DTSTART;TZID=America/Chicago:20241206T180000
DTEND;TZID=America/Chicago:20241206T210000
DTSTAMP:20260419T120415
CREATED:20241206T134256Z
LAST-MODIFIED:20241206T134258Z
UID:83641-1733508000-1733518800@thetulsaartsdistrict.org
SUMMARY:Glow on the (Guthrie) Green
DESCRIPTION:
URL:https://thetulsaartsdistrict.org/event/glow-on-the-guthrie-green/
LOCATION:Guthrie Green\, 111 E Reconciliation Way\, Tulsa\, OK\, 74103\, United States
END:VEVENT
BEGIN:VEVENT
DTSTART;TZID=America/Chicago:20241206T180000
DTEND;TZID=America/Chicago:20241206T210000
DTSTAMP:20260419T120415
CREATED:20241204T191246Z
LAST-MODIFIED:20241204T191248Z
UID:83587-1733508000-1733518800@thetulsaartsdistrict.org
SUMMARY:"Inmaterial" presented by James Gallagher at Chrysalis Salon & Spa
DESCRIPTION:
URL:https://thetulsaartsdistrict.org/event/inmaterial-presented-by-james-gallagher-at-chrysalis-salon-spa/
LOCATION:Chrysalis Salon & Spa\, 7 E Reconciliation Way\, Tulsa\, OK\, 74103\, United States
END:VEVENT
BEGIN:VEVENT
DTSTART;TZID=America/Chicago:20241206T180000
DTEND;TZID=America/Chicago:20241206T210000
DTSTAMP:20260419T120415
CREATED:20241128T164738Z
LAST-MODIFIED:20241128T165653Z
UID:83416-1733508000-1733518800@thetulsaartsdistrict.org
SUMMARY:Opening: VisionMakers2024 at 108 Contemporary
DESCRIPTION:
URL:https://thetulsaartsdistrict.org/event/visionmakers2024-at-108-contempoary/
LOCATION:108 Contemporary\, 108 E Reconciliation Way\, Tulsa\, OK\, 74103\, United States
END:VEVENT
BEGIN:VEVENT
DTSTART;TZID=America/Chicago:20241206T180000
DTEND;TZID=America/Chicago:20241206T210000
DTSTAMP:20260419T120415
CREATED:20241128T162225Z
LAST-MODIFIED:20241128T162227Z
UID:83406-1733508000-1733518800@thetulsaartsdistrict.org
SUMMARY:2024 Winter Market at Living Arts
DESCRIPTION:
URL:https://thetulsaartsdistrict.org/event/2024-winter-market-at-living-arts/
LOCATION:Living Arts of Tulsa\, 307 E. Reconciliation Way.\, Tulsa\, OK\, 74120\, United States
END:VEVENT
BEGIN:VEVENT
DTSTART;TZID=America/Chicago:20241206T180000
DTEND;TZID=America/Chicago:20241206T210000
DTSTAMP:20260419T120415
CREATED:20241128T161140Z
LAST-MODIFIED:20241128T161815Z
UID:83381-1733508000-1733518800@thetulsaartsdistrict.org
SUMMARY:Faith Green showing The Tales of a Girl Rabbit\, and Lauren Henson showing Diva at Living Arts.
DESCRIPTION:
URL:https://thetulsaartsdistrict.org/event/faith-green-showing-the-tales-of-a-girl-rabbit-and-lauren-henson-showing-diva-at-living-arts/
LOCATION:Living Arts of Tulsa\, 307 E. Reconciliation Way.\, Tulsa\, OK\, 74120\, United States
END:VEVENT
END:VCALENDAR