BEGIN:VCALENDAR
VERSION:2.0
PRODID:-//Tulsa Arts District - ECPv6.15.20//NONSGML v1.0//EN
CALSCALE:GREGORIAN
METHOD:PUBLISH
X-WR-CALNAME:Tulsa Arts District
X-ORIGINAL-URL:https://thetulsaartsdistrict.org
X-WR-CALDESC:Events for Tulsa Arts District
REFRESH-INTERVAL;VALUE=DURATION:PT1H
X-Robots-Tag:noindex
X-PUBLISHED-TTL:PT1H
BEGIN:VTIMEZONE
TZID:America/Chicago
BEGIN:DAYLIGHT
TZOFFSETFROM:-0600
TZOFFSETTO:-0500
TZNAME:CDT
DTSTART:20230312T080000
END:DAYLIGHT
BEGIN:STANDARD
TZOFFSETFROM:-0500
TZOFFSETTO:-0600
TZNAME:CST
DTSTART:20231105T070000
END:STANDARD
BEGIN:DAYLIGHT
TZOFFSETFROM:-0600
TZOFFSETTO:-0500
TZNAME:CDT
DTSTART:20240310T080000
END:DAYLIGHT
BEGIN:STANDARD
TZOFFSETFROM:-0500
TZOFFSETTO:-0600
TZNAME:CST
DTSTART:20241103T070000
END:STANDARD
BEGIN:DAYLIGHT
TZOFFSETFROM:-0600
TZOFFSETTO:-0500
TZNAME:CDT
DTSTART:20250309T080000
END:DAYLIGHT
BEGIN:STANDARD
TZOFFSETFROM:-0500
TZOFFSETTO:-0600
TZNAME:CST
DTSTART:20251102T070000
END:STANDARD
END:VTIMEZONE
BEGIN:VEVENT
DTSTART;TZID=America/Chicago:20241227T200000
DTEND;TZID=America/Chicago:20241227T230000
DTSTAMP:20260421T052336
CREATED:20241213T223739Z
LAST-MODIFIED:20241213T223741Z
UID:83929-1735329600-1735340400@thetulsaartsdistrict.org
SUMMARY:Deepfake Jazz Quintet at LowDown - 21+
DESCRIPTION:
URL:https://thetulsaartsdistrict.org/event/deepfake-jazz-quintet-at-lowdown-21-2/
LOCATION:LowDown\, 108 N Detroit Ave (Basement)\, Tulsa\, OK\, 74103\, United States
END:VEVENT
BEGIN:VEVENT
DTSTART;TZID=America/Chicago:20241227T180000
DTEND;TZID=America/Chicago:20241227T220000
DTSTAMP:20260421T052336
CREATED:20241225T155442Z
LAST-MODIFIED:20241225T155443Z
UID:84854-1735322400-1735336800@thetulsaartsdistrict.org
SUMMARY:Last Friday Jam session at the Gypsy!!
DESCRIPTION:
URL:https://thetulsaartsdistrict.org/event/last-friday-jam-session-at-the-gypsy/
LOCATION:Gypsy Coffee House & Cyber Café\, 303 N ML King Blvd\, Tulsa\, OK\, 74103\, United States
END:VEVENT
BEGIN:VEVENT
DTSTART;TZID=America/Chicago:20241227T180000
DTEND;TZID=America/Chicago:20241227T210000
DTSTAMP:20260421T052336
CREATED:20241212T002620Z
LAST-MODIFIED:20241212T002824Z
UID:83752-1735322400-1735333200@thetulsaartsdistrict.org
SUMMARY:Cliffdiver + The Tokyo Smash +Sincere Engineer (Solo) + Sunfo at Cain's Ballroom - All ages
DESCRIPTION:
URL:https://thetulsaartsdistrict.org/event/cliffdiver-the-tokyo-smash-sincere-engineer-solo-sunfo-at-cains-ballroom/
LOCATION:Cain’s Ballroom\, 423 N Main\, Tulsa\, OK\, 74103\, United States
END:VEVENT
BEGIN:VEVENT
DTSTART;TZID=America/Chicago:20241227T170000
DTEND;TZID=America/Chicago:20241227T210000
DTSTAMP:20260421T052336
CREATED:20211230T225345Z
LAST-MODIFIED:20241220T222218Z
UID:71729-1735318800-1735333200@thetulsaartsdistrict.org
SUMMARY:Pie Night at Antoinette Bakery & Cafe
DESCRIPTION:
URL:https://thetulsaartsdistrict.org/event/pie-night-at-antoinette-baking-co-2023-07-01-2024-07-26-2024-12-27/2024-12-27/
LOCATION:Antoinette Bakery and Cafe\, 207 N Main\, Tulsa\, OK\, 74103\, United States
END:VEVENT
BEGIN:VEVENT
DTSTART;TZID=America/Chicago:20241226T220000
DTEND;TZID=America/Chicago:20241226T230000
DTSTAMP:20260421T052336
CREATED:20221222T155345Z
LAST-MODIFIED:20241222T223255Z
UID:73614-1735250400-1735254000@thetulsaartsdistrict.org
SUMMARY:PONYoke with MZ FEFE at Soundpony
DESCRIPTION:
URL:https://thetulsaartsdistrict.org/event/pony-karaoke-w-mz-fefe-at-soundpony-2023-07-13-2023-10-26-2024-06-27-2024-12-26/2024-12-26/
LOCATION:Soundpony\, 409 N Main\, Tulsa\, OK\, 74103\, United States
END:VEVENT
BEGIN:VEVENT
DTSTART;TZID=America/Chicago:20241226T210000
DTEND;TZID=America/Chicago:20241227T003000
DTSTAMP:20260421T052336
CREATED:20231221T234347Z
LAST-MODIFIED:20241223T215229Z
UID:77036-1735246800-1735259400@thetulsaartsdistrict.org
SUMMARY:Tulsa Supreme - Category is: Not So Very Merry Christmas - Club Majestic - Doors 9\, show 10:30
DESCRIPTION:
URL:https://thetulsaartsdistrict.org/event/dragnificent-club-majestic-2024-04-25-2024-07-25-2024-11-14-2024-12-26/
LOCATION:Club Majestic\, 124 N Boston\, Tulsa\, OK\, 74103\, United States
END:VEVENT
BEGIN:VEVENT
DTSTART;TZID=America/Chicago:20241226T200000
DTEND;TZID=America/Chicago:20241226T230000
DTSTAMP:20260421T052336
CREATED:20241213T223529Z
LAST-MODIFIED:20241213T223532Z
UID:83926-1735243200-1735254000@thetulsaartsdistrict.org
SUMMARY:Poppa Foster at LowDown - 21+
DESCRIPTION:
URL:https://thetulsaartsdistrict.org/event/poppa-foster-at-lowdown-21/
LOCATION:LowDown\, 108 N Detroit Ave (Basement)\, Tulsa\, OK\, 74103\, United States
END:VEVENT
BEGIN:VEVENT
DTSTART;TZID=America/Chicago:20241226T150000
DTEND;TZID=America/Chicago:20241226T233000
DTSTAMP:20260421T052336
CREATED:20241222T203213Z
LAST-MODIFIED:20241222T203215Z
UID:84666-1735225200-1735255800@thetulsaartsdistrict.org
SUMMARY:All well drinks on special until close every Thursday at Hunt Club!
DESCRIPTION:
URL:https://thetulsaartsdistrict.org/event/all-well-drinks-on-special-until-close-every-thursday-at-hunt-club/2024-12-26/
LOCATION:The Hunt Club\, 224 N Main\, Tulsa\, OK\, 74103\, United States
END:VEVENT
BEGIN:VEVENT
DTSTART;TZID=America/Chicago:20241225T200000
DTEND;TZID=America/Chicago:20241225T233000
DTSTAMP:20260421T052336
CREATED:20241224T163837Z
LAST-MODIFIED:20241224T163840Z
UID:84851-1735156800-1735169400@thetulsaartsdistrict.org
SUMMARY:Christmas Day!! Come hang out with us!! at Soundpony
DESCRIPTION:
URL:https://thetulsaartsdistrict.org/event/christmas-day-come-hang-out-with-us-at-soundpony/
LOCATION:Soundpony\, 409 N Main\, Tulsa\, OK\, 74103\, United States
END:VEVENT
BEGIN:VEVENT
DTSTART;TZID=America/Chicago:20241225T190000
DTEND;TZID=America/Chicago:20241225T233000
DTSTAMP:20260421T052336
CREATED:20231103T125010Z
LAST-MODIFIED:20241215T165226Z
UID:73858-1735153200-1735169400@thetulsaartsdistrict.org
SUMMARY:Saturn Room opens at 7
DESCRIPTION:
URL:https://thetulsaartsdistrict.org/event/happy-hour-at-saturn-room-2024-07-01-2024-12-31-2024-12-25/
LOCATION:Saturn Room\, 209 N Boulder\, Tulsa\, OK\, 74103\, United States
END:VEVENT
BEGIN:VEVENT
DTSTART;TZID=America/Chicago:20241224T190000
DTEND;TZID=America/Chicago:20241224T233000
DTSTAMP:20260421T052336
CREATED:20231103T125010Z
LAST-MODIFIED:20241215T165608Z
UID:73857-1735066800-1735083000@thetulsaartsdistrict.org
SUMMARY:Saturn Room opens at 7
DESCRIPTION:
URL:https://thetulsaartsdistrict.org/event/happy-hour-at-saturn-room-2024-07-01-2024-12-31-2024-12-24/
LOCATION:Saturn Room\, 209 N Boulder\, Tulsa\, OK\, 74103\, United States
END:VEVENT
BEGIN:VEVENT
DTSTART;TZID=America/Chicago:20241224T160000
DTEND;TZID=America/Chicago:20241224T220000
DTSTAMP:20260421T052336
CREATED:20240826T202954Z
LAST-MODIFIED:20241222T195546Z
UID:84132-1735056000-1735077600@thetulsaartsdistrict.org
SUMMARY:Taco + Tito's Tuesday Special at The Hunt Club
DESCRIPTION:
URL:https://thetulsaartsdistrict.org/event/taco-tuesday-special-at-the-hunt-club-2024-12-17-2024-12-24/2024-12-24/
LOCATION:The Hunt Club\, 224 N Main\, Tulsa\, OK\, 74103\, United States
END:VEVENT
BEGIN:VEVENT
DTSTART;TZID=America/Chicago:20241223T100000
DTEND;TZID=America/Chicago:20241223T140000
DTSTAMP:20260421T052336
CREATED:20241221T180009Z
LAST-MODIFIED:20241221T180012Z
UID:84501-1734948000-1734962400@thetulsaartsdistrict.org
SUMMARY:Vintage Barbie Museum Pop-up Shop
DESCRIPTION:
URL:https://thetulsaartsdistrict.org/event/vintage-barbie-museum-pop-up-shop/2024-12-23/
LOCATION:Vintage Barbie Museum – Pop Up Shop\, 216 N Main Street\, Tulsa\, OK\, 74103\, United States
END:VEVENT
BEGIN:VEVENT
DTSTART;TZID=America/Chicago:20241222T170000
DTEND;TZID=America/Chicago:20241222T200000
DTSTAMP:20260421T052336
CREATED:20230527T155413Z
LAST-MODIFIED:20241217T170506Z
UID:73676-1734886800-1734897600@thetulsaartsdistrict.org
SUMMARY:Sunday Song Swap with Jordan Cox and Emily Hollingshed at The Hunt Club
DESCRIPTION:
URL:https://thetulsaartsdistrict.org/event/sunday-set-at-the-hunt-club-2023-08-27-2023-09-03-2024-06-30-2024-12-22/
LOCATION:The Hunt Club\, 224 N Main\, Tulsa\, OK\, 74103\, United States
END:VEVENT
BEGIN:VEVENT
DTSTART;TZID=America/Chicago:20241222T170000
DTEND;TZID=America/Chicago:20241222T183000
DTSTAMP:20260421T052336
CREATED:20241212T144451Z
LAST-MODIFIED:20241217T165757Z
UID:83784-1734886800-1734892200@thetulsaartsdistrict.org
SUMMARY:Stepping into the Unknown: Films from the Bob Dylan Center at Circle Cinema
DESCRIPTION:
URL:https://thetulsaartsdistrict.org/event/stepping-into-the-unknown-films-from-the-bob-dylan-center/
LOCATION:Bob Dylan Center\, 116 Reconciliation Way\, Tulsa\, OK\, 74103\, United States
END:VEVENT
BEGIN:VEVENT
DTSTART;TZID=America/Chicago:20241222T140000
DTEND;TZID=America/Chicago:20241222T163000
DTSTAMP:20260421T052336
CREATED:20241212T230458Z
LAST-MODIFIED:20241212T230501Z
UID:83802-1734876000-1734885000@thetulsaartsdistrict.org
SUMMARY:Brando Leone Memorial at The Hunt Club
DESCRIPTION:
URL:https://thetulsaartsdistrict.org/event/brando-leone-memorial-at-the-hunt-club/
LOCATION:The Hunt Club\, 224 N Main\, Tulsa\, OK\, 74103\, United States
END:VEVENT
BEGIN:VEVENT
DTSTART;TZID=America/Chicago:20241222T120000
DTEND;TZID=America/Chicago:20241222T140000
DTSTAMP:20260421T052336
CREATED:20241217T204407Z
LAST-MODIFIED:20241217T204409Z
UID:84243-1734868800-1734876000@thetulsaartsdistrict.org
SUMMARY:Champagne Brunch at Duet Restaurant
DESCRIPTION:
URL:https://thetulsaartsdistrict.org/event/champagne-brunch-at-duet-restaurant-2/
LOCATION:Duet Jazz Restaurant\, 108 N Detroit\, Tulsa\, OK\, 74103\, United States
END:VEVENT
BEGIN:VEVENT
DTSTART;TZID=America/Chicago:20241221T220000
DTEND;TZID=America/Chicago:20241222T010000
DTSTAMP:20260421T052336
CREATED:20241213T203954Z
LAST-MODIFIED:20241213T203956Z
UID:83835-1734818400-1734829200@thetulsaartsdistrict.org
SUMMARY:Vox Squadron at Soundpony
DESCRIPTION:
URL:https://thetulsaartsdistrict.org/event/vox-squadron-at-soundpony/
LOCATION:Soundpony\, 409 N Main\, Tulsa\, OK\, 74103\, United States
END:VEVENT
BEGIN:VEVENT
DTSTART;TZID=America/Chicago:20241221T213000
DTEND;TZID=America/Chicago:20241222T003000
DTSTAMP:20260421T052336
CREATED:20241212T230313Z
LAST-MODIFIED:20241212T230316Z
UID:83799-1734816600-1734827400@thetulsaartsdistrict.org
SUMMARY:Brandon Clark at The Hunt Club
DESCRIPTION:
URL:https://thetulsaartsdistrict.org/event/brandon-clark-at-the-hunt-club-14/
LOCATION:The Hunt Club\, 224 N Main\, Tulsa\, OK\, 74103\, United States
END:VEVENT
BEGIN:VEVENT
DTSTART;TZID=America/Chicago:20241221T200000
DTEND;TZID=America/Chicago:20241221T230000
DTSTAMP:20260421T052336
CREATED:20241213T221131Z
LAST-MODIFIED:20241213T221134Z
UID:83921-1734811200-1734822000@thetulsaartsdistrict.org
SUMMARY:*SOLD OUT* LowDown Presents: A Charlie Brown Christmas (Night 3) - 21+
DESCRIPTION:
URL:https://thetulsaartsdistrict.org/event/sold-out-lowdown-presents-a-charlie-brown-christmas-night-3-21/
LOCATION:LowDown\, 108 N Detroit Ave (Basement)\, Tulsa\, OK\, 74103\, United States
END:VEVENT
BEGIN:VEVENT
DTSTART;TZID=America/Chicago:20241221T190000
DTEND;TZID=America/Chicago:20241221T220000
DTSTAMP:20260421T052336
CREATED:20241212T002200Z
LAST-MODIFIED:20241212T002203Z
UID:83749-1734807600-1734818400@thetulsaartsdistrict.org
SUMMARY:Silverada + Joshua Ray Walker + Vandoliers at Cain's Ballroom
DESCRIPTION:
URL:https://thetulsaartsdistrict.org/event/silverada-joshua-ray-walker-vandoliers-at-cains-ballroom/
LOCATION:Cain’s Ballroom\, 423 N Main\, Tulsa\, OK\, 74103\, United States
END:VEVENT
BEGIN:VEVENT
DTSTART;TZID=America/Chicago:20241221T120000
DTEND;TZID=America/Chicago:20241221T220000
DTSTAMP:20260421T052336
CREATED:20241221T140409Z
LAST-MODIFIED:20241221T140411Z
UID:84498-1734782400-1734818400@thetulsaartsdistrict.org
SUMMARY:College Football at Elgin Park
DESCRIPTION:
URL:https://thetulsaartsdistrict.org/event/college-football-at-elgin-park/
LOCATION:Elgin Park Brewery\, 325 E Reconciliation Way\, Tulsa\, OK\, 74103\, United States
END:VEVENT
BEGIN:VEVENT
DTSTART;TZID=America/Chicago:20241221T100000
DTEND;TZID=America/Chicago:20241221T170000
DTSTAMP:20260421T052336
CREATED:20241213T214532Z
LAST-MODIFIED:20241217T161649Z
UID:83874-1734775200-1734800400@thetulsaartsdistrict.org
SUMMARY:Vintage Barbie Museum
DESCRIPTION:
URL:https://thetulsaartsdistrict.org/event/vintage-barbie-museum-2-2024-12-21/
LOCATION:Vintage Barbie Museum – Pop Up Shop\, 216 N Main Street\, Tulsa\, OK\, 74103\, United States
END:VEVENT
BEGIN:VEVENT
DTSTART;TZID=America/Chicago:20241220T220000
DTEND;TZID=America/Chicago:20241221T010000
DTSTAMP:20260421T052336
CREATED:20241213T203730Z
LAST-MODIFIED:20241213T203732Z
UID:83832-1734732000-1734742800@thetulsaartsdistrict.org
SUMMARY:House Vibes with DJ Jeff Haze at Soundpony
DESCRIPTION:
URL:https://thetulsaartsdistrict.org/event/house-vibes-with-dj-jeff-haze-at-soundpony/
LOCATION:Soundpony\, 409 N Main\, Tulsa\, OK\, 74103\, United States
END:VEVENT
BEGIN:VEVENT
DTSTART;TZID=America/Chicago:20241220T220000
DTEND;TZID=America/Chicago:20241221T010000
DTSTAMP:20260421T052336
CREATED:20241212T230129Z
LAST-MODIFIED:20241212T230132Z
UID:83796-1734732000-1734742800@thetulsaartsdistrict.org
SUMMARY:Hosty at The Hunt Club
DESCRIPTION:
URL:https://thetulsaartsdistrict.org/event/hosty-at-the-hunt-club-45/
LOCATION:The Hunt Club\, 224 N Main\, Tulsa\, OK\, 74103\, United States
END:VEVENT
BEGIN:VEVENT
DTSTART;TZID=America/Chicago:20241220T210000
DTEND;TZID=America/Chicago:20241221T013000
DTSTAMP:20260421T052336
CREATED:20211222T204122Z
LAST-MODIFIED:20241219T004213Z
UID:72093-1734728400-1734744600@thetulsaartsdistrict.org
SUMMARY:Feliz Navidad Escándalo! show at 9:15 + Hoe You Think You Can Dance! Contest at 12:30 am at Club Majestic
DESCRIPTION:
URL:https://thetulsaartsdistrict.org/event/hoe-you-think-you-can-dance-contest-at-club-majestic-at-1230-am-2-2023-06-23-2023-08-25-2024-12-20/
LOCATION:Club Majestic\, 124 N Boston\, Tulsa\, OK\, 74103\, United States
END:VEVENT
BEGIN:VEVENT
DTSTART;TZID=America/Chicago:20241220T200000
DTEND;TZID=America/Chicago:20241220T230000
DTSTAMP:20260421T052336
CREATED:20241213T220932Z
LAST-MODIFIED:20241213T221255Z
UID:83918-1734724800-1734735600@thetulsaartsdistrict.org
SUMMARY:LowDown Presents: A Charlie Brown Christmas (Night 2) - 21+
DESCRIPTION:
URL:https://thetulsaartsdistrict.org/event/lowdown-presents-a-charlie-brown-christmas-night-2/
LOCATION:LowDown\, 108 N Detroit Ave (Basement)\, Tulsa\, OK\, 74103\, United States
END:VEVENT
BEGIN:VEVENT
DTSTART;TZID=America/Chicago:20241220T180000
DTEND;TZID=America/Chicago:20241220T213000
DTSTAMP:20260421T052336
CREATED:20241212T001924Z
LAST-MODIFIED:20241212T001927Z
UID:83746-1734717600-1734730200@thetulsaartsdistrict.org
SUMMARY:Tovar’s Christmas at Cain’s Ballroom
DESCRIPTION:
URL:https://thetulsaartsdistrict.org/event/tovars-christmas-at-cains-ballroom/
LOCATION:Cain’s Ballroom\, 423 N Main\, Tulsa\, OK\, 74103\, United States
END:VEVENT
BEGIN:VEVENT
DTSTART;TZID=America/Chicago:20241220T080000
DTEND;TZID=America/Chicago:20241220T200000
DTSTAMP:20260421T052336
CREATED:20260311T022203Z
LAST-MODIFIED:20260311T022203Z
UID:114520-1734681600-1734724800@thetulsaartsdistrict.org
SUMMARY:“Life in Full Color” by Tracey Watkins\, Diva Den Paintings at Vast Bank Lobby - Free Gazing
DESCRIPTION:
URL:https://thetulsaartsdistrict.org/event/life-in-full-color-by-tracey-watkins-diva-den-paintings-at-vast-bank-lobby-free-gazing/2024-12-20/
LOCATION:Vast Bank\, 110 N. Elgin\, Tulsa\, OK\, 74103\, United States
END:VEVENT
BEGIN:VEVENT
DTSTART;TZID=America/Chicago:20241220T000000
DTEND;TZID=America/Chicago:20241220T235959
DTSTAMP:20260421T052336
CREATED:20241220T202601Z
LAST-MODIFIED:20241220T202626Z
UID:84307-1734652800-1734739199@thetulsaartsdistrict.org
SUMMARY:Merry Christmas from all the member businesses of Tulsa Arts District Business Association
DESCRIPTION:
URL:https://thetulsaartsdistrict.org/event/merry-christmas-from-all-the-member-businesses-of-tulsa-arts-district-business-association/
LOCATION:Tulsa Arts District Business Association\, 7 E Reconciliation Way\, Tulsa\, OK\, 74103\, United States
END:VEVENT
END:VCALENDAR