BEGIN:VCALENDAR
VERSION:2.0
PRODID:-//Tulsa Arts District - ECPv6.15.20//NONSGML v1.0//EN
CALSCALE:GREGORIAN
METHOD:PUBLISH
X-WR-CALNAME:Tulsa Arts District
X-ORIGINAL-URL:https://thetulsaartsdistrict.org
X-WR-CALDESC:Events for Tulsa Arts District
REFRESH-INTERVAL;VALUE=DURATION:PT1H
X-Robots-Tag:noindex
X-PUBLISHED-TTL:PT1H
BEGIN:VTIMEZONE
TZID:America/Chicago
BEGIN:DAYLIGHT
TZOFFSETFROM:-0600
TZOFFSETTO:-0500
TZNAME:CDT
DTSTART:20250309T080000
END:DAYLIGHT
BEGIN:STANDARD
TZOFFSETFROM:-0500
TZOFFSETTO:-0600
TZNAME:CST
DTSTART:20251102T070000
END:STANDARD
BEGIN:DAYLIGHT
TZOFFSETFROM:-0600
TZOFFSETTO:-0500
TZNAME:CDT
DTSTART:20260308T080000
END:DAYLIGHT
BEGIN:STANDARD
TZOFFSETFROM:-0500
TZOFFSETTO:-0600
TZNAME:CST
DTSTART:20261101T070000
END:STANDARD
BEGIN:DAYLIGHT
TZOFFSETFROM:-0600
TZOFFSETTO:-0500
TZNAME:CDT
DTSTART:20270314T080000
END:DAYLIGHT
BEGIN:STANDARD
TZOFFSETFROM:-0500
TZOFFSETTO:-0600
TZNAME:CST
DTSTART:20271107T070000
END:STANDARD
END:VTIMEZONE
BEGIN:VEVENT
DTSTART;TZID=America/Chicago:20260225T200000
DTEND;TZID=America/Chicago:20260225T210000
DTSTAMP:20260425T084912
CREATED:20250622T214639Z
LAST-MODIFIED:20250622T214639Z
UID:101400-1772049600-1772053200@thetulsaartsdistrict.org
SUMMARY:Open Mic Comedy Night at The Hunt Club – sign up at 8 – show at 8:30
DESCRIPTION:
URL:https://thetulsaartsdistrict.org/event/open-mic-comedy-night-at-the-hunt-club-sign-up-at-8-show-at-830-2025-12-03/2026-02-25/
LOCATION:The Hunt Club\, 224 N Main\, Tulsa\, OK\, 74103\, United States
END:VEVENT
BEGIN:VEVENT
DTSTART;TZID=America/Chicago:20260225T190000
DTEND;TZID=America/Chicago:20260225T203000
DTSTAMP:20260425T084912
CREATED:20241229T181950Z
LAST-MODIFIED:20241229T181950Z
UID:103065-1772046000-1772051400@thetulsaartsdistrict.org
SUMMARY:Velvet Chair Poetry Night at Gypsy Coffeehouse & Cyber Cafe
DESCRIPTION:
URL:https://thetulsaartsdistrict.org/event/velvet-chair-poetry-night-at-gypsy-coffeehouse-cyber-cafe-2025-06-25-2025-12-17/2026-02-25/
LOCATION:Gypsy Coffee House & Cyber Café\, 303 N ML King Blvd\, Tulsa\, OK\, 74103\, United States
END:VEVENT
BEGIN:VEVENT
DTSTART;TZID=America/Chicago:20260225T190000
DTEND;TZID=America/Chicago:20260225T200000
DTSTAMP:20260425T084912
CREATED:20260215T223429Z
LAST-MODIFIED:20260215T223429Z
UID:106897-1772046000-1772049600@thetulsaartsdistrict.org
SUMMARY:BITCH 'N STITCH CRAFT NIGHT! at Soundpony
DESCRIPTION:
URL:https://thetulsaartsdistrict.org/event/bitch-n-stitch-craft-night-at-soundpony/2026-02-25/
LOCATION:Soundpony\, 409 N Main\, Tulsa\, OK\, 74103\, United States
END:VEVENT
BEGIN:VEVENT
DTSTART;TZID=America/Chicago:20260225T183000
DTEND;TZID=America/Chicago:20260225T203000
DTSTAMP:20260425T084912
CREATED:20260219T194308Z
LAST-MODIFIED:20260219T194404Z
UID:106944-1772044200-1772051400@thetulsaartsdistrict.org
SUMMARY:South American Wine Dinner at Duet Restaurant
DESCRIPTION:Speaker-John Williams from Premium Brands
URL:https://thetulsaartsdistrict.org/event/south-american-wine-dinner-at-duet-restaurant-6/
LOCATION:Duet Jazz Restaurant\, 108 N Detroit\, Tulsa\, OK\, 74103\, United States
END:VEVENT
BEGIN:VEVENT
DTSTART;TZID=America/Chicago:20260225T180000
DTEND;TZID=America/Chicago:20260225T203000
DTSTAMP:20260425T084912
CREATED:20260114T162440Z
LAST-MODIFIED:20260114T162442Z
UID:105340-1772042400-1772051400@thetulsaartsdistrict.org
SUMMARY:Dropkick Murphys with special guest The Aggrolites\, Haywire at Cain's Ballroom
DESCRIPTION:
URL:https://thetulsaartsdistrict.org/event/dropkick-murphys-with-special-guest-the-aggrolites-haywire-at-cains-ballroom/
LOCATION:Cain’s Ballroom\, 423 N Main\, Tulsa\, OK\, 74103\, United States
END:VEVENT
BEGIN:VEVENT
DTSTART;TZID=America/Chicago:20260225T180000
DTEND;TZID=America/Chicago:20260225T200000
DTSTAMP:20260425T084912
CREATED:20260221T145126Z
LAST-MODIFIED:20260221T145130Z
UID:107050-1772042400-1772049600@thetulsaartsdistrict.org
SUMMARY:Thunder Bar Network Watch Party at Elgin Park - OKC Thunder vs Detroit Pistons
DESCRIPTION:
URL:https://thetulsaartsdistrict.org/event/thunder-bar-network-watch-party-at-elgin-park-okc-thunder-vs-detroit-pistons/
LOCATION:Elgin Park Brewery\, 325 E Reconciliation Way\, Tulsa\, OK\, 74103\, United States
END:VEVENT
BEGIN:VEVENT
DTSTART;TZID=America/Chicago:20260225T170000
DTEND;TZID=America/Chicago:20260225T220000
DTSTAMP:20260425T084912
CREATED:20191229T191336Z
LAST-MODIFIED:20191229T191336Z
UID:101541-1772038800-1772056800@thetulsaartsdistrict.org
SUMMARY:Winesday! at The TAVERN
DESCRIPTION:
URL:https://thetulsaartsdistrict.org/event/winesday-at-the-tavern-2020-05-27-2024-06-26-2024-12-18-2024-12-18-2025-06-25-2025-11-26/2026-02-25/
LOCATION:The Tavern\, 201 N Main\, Tulsa\, OK\, 74103\, United States
END:VEVENT
BEGIN:VEVENT
DTSTART;TZID=America/Chicago:20260225T170000
DTEND;TZID=America/Chicago:20260225T210000
DTSTAMP:20260425T084912
CREATED:20250621T170632Z
LAST-MODIFIED:20250621T170632Z
UID:102294-1772038800-1772053200@thetulsaartsdistrict.org
SUMMARY:Kids Eat Free!!!! with purchase of an adult entre at The Chowhouse
DESCRIPTION:
URL:https://thetulsaartsdistrict.org/event/kids-eat-free-with-purchase-of-an-adult-entre-at-the-chowhouse-3-2025-12-10/2026-02-25/
LOCATION:The Chowhouse\, 18 E Reconciliation Way\, Tulsa\, OK\, 74103\, United States
END:VEVENT
BEGIN:VEVENT
DTSTART;TZID=America/Chicago:20260225T170000
DTEND;TZID=America/Chicago:20260225T210000
DTSTAMP:20260425T084912
CREATED:20250621T163955Z
LAST-MODIFIED:20250621T163955Z
UID:103303-1772038800-1772053200@thetulsaartsdistrict.org
SUMMARY:Wing Wednesday – Half Price Traditional Wings at Elgin Park
DESCRIPTION:
URL:https://thetulsaartsdistrict.org/event/wing-wednesday-half-price-traditional-wings-at-elgin-park-2025-12-17/2026-02-25/
LOCATION:Elgin Park Brewery\, 325 E Reconciliation Way\, Tulsa\, OK\, 74103\, United States
END:VEVENT
BEGIN:VEVENT
DTSTART;TZID=America/Chicago:20260225T160000
DTEND;TZID=America/Chicago:20260225T233000
DTSTAMP:20260425T084912
CREATED:20241201T163945Z
LAST-MODIFIED:20241201T163945Z
UID:102089-1772035200-1772062200@thetulsaartsdistrict.org
SUMMARY:White Claws and PBR Tallboys at Hunt Club
DESCRIPTION:
URL:https://thetulsaartsdistrict.org/event/white-claws-and-pbr-tallboys-at-hunt-club-2024-12-18-2025-06-25-2025-12-17/2026-02-25/
LOCATION:The Hunt Club\, 224 N Main\, Tulsa\, OK\, 74103\, United States
END:VEVENT
BEGIN:VEVENT
DTSTART;TZID=America/Chicago:20260225T160000
DTEND;TZID=America/Chicago:20260225T180000
DTSTAMP:20260425T084912
CREATED:20260116T161515Z
LAST-MODIFIED:20260124T184213Z
UID:105696-1772035200-1772042400@thetulsaartsdistrict.org
SUMMARY:French Hen Happy Hour 
DESCRIPTION:
URL:https://thetulsaartsdistrict.org/event/french-hen-happy-hour/2026-02-25/
LOCATION:The French Hen\, 319 E Archer St\, Tulsa\, OK\, 74120\, United States
END:VEVENT
BEGIN:VEVENT
DTSTART;TZID=America/Chicago:20260225T160000
DTEND;TZID=America/Chicago:20260225T180000
DTSTAMP:20260425T084912
CREATED:20250622T145605Z
LAST-MODIFIED:20250622T145605Z
UID:104646-1772035200-1772042400@thetulsaartsdistrict.org
SUMMARY:Happy Hour at PRHYME Bar
DESCRIPTION:
URL:https://thetulsaartsdistrict.org/event/summer-happy-hour-at-prhyme-2025-08-22/2026-02-25/
LOCATION:PRHYME: Downtown Steakhouse\, 111 N Main Suite A\, Tulsa\, OK\, 74103\, United States
END:VEVENT
BEGIN:VEVENT
DTSTART;TZID=America/Chicago:20260225T150000
DTEND;TZID=America/Chicago:20260225T180000
DTSTAMP:20260425T084912
CREATED:20251226T223854Z
LAST-MODIFIED:20251226T223854Z
UID:103345-1772031600-1772042400@thetulsaartsdistrict.org
SUMMARY:En Fuego Happy Hour
DESCRIPTION:
URL:https://thetulsaartsdistrict.org/event/en-fuego-happy-hour/2026-02-25/
LOCATION:OK
END:VEVENT
BEGIN:VEVENT
DTSTART;TZID=America/Chicago:20260225T150000
DTEND;TZID=America/Chicago:20260225T180000
DTSTAMP:20260425T084912
CREATED:20250831T145807Z
LAST-MODIFIED:20260124T160958Z
UID:102176-1772031600-1772042400@thetulsaartsdistrict.org
SUMMARY:Happy hour includes drinks and appetizers at Misfit Kitchen
DESCRIPTION:Tue-Sat 3-6
URL:https://thetulsaartsdistrict.org/event/happy-hour-includes-drinks-and-appetizers-at-misfit-kitchen-2025-12-30/2026-02-25/
LOCATION:Misfit Kitchen\, 111 N Main Street\, Tulsa\, OK\, 74103\, United States
END:VEVENT
BEGIN:VEVENT
DTSTART;TZID=America/Chicago:20260225T150000
DTEND;TZID=America/Chicago:20260225T180000
DTSTAMP:20260425T084912
CREATED:20250621T220636Z
LAST-MODIFIED:20260123T225021Z
UID:103456-1772031600-1772042400@thetulsaartsdistrict.org
SUMMARY:Happy Hour at En Fuego
DESCRIPTION:
URL:https://thetulsaartsdistrict.org/event/happy-hour-at-en-fuego-3-2025-12-31/2026-02-25/
LOCATION:En Fuego\, 229 N Luther King Jr. Blvd\, Tulsa\, OK\, 74103\, United States
END:VEVENT
BEGIN:VEVENT
DTSTART;TZID=America/Chicago:20260225T150000
DTEND;TZID=America/Chicago:20260225T180000
DTSTAMP:20260425T084912
CREATED:20250109T232936Z
LAST-MODIFIED:20260103T232949Z
UID:102415-1772031600-1772042400@thetulsaartsdistrict.org
SUMMARY:Happy Hour at Caz's Pub
DESCRIPTION:
URL:https://thetulsaartsdistrict.org/event/happy-hour-with-free-pool-at-cazs-pub-2025-06-30-2025-12-30/2026-02-25/
LOCATION:Caz’s Pub\, 21 E Reconciliation Way\, Tulsa\, OK\, 74103\, United States
END:VEVENT
BEGIN:VEVENT
DTSTART;TZID=America/Chicago:20260225T150000
DTEND;TZID=America/Chicago:20260225T180000
DTSTAMP:20260425T084912
CREATED:20240104T213250Z
LAST-MODIFIED:20260111T222231Z
UID:100982-1772031600-1772042400@thetulsaartsdistrict.org
SUMMARY:Happy Hour at Cabin Boys Brewpub
DESCRIPTION:Every Tues-Fri from 3-6pm we feature: $5 Draft Beer
URL:https://thetulsaartsdistrict.org/event/happy-hour-at-cabin-boys-brewpub-2024-07-25-2024-11-01-2025-09-19-2025-11-26/2026-02-25/
LOCATION:Cabin Boys Brewpub\, 223 N Main\, Tulsa\, OK\, 74103
END:VEVENT
BEGIN:VEVENT
DTSTART;TZID=America/Chicago:20260225T150000
DTEND;TZID=America/Chicago:20260225T170000
DTSTAMP:20260425T084912
CREATED:20240911T225703Z
LAST-MODIFIED:20240911T225703Z
UID:105105-1772031600-1772038800@thetulsaartsdistrict.org
SUMMARY:Happy Hour at in the raw vū
DESCRIPTION:
URL:https://thetulsaartsdistrict.org/event/happy-hour-at-in-the-raw-vu-2024-12-19-2025-06-30/2026-02-25/
LOCATION:in the raw vū\, 110 N Elgin Ave.\, Tulsa\, OK\, 74120\, United States
END:VEVENT
BEGIN:VEVENT
DTSTART;TZID=America/Chicago:20260225T140000
DTEND;TZID=America/Chicago:20260225T180000
DTSTAMP:20260425T084912
CREATED:20250621T171310Z
LAST-MODIFIED:20250621T171310Z
UID:102336-1772028000-1772042400@thetulsaartsdistrict.org
SUMMARY:Happy Hour\, 2-6pm! $2 off glass of wine / $4 off bottle of wine! $3.50 mules AND 1/2 price apps with any bar purchase! at The Chowhouse
DESCRIPTION:
URL:https://thetulsaartsdistrict.org/event/happy-hour-2-6pm-2-off-glass-of-wine-4-off-bottle-of-wine-3-50-mules-and-1-2-price-apps-with-any-bar-purchase-at-the-chowhouse-3-2025-12-26/2026-02-25/
LOCATION:The Chowhouse\, 18 E Reconciliation Way\, Tulsa\, OK\, 74103\, United States
END:VEVENT
BEGIN:VEVENT
DTSTART;TZID=America/Chicago:20260225T120000
DTEND;TZID=America/Chicago:20260225T170000
DTSTAMP:20260425T084912
CREATED:20260114T183407Z
LAST-MODIFIED:20260114T183941Z
UID:105379-1772020800-1772038800@thetulsaartsdistrict.org
SUMMARY:Alicia Kelly: Roughly Right at 108 Contemporary
DESCRIPTION:
URL:https://thetulsaartsdistrict.org/event/alicia-kelly-roughly-right-at-108-contemporary-2026-02-07/2026-02-25/
LOCATION:108 Contemporary\, 108 E Reconciliation Way\, Tulsa\, OK\, 74103\, United States
END:VEVENT
BEGIN:VEVENT
DTSTART;TZID=America/Chicago:20260225T120000
DTEND;TZID=America/Chicago:20260225T170000
DTSTAMP:20260425T084912
CREATED:20251217T214556Z
LAST-MODIFIED:20260205T232632Z
UID:101698-1772020800-1772038800@thetulsaartsdistrict.org
SUMMARY:“American Myth” curated by students at the University of Tulsa + "Faces of the Mother Road: The Lost Portraits of S.J. Tyler" presented by Adam Forgash - Oklahoma Center for the Humanities - Free Admission
DESCRIPTION:
URL:https://thetulsaartsdistrict.org/event/faces-of-the-mother-road-the-lost-portraits-of-s-j-tyler-at-oklahoma-center-for-the-humanities-free-admission-2026-01-03-2026-02-07/2026-02-25/
LOCATION:Oklahoma Center for the Humanities – 101 E Archer\, 101 E Archer St\, Tulsa\, OK\, 74103
END:VEVENT
BEGIN:VEVENT
DTSTART;TZID=America/Chicago:20260225T120000
DTEND;TZID=America/Chicago:20260225T160000
DTSTAMP:20260425T084912
CREATED:20260114T221514Z
LAST-MODIFIED:20260114T224446Z
UID:105463-1772020800-1772035200@thetulsaartsdistrict.org
SUMMARY:The Champagne & Chocolate Member Showcase at Living Arts
DESCRIPTION:
URL:https://thetulsaartsdistrict.org/event/the-champagne-chocolate-member-showcase-at-living-arts-2-2026-02-07/2026-02-25/
LOCATION:Living Arts of Tulsa\, 307 E. Reconciliation Way.\, Tulsa\, OK\, 74120\, United States
END:VEVENT
BEGIN:VEVENT
DTSTART;TZID=America/Chicago:20260225T120000
DTEND;TZID=America/Chicago:20260225T133000
DTSTAMP:20260425T084912
CREATED:20260207T223000Z
LAST-MODIFIED:20260207T223002Z
UID:106793-1772020800-1772026200@thetulsaartsdistrict.org
SUMMARY:Build Where You Stand: Hyper-Local Strategy for Early-Stage Founders at Gradient
DESCRIPTION:
URL:https://thetulsaartsdistrict.org/event/build-where-you-stand-hyper-local-strategy-for-early-stage-founders-at-gradient/
LOCATION:Gradient Innovation Hub\, 12 N Cheyenne Ave\, Tulsa\, OK\, 74103\, United States
END:VEVENT
BEGIN:VEVENT
DTSTART;TZID=America/Chicago:20260225T110000
DTEND;TZID=America/Chicago:20260225T140000
DTSTAMP:20260425T084912
CREATED:20250621T164628Z
LAST-MODIFIED:20250621T164628Z
UID:102584-1772017200-1772028000@thetulsaartsdistrict.org
SUMMARY:Lunch Special at Empire Slice House
DESCRIPTION:
URL:https://thetulsaartsdistrict.org/event/lunch-special-at-empire-slice-house-2025-12-30/2026-02-25/
LOCATION:Empire Slice House Tulsa / 84 Hospitality Group\, 417 N Main Street\, Tulsa\, OK\, 74103\, United States
END:VEVENT
BEGIN:VEVENT
DTSTART;TZID=America/Chicago:20260225T110000
DTEND;TZID=America/Chicago:20260225T140000
DTSTAMP:20260425T084912
CREATED:20250621T162437Z
LAST-MODIFIED:20250621T162437Z
UID:102744-1772017200-1772028000@thetulsaartsdistrict.org
SUMMARY:Lunch Specials at Elgin Park
DESCRIPTION:
URL:https://thetulsaartsdistrict.org/event/lunch-specials-at-elgin-park-2-2025-12-30/2026-02-25/
LOCATION:Elgin Park Brewery\, 325 E Reconciliation Way\, Tulsa\, OK\, 74103\, United States
END:VEVENT
BEGIN:VEVENT
DTSTART;TZID=America/Chicago:20260225T100000
DTEND;TZID=America/Chicago:20260225T180000
DTSTAMP:20260425T084912
CREATED:20250821T180736Z
LAST-MODIFIED:20260220T003136Z
UID:106953-1772013600-1772042400@thetulsaartsdistrict.org
SUMMARY:“Burning Flags\,” a powerful exhibition by Glen E. Friedman\,“ + "The Melody of Riot: Jay Farrar\, Son Volt\, and the Legacy of Woody Guthrie\,” at Woody Guthrie Center
DESCRIPTION:
URL:https://thetulsaartsdistrict.org/event/burning-flags-a-powerful-exhibition-by-glen-e-friedman-the-melody-of-riot-jay-farrar-son-volt-and-the-legacy-of-woody-guthrie-at-woody-guthrie-cente-2025-11-02-2026-02-15/2026-02-25/
LOCATION:Woody Guthrie Center\, 102 E Reconciliation Way\, Tulsa\, OK\, 74103\, United States
END:VEVENT
BEGIN:VEVENT
DTSTART;TZID=America/Chicago:20260225T100000
DTEND;TZID=America/Chicago:20260225T180000
DTSTAMP:20260425T084912
CREATED:20250620T211937Z
LAST-MODIFIED:20260325T222955Z
UID:101853-1772013600-1772042400@thetulsaartsdistrict.org
SUMMARY:“Going Electric: Bob Dylan ’65” at Bob Dylan Center
DESCRIPTION:
URL:https://thetulsaartsdistrict.org/event/stepping-into-the-unknown-at-bob-dylan-center-2025-07-24-2025-08-20-2025-08-27-2025-10-15-2025-10-31/2026-02-25/
LOCATION:Bob Dylan Center\, 116 Reconciliation Way\, Tulsa\, OK\, 74103\, United States
END:VEVENT
BEGIN:VEVENT
DTSTART;TZID=America/Chicago:20260225T093000
DTEND;TZID=America/Chicago:20260225T103000
DTSTAMP:20260425T084912
CREATED:20260207T222612Z
LAST-MODIFIED:20260207T222614Z
UID:106790-1772011800-1772015400@thetulsaartsdistrict.org
SUMMARY:Neighborhood Breakfast at Gradient
DESCRIPTION:
URL:https://thetulsaartsdistrict.org/event/neighborhood-breakfast-at-gradient-4/
LOCATION:Gradient Innovation Hub\, 12 N Cheyenne Ave\, Tulsa\, OK\, 74103\, United States
END:VEVENT
BEGIN:VEVENT
DTSTART;TZID=America/Chicago:20260225T080000
DTEND;TZID=America/Chicago:20260225T233000
DTSTAMP:20260425T084912
CREATED:20230119T143844Z
LAST-MODIFIED:20230119T143844Z
UID:105515-1772006400-1772062200@thetulsaartsdistrict.org
SUMMARY:Every Wednesday is Veteran's Day at Gypsy Coffeehouse
DESCRIPTION:All veterans receive 20% off their entire purchase.
URL:https://thetulsaartsdistrict.org/event/every-wednesday-is-veterans-day-at-eufloria-2023-12-27-2024-06-26/2026-02-25/
LOCATION:Gypsy Coffee House & Cyber Café\, 303 N ML King Blvd\, Tulsa\, OK\, 74103\, United States
END:VEVENT
BEGIN:VEVENT
DTSTART;TZID=America/Chicago:20260225T073000
DTEND;TZID=America/Chicago:20260225T230000
DTSTAMP:20260425T084912
CREATED:20260130T202451Z
LAST-MODIFIED:20260130T202451Z
UID:114917-1772004600-1772060400@thetulsaartsdistrict.org
SUMMARY:Scraps Designs presents\, A Collection of Abstract Works at Vast Bank Lobby
DESCRIPTION:Abstract Works featuring work by Rebecca Blood\, Juni Peraza\, Jamie Pierson\, Candacee White and May Yang
URL:https://thetulsaartsdistrict.org/event/scraps-designs-presents-a-collection-of-abstract-works-at-vast-bank-lobby/2026-02-25/
LOCATION:Vast Bank\, 110 N. Elgin\, Tulsa\, OK\, 74103\, United States
END:VEVENT
END:VCALENDAR