BEGIN:VCALENDAR
VERSION:2.0
PRODID:-//Tulsa Arts District - ECPv6.15.20//NONSGML v1.0//EN
CALSCALE:GREGORIAN
METHOD:PUBLISH
X-ORIGINAL-URL:https://thetulsaartsdistrict.org
X-WR-CALDESC:Events for Tulsa Arts District
REFRESH-INTERVAL;VALUE=DURATION:PT1H
X-Robots-Tag:noindex
X-PUBLISHED-TTL:PT1H
BEGIN:VTIMEZONE
TZID:America/Chicago
BEGIN:DAYLIGHT
TZOFFSETFROM:-0600
TZOFFSETTO:-0500
TZNAME:CDT
DTSTART:20250309T080000
END:DAYLIGHT
BEGIN:STANDARD
TZOFFSETFROM:-0500
TZOFFSETTO:-0600
TZNAME:CST
DTSTART:20251102T070000
END:STANDARD
BEGIN:DAYLIGHT
TZOFFSETFROM:-0600
TZOFFSETTO:-0500
TZNAME:CDT
DTSTART:20260308T080000
END:DAYLIGHT
BEGIN:STANDARD
TZOFFSETFROM:-0500
TZOFFSETTO:-0600
TZNAME:CST
DTSTART:20261101T070000
END:STANDARD
BEGIN:DAYLIGHT
TZOFFSETFROM:-0600
TZOFFSETTO:-0500
TZNAME:CDT
DTSTART:20270314T080000
END:DAYLIGHT
BEGIN:STANDARD
TZOFFSETFROM:-0500
TZOFFSETTO:-0600
TZNAME:CST
DTSTART:20271107T070000
END:STANDARD
END:VTIMEZONE
BEGIN:VEVENT
DTSTART;TZID=America/Chicago:20260324T160000
DTEND;TZID=America/Chicago:20260324T220000
DTSTAMP:20260425T072018
CREATED:20240826T202954Z
LAST-MODIFIED:20240826T202954Z
UID:102065-1774368000-1774389600@thetulsaartsdistrict.org
SUMMARY:Taco Tuesday Special at The Hunt Club
DESCRIPTION:
URL:https://thetulsaartsdistrict.org/event/taco-tuesday-special-at-the-hunt-club-2024-12-17-2024-12-24-2025-05-20-2025-06-24-2025-12-30/2026-03-24/
LOCATION:The Hunt Club\, 224 N Main\, Tulsa\, OK\, 74103\, United States
END:VEVENT
BEGIN:VEVENT
DTSTART;TZID=America/Chicago:20260324T170000
DTEND;TZID=America/Chicago:20260324T193000
DTSTAMP:20260425T072018
CREATED:20260313T140718Z
LAST-MODIFIED:20260313T140721Z
UID:114970-1774371600-1774380600@thetulsaartsdistrict.org
SUMMARY:Startup Grind at Gradient
DESCRIPTION:
URL:https://thetulsaartsdistrict.org/event/startup-grind-at-gradient-5/
LOCATION:Gradient Innovation Hub\, 12 N Cheyenne Ave\, Tulsa\, OK\, 74103\, United States
END:VEVENT
BEGIN:VEVENT
DTSTART;TZID=America/Chicago:20260324T173000
DTEND;TZID=America/Chicago:20260324T183000
DTSTAMP:20260425T072018
CREATED:20260323T152602Z
LAST-MODIFIED:20260323T152605Z
UID:115356-1774373400-1774377000@thetulsaartsdistrict.org
SUMMARY:Tulsa Read and Lead Happy Hour Hosted by Chicks in Charge at French Hen
DESCRIPTION:
URL:https://thetulsaartsdistrict.org/event/tulsa-read-and-lead-happy-hour-hosted-by-chicks-in-charge-at-french-hen/
LOCATION:The French Hen\, 319 E Archer St\, Tulsa\, OK\, 74120\, United States
END:VEVENT
BEGIN:VEVENT
DTSTART;TZID=America/Chicago:20260324T180000
DTEND;TZID=America/Chicago:20260324T190000
DTSTAMP:20260425T072018
CREATED:20251228T145513Z
LAST-MODIFIED:20251228T145513Z
UID:103838-1774375200-1774378800@thetulsaartsdistrict.org
SUMMARY:Crime Time Book Club at Magic City Books
DESCRIPTION:
URL:https://thetulsaartsdistrict.org/event/crime-time-book-club-at-magic-city-books-2/2026-03-24/
LOCATION:Magic City Books\, 221 E Archer\, Tulsa\, OK\, 74103\, United States
END:VEVENT
BEGIN:VEVENT
DTSTART;TZID=America/Chicago:20260324T180000
DTEND;TZID=America/Chicago:20260324T210000
DTSTAMP:20260425T072018
CREATED:20201219T214018Z
LAST-MODIFIED:20201219T214018Z
UID:104571-1774375200-1774386000@thetulsaartsdistrict.org
SUMMARY:Jerk Chicken Special at Sisserou's Restaurant
DESCRIPTION:
URL:https://thetulsaartsdistrict.org/event/jerk-chicken-special-at-sisserous-restaurant-2021-11-23-2022-10-25-2023-12-26-2024-06-25-2024-12-17-2025-06-24/2026-03-24/
LOCATION:Sisserou’s Restaurant\, 107 N Boulder\, Tulsa\, OK\, 74103\, United States
END:VEVENT
BEGIN:VEVENT
DTSTART;TZID=America/Chicago:20260324T183000
DTEND;TZID=America/Chicago:20260324T200000
DTSTAMP:20260425T072018
CREATED:20241229T181418Z
LAST-MODIFIED:20241229T181418Z
UID:103097-1774377000-1774382400@thetulsaartsdistrict.org
SUMMARY:Open Mic Night at Gypsy Coffeehouse and Cyber Cafe - Sign-up 6:30 pm - First Artist at 7
DESCRIPTION:
URL:https://thetulsaartsdistrict.org/event/open-mic-night-at-gypsy-coffeehouse-and-cyber-cafe-sign-up-630-pm-first-artist-at-7-2025-06-24-2025-12-16/2026-03-24/
LOCATION:Gypsy Coffee House & Cyber Café\, 303 N ML King Blvd\, Tulsa\, OK\, 74103\, United States
END:VEVENT
BEGIN:VEVENT
DTSTART;TZID=America/Chicago:20260324T183000
DTEND;TZID=America/Chicago:20260324T210000
DTSTAMP:20260425T072018
CREATED:20260222T202842Z
LAST-MODIFIED:20260222T202845Z
UID:107151-1774377000-1774386000@thetulsaartsdistrict.org
SUMMARY:St. Paul & The Broken Bones with Tyler Ballgame at Cain's Ballroom
DESCRIPTION:
URL:https://thetulsaartsdistrict.org/event/st-paul-the-broken-bones-with-tyler-ballgame-at-cains-ballroom/
LOCATION:Cain’s Ballroom\, 423 N Main\, Tulsa\, OK\, 74103\, United States
END:VEVENT
BEGIN:VEVENT
DTSTART;TZID=America/Chicago:20260324T200000
DTEND;TZID=America/Chicago:20260324T220000
DTSTAMP:20260425T072018
CREATED:20260301T210132Z
LAST-MODIFIED:20260301T210135Z
UID:110627-1774382400-1774389600@thetulsaartsdistrict.org
SUMMARY:Stay Gold Film Fest Pre Screening at The Hunt Club
DESCRIPTION:
URL:https://thetulsaartsdistrict.org/event/stay-gold-film-fest-pre-screening-at-the-hunt-club/
LOCATION:The Hunt Club\, 224 N Main\, Tulsa\, OK\, 74103\, United States
END:VEVENT
BEGIN:VEVENT
DTSTART;TZID=America/Chicago:20260324T210000
DTEND;TZID=America/Chicago:20260324T230000
DTSTAMP:20260425T072018
CREATED:20251223T161420Z
LAST-MODIFIED:20251223T161420Z
UID:115768-1774386000-1774393200@thetulsaartsdistrict.org
SUMMARY:FA Tuesdays with JP at The Hunt Club
DESCRIPTION:
URL:https://thetulsaartsdistrict.org/event/fa-tuesdays-with-jp-at-the-hunt-club-2026-01-27/2026-03-24/
LOCATION:The Hunt Club\, 224 N Main\, Tulsa\, OK\, 74103\, United States
END:VEVENT
BEGIN:VEVENT
DTSTART;TZID=America/Chicago:20260324T210000
DTEND;TZID=America/Chicago:20260324T230000
DTSTAMP:20260425T072018
CREATED:20251223T161420Z
LAST-MODIFIED:20260323T223424Z
UID:106858-1774386000-1774393200@thetulsaartsdistrict.org
SUMMARY:FA Tuesdays with JP at The Hunt Club
DESCRIPTION:
URL:https://thetulsaartsdistrict.org/event/fa-tuesdays-with-jp-at-the-hunt-club-2026-01-27-2026-03-24/
LOCATION:The Hunt Club\, 224 N Main\, Tulsa\, OK\, 74103\, United States
END:VEVENT
BEGIN:VEVENT
DTSTART;TZID=America/Chicago:20260325T070000
DTEND;TZID=America/Chicago:20260325T160000
DTSTAMP:20260425T072018
CREATED:20260308T130809Z
LAST-MODIFIED:20260308T131241Z
UID:112858-1774422000-1774454400@thetulsaartsdistrict.org
SUMMARY:Paintings by LAURYL EDDLEMON at Chimera
DESCRIPTION:
URL:https://thetulsaartsdistrict.org/event/paintings-by-lauryl-eddlemon-at-chimera/2026-03-25/
LOCATION:Chimera Café\, 212 N Main\, Tulsa\, OK\, 74103\, United States
END:VEVENT
BEGIN:VEVENT
DTSTART;TZID=America/Chicago:20260325T073000
DTEND;TZID=America/Chicago:20260325T230000
DTSTAMP:20260425T072018
CREATED:20260130T202451Z
LAST-MODIFIED:20260130T202451Z
UID:114945-1774423800-1774479600@thetulsaartsdistrict.org
SUMMARY:Scraps Designs presents\, A Collection of Abstract Works at Vast Bank Lobby
DESCRIPTION:Abstract Works featuring work by Rebecca Blood\, Juni Peraza\, Jamie Pierson\, Candacee White and May Yang
URL:https://thetulsaartsdistrict.org/event/scraps-designs-presents-a-collection-of-abstract-works-at-vast-bank-lobby/2026-03-25/
LOCATION:Vast Bank\, 110 N. Elgin\, Tulsa\, OK\, 74103\, United States
END:VEVENT
BEGIN:VEVENT
DTSTART;TZID=America/Chicago:20260325T080000
DTEND;TZID=America/Chicago:20260325T233000
DTSTAMP:20260425T072018
CREATED:20230119T143844Z
LAST-MODIFIED:20230119T143844Z
UID:105519-1774425600-1774481400@thetulsaartsdistrict.org
SUMMARY:Every Wednesday is Veteran's Day at Gypsy Coffeehouse
DESCRIPTION:All veterans receive 20% off their entire purchase.
URL:https://thetulsaartsdistrict.org/event/every-wednesday-is-veterans-day-at-eufloria-2023-12-27-2024-06-26/2026-03-25/
LOCATION:Gypsy Coffee House & Cyber Café\, 303 N ML King Blvd\, Tulsa\, OK\, 74103\, United States
END:VEVENT
BEGIN:VEVENT
DTSTART;TZID=America/Chicago:20260325T093000
DTEND;TZID=America/Chicago:20260325T103000
DTSTAMP:20260425T072018
CREATED:20260228T171436Z
LAST-MODIFIED:20260228T171438Z
UID:110556-1774431000-1774434600@thetulsaartsdistrict.org
SUMMARY:Neighborhood Breakfast at Gradient
DESCRIPTION:
URL:https://thetulsaartsdistrict.org/event/neighborhood-breakfast-at-gradient-5/
LOCATION:Gradient Innovation Hub\, 12 N Cheyenne Ave\, Tulsa\, OK\, 74103\, United States
END:VEVENT
BEGIN:VEVENT
DTSTART;TZID=America/Chicago:20260325T100000
DTEND;TZID=America/Chicago:20260325T180000
DTSTAMP:20260425T072018
CREATED:20250620T211937Z
LAST-MODIFIED:20260325T223014Z
UID:101873-1774432800-1774461600@thetulsaartsdistrict.org
SUMMARY:“Going Electric: Bob Dylan ’65” at Bob Dylan Center
DESCRIPTION:
URL:https://thetulsaartsdistrict.org/event/stepping-into-the-unknown-at-bob-dylan-center-2025-07-24-2025-08-20-2025-08-27-2025-10-15-2025-10-31/2026-03-25/
LOCATION:Bob Dylan Center\, 116 Reconciliation Way\, Tulsa\, OK\, 74103\, United States
END:VEVENT
BEGIN:VEVENT
DTSTART;TZID=America/Chicago:20260325T100000
DTEND;TZID=America/Chicago:20260325T180000
DTSTAMP:20260425T072018
CREATED:20250821T180736Z
LAST-MODIFIED:20260220T003159Z
UID:106973-1774432800-1774461600@thetulsaartsdistrict.org
SUMMARY:“Burning Flags\,” a powerful exhibition by Glen E. Friedman\,“ + "The Melody of Riot: Jay Farrar\, Son Volt\, and the Legacy of Woody Guthrie\,” at Woody Guthrie Center
DESCRIPTION:
URL:https://thetulsaartsdistrict.org/event/burning-flags-a-powerful-exhibition-by-glen-e-friedman-the-melody-of-riot-jay-farrar-son-volt-and-the-legacy-of-woody-guthrie-at-woody-guthrie-cente-2025-11-02-2026-02-15/2026-03-25/
LOCATION:Woody Guthrie Center\, 102 E Reconciliation Way\, Tulsa\, OK\, 74103\, United States
END:VEVENT
BEGIN:VEVENT
DTSTART;TZID=America/Chicago:20260325T110000
DTEND;TZID=America/Chicago:20260325T140000
DTSTAMP:20260425T072018
CREATED:20250621T162437Z
LAST-MODIFIED:20250621T162437Z
UID:102764-1774436400-1774447200@thetulsaartsdistrict.org
SUMMARY:Lunch Specials at Elgin Park
DESCRIPTION:
URL:https://thetulsaartsdistrict.org/event/lunch-specials-at-elgin-park-2-2025-12-30/2026-03-25/
LOCATION:Elgin Park Brewery\, 325 E Reconciliation Way\, Tulsa\, OK\, 74103\, United States
END:VEVENT
BEGIN:VEVENT
DTSTART;TZID=America/Chicago:20260325T110000
DTEND;TZID=America/Chicago:20260325T140000
DTSTAMP:20260425T072018
CREATED:20250621T164628Z
LAST-MODIFIED:20250621T164628Z
UID:102604-1774436400-1774447200@thetulsaartsdistrict.org
SUMMARY:Lunch Special at Empire Slice House
DESCRIPTION:
URL:https://thetulsaartsdistrict.org/event/lunch-special-at-empire-slice-house-2025-12-30/2026-03-25/
LOCATION:Empire Slice House Tulsa / 84 Hospitality Group\, 417 N Main Street\, Tulsa\, OK\, 74103\, United States
END:VEVENT
BEGIN:VEVENT
DTSTART;TZID=America/Chicago:20260325T120000
DTEND;TZID=America/Chicago:20260325T133000
DTSTAMP:20260425T072018
CREATED:20260228T165917Z
LAST-MODIFIED:20260325T130804Z
UID:110547-1774440000-1774445400@thetulsaartsdistrict.org
SUMMARY:Prototype to Pitch: Building Products That Win at Gradient
DESCRIPTION:
URL:https://thetulsaartsdistrict.org/event/prototype-to-pitch-building-products-that-win-at-graient/
LOCATION:Gradient Innovation Hub\, 12 N Cheyenne Ave\, Tulsa\, OK\, 74103\, United States
END:VEVENT
BEGIN:VEVENT
DTSTART;TZID=America/Chicago:20260325T120000
DTEND;TZID=America/Chicago:20260325T170000
DTSTAMP:20260425T072018
CREATED:20260220T215217Z
LAST-MODIFIED:20260318T191619Z
UID:107027-1774440000-1774458000@thetulsaartsdistrict.org
SUMMARY:Envisioning Tomorrow: Photographs by Anitra Lavanhar (NEW!) + “American Myth” Exhibit at Oklahoma Center for the Humanities
DESCRIPTION:
URL:https://thetulsaartsdistrict.org/event/envisioning-tomorrow-photographs-by-anitra-lavanhar-new-american-myth-exhibit-at-oklahoma-center-for-the-humanities-2026-03-07/2026-03-25/
LOCATION:Oklahoma Center for the Humanities – 101 E Archer\, 101 E Archer St\, Tulsa\, OK\, 74103
END:VEVENT
BEGIN:VEVENT
DTSTART;TZID=America/Chicago:20260325T140000
DTEND;TZID=America/Chicago:20260325T180000
DTSTAMP:20260425T072018
CREATED:20250621T171310Z
LAST-MODIFIED:20250621T171310Z
UID:102348-1774447200-1774461600@thetulsaartsdistrict.org
SUMMARY:Happy Hour\, 2-6pm! $2 off glass of wine / $4 off bottle of wine! $3.50 mules AND 1/2 price apps with any bar purchase! at The Chowhouse
DESCRIPTION:
URL:https://thetulsaartsdistrict.org/event/happy-hour-2-6pm-2-off-glass-of-wine-4-off-bottle-of-wine-3-50-mules-and-1-2-price-apps-with-any-bar-purchase-at-the-chowhouse-3-2025-12-26/2026-03-25/
LOCATION:The Chowhouse\, 18 E Reconciliation Way\, Tulsa\, OK\, 74103\, United States
END:VEVENT
BEGIN:VEVENT
DTSTART;TZID=America/Chicago:20260325T150000
DTEND;TZID=America/Chicago:20260325T170000
DTSTAMP:20260425T072018
CREATED:20240911T225703Z
LAST-MODIFIED:20240911T225703Z
UID:105121-1774450800-1774458000@thetulsaartsdistrict.org
SUMMARY:Happy Hour at in the raw vū
DESCRIPTION:
URL:https://thetulsaartsdistrict.org/event/happy-hour-at-in-the-raw-vu-2024-12-19-2025-06-30/2026-03-25/
LOCATION:in the raw vū\, 110 N Elgin Ave.\, Tulsa\, OK\, 74120\, United States
END:VEVENT
BEGIN:VEVENT
DTSTART;TZID=America/Chicago:20260325T150000
DTEND;TZID=America/Chicago:20260325T180000
DTSTAMP:20260425T072018
CREATED:20240104T213250Z
LAST-MODIFIED:20260111T222246Z
UID:101002-1774450800-1774461600@thetulsaartsdistrict.org
SUMMARY:Happy Hour at Cabin Boys Brewpub
DESCRIPTION:Every Tues-Fri from 3-6pm we feature: $5 Draft Beer
URL:https://thetulsaartsdistrict.org/event/happy-hour-at-cabin-boys-brewpub-2024-07-25-2024-11-01-2025-09-19-2025-11-26/2026-03-25/
LOCATION:Cabin Boys Brewpub\, 223 N Main\, Tulsa\, OK\, 74103
END:VEVENT
BEGIN:VEVENT
DTSTART;TZID=America/Chicago:20260325T150000
DTEND;TZID=America/Chicago:20260325T180000
DTSTAMP:20260425T072018
CREATED:20250109T232936Z
LAST-MODIFIED:20260103T233003Z
UID:102427-1774450800-1774461600@thetulsaartsdistrict.org
SUMMARY:Happy Hour at Caz's Pub
DESCRIPTION:
URL:https://thetulsaartsdistrict.org/event/happy-hour-with-free-pool-at-cazs-pub-2025-06-30-2025-12-30/2026-03-25/
LOCATION:Caz’s Pub\, 21 E Reconciliation Way\, Tulsa\, OK\, 74103\, United States
END:VEVENT
BEGIN:VEVENT
DTSTART;TZID=America/Chicago:20260325T150000
DTEND;TZID=America/Chicago:20260325T180000
DTSTAMP:20260425T072018
CREATED:20250621T220636Z
LAST-MODIFIED:20260123T225033Z
UID:103468-1774450800-1774461600@thetulsaartsdistrict.org
SUMMARY:Happy Hour at En Fuego
DESCRIPTION:
URL:https://thetulsaartsdistrict.org/event/happy-hour-at-en-fuego-3-2025-12-31/2026-03-25/
LOCATION:En Fuego\, 229 N Luther King Jr. Blvd\, Tulsa\, OK\, 74103\, United States
END:VEVENT
BEGIN:VEVENT
DTSTART;TZID=America/Chicago:20260325T150000
DTEND;TZID=America/Chicago:20260325T180000
DTSTAMP:20260425T072018
CREATED:20250831T145807Z
LAST-MODIFIED:20260124T161017Z
UID:102196-1774450800-1774461600@thetulsaartsdistrict.org
SUMMARY:Happy hour includes drinks and appetizers at Misfit Kitchen
DESCRIPTION:Tue-Sat 3-6
URL:https://thetulsaartsdistrict.org/event/happy-hour-includes-drinks-and-appetizers-at-misfit-kitchen-2025-12-30/2026-03-25/
LOCATION:Misfit Kitchen\, 111 N Main Street\, Tulsa\, OK\, 74103\, United States
END:VEVENT
BEGIN:VEVENT
DTSTART;TZID=America/Chicago:20260325T150000
DTEND;TZID=America/Chicago:20260325T180000
DTSTAMP:20260425T072018
CREATED:20251226T223854Z
LAST-MODIFIED:20251226T223854Z
UID:103357-1774450800-1774461600@thetulsaartsdistrict.org
SUMMARY:En Fuego Happy Hour
DESCRIPTION:
URL:https://thetulsaartsdistrict.org/event/en-fuego-happy-hour/2026-03-25/
END:VEVENT
BEGIN:VEVENT
DTSTART;TZID=America/Chicago:20260325T160000
DTEND;TZID=America/Chicago:20260325T180000
DTSTAMP:20260425T072018
CREATED:20250622T145605Z
LAST-MODIFIED:20250622T145605Z
UID:104662-1774454400-1774461600@thetulsaartsdistrict.org
SUMMARY:Happy Hour at PRHYME Bar
DESCRIPTION:
URL:https://thetulsaartsdistrict.org/event/summer-happy-hour-at-prhyme-2025-08-22/2026-03-25/
LOCATION:PRHYME: Downtown Steakhouse\, 111 N Main Suite A\, Tulsa\, OK\, 74103\, United States
END:VEVENT
BEGIN:VEVENT
DTSTART;TZID=America/Chicago:20260325T160000
DTEND;TZID=America/Chicago:20260325T180000
DTSTAMP:20260425T072018
CREATED:20260116T161515Z
LAST-MODIFIED:20260124T184233Z
UID:105716-1774454400-1774461600@thetulsaartsdistrict.org
SUMMARY:French Hen Happy Hour 
DESCRIPTION:
URL:https://thetulsaartsdistrict.org/event/french-hen-happy-hour/2026-03-25/
LOCATION:The French Hen\, 319 E Archer St\, Tulsa\, OK\, 74120\, United States
END:VEVENT
BEGIN:VEVENT
DTSTART;TZID=America/Chicago:20260325T160000
DTEND;TZID=America/Chicago:20260325T233000
DTSTAMP:20260425T072018
CREATED:20241201T163945Z
LAST-MODIFIED:20241201T163945Z
UID:102093-1774454400-1774481400@thetulsaartsdistrict.org
SUMMARY:White Claws and PBR Tallboys at Hunt Club
DESCRIPTION:
URL:https://thetulsaartsdistrict.org/event/white-claws-and-pbr-tallboys-at-hunt-club-2024-12-18-2025-06-25-2025-12-17/2026-03-25/
LOCATION:The Hunt Club\, 224 N Main\, Tulsa\, OK\, 74103\, United States
END:VEVENT
END:VCALENDAR