BEGIN:VCALENDAR
VERSION:2.0
PRODID:-//Tulsa Arts District - ECPv6.15.20//NONSGML v1.0//EN
CALSCALE:GREGORIAN
METHOD:PUBLISH
X-WR-CALNAME:Tulsa Arts District
X-ORIGINAL-URL:https://thetulsaartsdistrict.org
X-WR-CALDESC:Events for Tulsa Arts District
REFRESH-INTERVAL;VALUE=DURATION:PT1H
X-Robots-Tag:noindex
X-PUBLISHED-TTL:PT1H
BEGIN:VTIMEZONE
TZID:America/Chicago
BEGIN:DAYLIGHT
TZOFFSETFROM:-0600
TZOFFSETTO:-0500
TZNAME:CDT
DTSTART:20250309T080000
END:DAYLIGHT
BEGIN:STANDARD
TZOFFSETFROM:-0500
TZOFFSETTO:-0600
TZNAME:CST
DTSTART:20251102T070000
END:STANDARD
BEGIN:DAYLIGHT
TZOFFSETFROM:-0600
TZOFFSETTO:-0500
TZNAME:CDT
DTSTART:20260308T080000
END:DAYLIGHT
BEGIN:STANDARD
TZOFFSETFROM:-0500
TZOFFSETTO:-0600
TZNAME:CST
DTSTART:20261101T070000
END:STANDARD
BEGIN:DAYLIGHT
TZOFFSETFROM:-0600
TZOFFSETTO:-0500
TZNAME:CDT
DTSTART:20270314T080000
END:DAYLIGHT
BEGIN:STANDARD
TZOFFSETFROM:-0500
TZOFFSETTO:-0600
TZNAME:CST
DTSTART:20271107T070000
END:STANDARD
END:VTIMEZONE
BEGIN:VEVENT
DTSTART;TZID=America/Chicago:20260422T120000
DTEND;TZID=America/Chicago:20260422T170000
DTSTAMP:20260419T082758
CREATED:20260405T203729Z
LAST-MODIFIED:20260405T213314Z
UID:115914-1776859200-1776877200@thetulsaartsdistrict.org
SUMMARY:“GIGANTIC!” Art Show & Sale at Chrysalis Salon & Spa - Free to browse
DESCRIPTION:
URL:https://thetulsaartsdistrict.org/event/gigantic-art-show-sale-at-chrysalis-salon-spa/2026-04-22/
LOCATION:Chrysalis Salon & Spa\, 7 E Reconciliation Way\, Tulsa\, OK\, 74103\, United States
END:VEVENT
BEGIN:VEVENT
DTSTART;TZID=America/Chicago:20260422T120000
DTEND;TZID=America/Chicago:20260422T180000
DTSTAMP:20260419T082758
CREATED:20260331T213915Z
LAST-MODIFIED:20260331T213915Z
UID:115811-1776859200-1776880800@thetulsaartsdistrict.org
SUMMARY:“A Dozen Loops: The Radical Voice of Woody Guthrie” + “Tom Paxton: A Car Full of Songs\,” + “The Melody of Riot: Jay Farrar\, Son Volt\, and the Legacy of Woody Guthrie\,” at Woody Guthrie Center
DESCRIPTION:
URL:https://thetulsaartsdistrict.org/event/a-dozen-loops-the-radical-voice-of-woody-guthrie-tom-paxton-a-car-full-of-songs-the-melody-of-riot-jay-farrar-son-volt-and-the-legacy-of-woo/2026-04-22/
LOCATION:Woody Guthrie Center\, 102 E Reconciliation Way\, Tulsa\, OK\, 74103\, United States
END:VEVENT
BEGIN:VEVENT
DTSTART;TZID=America/Chicago:20260422T140000
DTEND;TZID=America/Chicago:20260422T180000
DTSTAMP:20260419T082758
CREATED:20250621T171310Z
LAST-MODIFIED:20250621T171310Z
UID:102360-1776866400-1776880800@thetulsaartsdistrict.org
SUMMARY:Happy Hour\, 2-6pm! $2 off glass of wine / $4 off bottle of wine! $3.50 mules AND 1/2 price apps with any bar purchase! at The Chowhouse
DESCRIPTION:
URL:https://thetulsaartsdistrict.org/event/happy-hour-2-6pm-2-off-glass-of-wine-4-off-bottle-of-wine-3-50-mules-and-1-2-price-apps-with-any-bar-purchase-at-the-chowhouse-3-2025-12-26/2026-04-22/
LOCATION:The Chowhouse\, 18 E Reconciliation Way\, Tulsa\, OK\, 74103\, United States
END:VEVENT
BEGIN:VEVENT
DTSTART;TZID=America/Chicago:20260422T150000
DTEND;TZID=America/Chicago:20260422T170000
DTSTAMP:20260419T082758
CREATED:20240911T225703Z
LAST-MODIFIED:20240911T225703Z
UID:105137-1776870000-1776877200@thetulsaartsdistrict.org
SUMMARY:Happy Hour at in the raw vū
DESCRIPTION:
URL:https://thetulsaartsdistrict.org/event/happy-hour-at-in-the-raw-vu-2024-12-19-2025-06-30/2026-04-22/
LOCATION:in the raw vū\, 110 N Elgin Ave.\, Tulsa\, OK\, 74120\, United States
END:VEVENT
BEGIN:VEVENT
DTSTART;TZID=America/Chicago:20260422T150000
DTEND;TZID=America/Chicago:20260422T180000
DTSTAMP:20260419T082758
CREATED:20240104T213250Z
LAST-MODIFIED:20260111T222301Z
UID:101022-1776870000-1776880800@thetulsaartsdistrict.org
SUMMARY:Happy Hour at Cabin Boys Brewpub
DESCRIPTION:Every Tues-Fri from 3-6pm we feature: $5 Draft Beer
URL:https://thetulsaartsdistrict.org/event/happy-hour-at-cabin-boys-brewpub-2024-07-25-2024-11-01-2025-09-19-2025-11-26/2026-04-22/
LOCATION:Cabin Boys Brewpub\, 223 N Main\, Tulsa\, OK\, 74103
END:VEVENT
BEGIN:VEVENT
DTSTART;TZID=America/Chicago:20260422T150000
DTEND;TZID=America/Chicago:20260422T180000
DTSTAMP:20260419T082758
CREATED:20250109T232936Z
LAST-MODIFIED:20260103T233020Z
UID:102439-1776870000-1776880800@thetulsaartsdistrict.org
SUMMARY:Happy Hour at Caz's Pub
DESCRIPTION:
URL:https://thetulsaartsdistrict.org/event/happy-hour-with-free-pool-at-cazs-pub-2025-06-30-2025-12-30/2026-04-22/
LOCATION:Caz’s Pub\, 21 E Reconciliation Way\, Tulsa\, OK\, 74103\, United States
END:VEVENT
BEGIN:VEVENT
DTSTART;TZID=America/Chicago:20260422T150000
DTEND;TZID=America/Chicago:20260422T180000
DTSTAMP:20260419T082758
CREATED:20250621T220636Z
LAST-MODIFIED:20260123T225048Z
UID:103480-1776870000-1776880800@thetulsaartsdistrict.org
SUMMARY:Happy Hour at En Fuego
DESCRIPTION:
URL:https://thetulsaartsdistrict.org/event/happy-hour-at-en-fuego-3-2025-12-31/2026-04-22/
LOCATION:En Fuego\, 229 N Luther King Jr. Blvd\, Tulsa\, OK\, 74103\, United States
END:VEVENT
BEGIN:VEVENT
DTSTART;TZID=America/Chicago:20260422T150000
DTEND;TZID=America/Chicago:20260422T180000
DTSTAMP:20260419T082758
CREATED:20250831T145807Z
LAST-MODIFIED:20260124T161035Z
UID:102216-1776870000-1776880800@thetulsaartsdistrict.org
SUMMARY:Happy hour includes drinks and appetizers at Misfit Kitchen
DESCRIPTION:Tue-Sat 3-6
URL:https://thetulsaartsdistrict.org/event/happy-hour-includes-drinks-and-appetizers-at-misfit-kitchen-2025-12-30/2026-04-22/
LOCATION:Misfit Kitchen\, 111 N Main Street\, Tulsa\, OK\, 74103\, United States
END:VEVENT
BEGIN:VEVENT
DTSTART;TZID=America/Chicago:20260422T150000
DTEND;TZID=America/Chicago:20260422T180000
DTSTAMP:20260419T082758
CREATED:20251226T223854Z
LAST-MODIFIED:20251226T223854Z
UID:103369-1776870000-1776880800@thetulsaartsdistrict.org
SUMMARY:En Fuego Happy Hour
DESCRIPTION:
URL:https://thetulsaartsdistrict.org/event/en-fuego-happy-hour/2026-04-22/
LOCATION:OK
END:VEVENT
BEGIN:VEVENT
DTSTART;TZID=America/Chicago:20260422T160000
DTEND;TZID=America/Chicago:20260422T180000
DTSTAMP:20260419T082758
CREATED:20250622T145605Z
LAST-MODIFIED:20250622T145605Z
UID:104678-1776873600-1776880800@thetulsaartsdistrict.org
SUMMARY:Happy Hour at PRHYME Bar
DESCRIPTION:
URL:https://thetulsaartsdistrict.org/event/summer-happy-hour-at-prhyme-2025-08-22/2026-04-22/
LOCATION:PRHYME: Downtown Steakhouse\, 111 N Main Suite A\, Tulsa\, OK\, 74103\, United States
END:VEVENT
BEGIN:VEVENT
DTSTART;TZID=America/Chicago:20260422T160000
DTEND;TZID=America/Chicago:20260422T180000
DTSTAMP:20260419T082758
CREATED:20260116T161515Z
LAST-MODIFIED:20260124T184253Z
UID:105736-1776873600-1776880800@thetulsaartsdistrict.org
SUMMARY:French Hen Happy Hour 
DESCRIPTION:
URL:https://thetulsaartsdistrict.org/event/french-hen-happy-hour/2026-04-22/
LOCATION:The French Hen\, 319 E Archer St\, Tulsa\, OK\, 74120\, United States
END:VEVENT
BEGIN:VEVENT
DTSTART;TZID=America/Chicago:20260422T160000
DTEND;TZID=America/Chicago:20260422T180000
DTSTAMP:20260419T082758
CREATED:20260416T183807Z
LAST-MODIFIED:20260416T183807Z
UID:118335-1776873600-1776880800@thetulsaartsdistrict.org
SUMMARY:Happy Hour at Saturn Room
DESCRIPTION:
URL:https://thetulsaartsdistrict.org/event/happy-hour-at-saturn-room/2026-04-22/
LOCATION:Saturn Room\, 209 N Boulder\, Tulsa\, OK\, 74103\, United States
END:VEVENT
BEGIN:VEVENT
DTSTART;TZID=America/Chicago:20260422T160000
DTEND;TZID=America/Chicago:20260422T233000
DTSTAMP:20260419T082758
CREATED:20241201T163945Z
LAST-MODIFIED:20241201T163945Z
UID:102097-1776873600-1776900600@thetulsaartsdistrict.org
SUMMARY:White Claws and PBR Tallboys at Hunt Club
DESCRIPTION:
URL:https://thetulsaartsdistrict.org/event/white-claws-and-pbr-tallboys-at-hunt-club-2024-12-18-2025-06-25-2025-12-17/2026-04-22/
LOCATION:The Hunt Club\, 224 N Main\, Tulsa\, OK\, 74103\, United States
END:VEVENT
BEGIN:VEVENT
DTSTART;TZID=America/Chicago:20260422T163000
DTEND;TZID=America/Chicago:20260422T193000
DTSTAMP:20260419T082758
CREATED:20260415T205556Z
LAST-MODIFIED:20260415T210113Z
UID:118258-1776875400-1776886200@thetulsaartsdistrict.org
SUMMARY:Midweek Market at Santa Fe Square!
DESCRIPTION:
URL:https://thetulsaartsdistrict.org/event/midweek-market-at-santa-fe-square/2026-04-22/
LOCATION:Sante Fe Square\, 415 E 2nd St\, Tulsa\, Oklahoma\, United States
END:VEVENT
BEGIN:VEVENT
DTSTART;TZID=America/Chicago:20260422T170000
DTEND;TZID=America/Chicago:20260422T190000
DTSTAMP:20260419T082758
CREATED:20260312T184117Z
LAST-MODIFIED:20260312T184117Z
UID:114889-1776877200-1776884400@thetulsaartsdistrict.org
SUMMARY:WORKSHOP: FIRST AMERICA INDIGENOUS WRITING WORKSHOP hosted by Tulsa Artist Fellowship in person (20\, 22\, 24) and on-line (21\, 23\, 28)
DESCRIPTION:
URL:https://thetulsaartsdistrict.org/event/workshop-first-america-indigenous-writing-workshop-hosted-by-tulsa-artist-fellowship-in-person-20-22-24-and-on-line-21-23-28/2026-04-22/
LOCATION:Tulsa Artist Fellowship – Archer Studios\, 109 N ML King Blvd\, Tulsa\, OK\, 74103\, United States
END:VEVENT
BEGIN:VEVENT
DTSTART;TZID=America/Chicago:20260422T170000
DTEND;TZID=America/Chicago:20260422T210000
DTSTAMP:20260419T082758
CREATED:20250621T163955Z
LAST-MODIFIED:20250621T163955Z
UID:103311-1776877200-1776891600@thetulsaartsdistrict.org
SUMMARY:Wing Wednesday – Half Price Traditional Wings at Elgin Park
DESCRIPTION:
URL:https://thetulsaartsdistrict.org/event/wing-wednesday-half-price-traditional-wings-at-elgin-park-2025-12-17/2026-04-22/
LOCATION:Elgin Park Brewery\, 325 E Reconciliation Way\, Tulsa\, OK\, 74103\, United States
END:VEVENT
BEGIN:VEVENT
DTSTART;TZID=America/Chicago:20260422T170000
DTEND;TZID=America/Chicago:20260422T210000
DTSTAMP:20260419T082758
CREATED:20250621T170632Z
LAST-MODIFIED:20250621T170632Z
UID:102302-1776877200-1776891600@thetulsaartsdistrict.org
SUMMARY:Kids Eat Free!!!! with purchase of an adult entre at The Chowhouse
DESCRIPTION:
URL:https://thetulsaartsdistrict.org/event/kids-eat-free-with-purchase-of-an-adult-entre-at-the-chowhouse-3-2025-12-10/2026-04-22/
LOCATION:The Chowhouse\, 18 E Reconciliation Way\, Tulsa\, OK\, 74103\, United States
END:VEVENT
BEGIN:VEVENT
DTSTART;TZID=America/Chicago:20260422T170000
DTEND;TZID=America/Chicago:20260422T220000
DTSTAMP:20260419T082758
CREATED:20191229T191336Z
LAST-MODIFIED:20191229T191336Z
UID:101549-1776877200-1776895200@thetulsaartsdistrict.org
SUMMARY:Winesday! at The TAVERN
DESCRIPTION:
URL:https://thetulsaartsdistrict.org/event/winesday-at-the-tavern-2020-05-27-2024-06-26-2024-12-18-2024-12-18-2025-06-25-2025-11-26/2026-04-22/
LOCATION:The Tavern\, 201 N Main\, Tulsa\, OK\, 74103\, United States
END:VEVENT
BEGIN:VEVENT
DTSTART;TZID=America/Chicago:20260422T180000
DTEND;TZID=America/Chicago:20260422T210000
DTSTAMP:20260419T082758
CREATED:20260411T162155Z
LAST-MODIFIED:20260411T162155Z
UID:118140-1776880800-1776891600@thetulsaartsdistrict.org
SUMMARY:Mastering Social Media for Business at Gradient
DESCRIPTION:
URL:https://thetulsaartsdistrict.org/event/mastering-social-media-for-business-at-gradient-2/2026-04-22/
LOCATION:Gradient Innovation Hub\, 12 N Cheyenne Ave\, Tulsa\, OK\, 74103\, United States
END:VEVENT
BEGIN:VEVENT
DTSTART;TZID=America/Chicago:20260422T183000
DTEND;TZID=America/Chicago:20260422T210000
DTSTAMP:20260419T082758
CREATED:20260322T175926Z
LAST-MODIFIED:20260322T175928Z
UID:115154-1776882600-1776891600@thetulsaartsdistrict.org
SUMMARY:An Evening With Big Head Todd and the Monsters at Cain's Ballroom
DESCRIPTION:All Ages Welcome
URL:https://thetulsaartsdistrict.org/event/an-evening-with-big-head-todd-and-the-monsters-at-cains-ballroom/
LOCATION:Cain’s Ballroom\, 423 N Main\, Tulsa\, OK\, 74103\, United States
END:VEVENT
BEGIN:VEVENT
DTSTART;TZID=America/Chicago:20260422T183000
DTEND;TZID=America/Chicago:20260422T203000
DTSTAMP:20260419T082758
CREATED:20260416T182716Z
LAST-MODIFIED:20260416T183409Z
UID:118325-1776882600-1776889800@thetulsaartsdistrict.org
SUMMARY:Earth Day Wine Dinner at Duet Restaurant
DESCRIPTION:
URL:https://thetulsaartsdistrict.org/event/earth-day-wine-dinner-at-duet-restaurant-2/
LOCATION:Duet Jazz Restaurant\, 108 N Detroit\, Tulsa\, OK\, 74103\, United States
END:VEVENT
BEGIN:VEVENT
DTSTART;TZID=America/Chicago:20260422T190000
DTEND;TZID=America/Chicago:20260422T203000
DTSTAMP:20260419T082758
CREATED:20241229T181950Z
LAST-MODIFIED:20241229T181950Z
UID:103073-1776884400-1776889800@thetulsaartsdistrict.org
SUMMARY:Velvet Chair Poetry Night at Gypsy Coffeehouse & Cyber Cafe
DESCRIPTION:
URL:https://thetulsaartsdistrict.org/event/velvet-chair-poetry-night-at-gypsy-coffeehouse-cyber-cafe-2025-06-25-2025-12-17/2026-04-22/
LOCATION:Gypsy Coffee House & Cyber Café\, 303 N ML King Blvd\, Tulsa\, OK\, 74103\, United States
END:VEVENT
BEGIN:VEVENT
DTSTART;TZID=America/Chicago:20260422T200000
DTEND;TZID=America/Chicago:20260422T210000
DTSTAMP:20260419T082758
CREATED:20250622T214639Z
LAST-MODIFIED:20250622T214639Z
UID:101408-1776888000-1776891600@thetulsaartsdistrict.org
SUMMARY:Open Mic Comedy Night at The Hunt Club – sign up at 8 – show at 8:30
DESCRIPTION:
URL:https://thetulsaartsdistrict.org/event/open-mic-comedy-night-at-the-hunt-club-sign-up-at-8-show-at-830-2025-12-03/2026-04-22/
LOCATION:The Hunt Club\, 224 N Main\, Tulsa\, OK\, 74103\, United States
END:VEVENT
BEGIN:VEVENT
DTSTART;TZID=America/Chicago:20260423T070000
DTEND;TZID=America/Chicago:20260423T160000
DTSTAMP:20260419T082758
CREATED:20260414T214406Z
LAST-MODIFIED:20260414T214501Z
UID:118227-1776927600-1776960000@thetulsaartsdistrict.org
SUMMARY:Visual Artist Crystal Kline at Chimera
DESCRIPTION:
URL:https://thetulsaartsdistrict.org/event/visual-artist-crystal-kline-at-chimera/2026-04-23/
LOCATION:Chimera Café\, 212 N Main\, Tulsa\, OK\, 74103\, United States
END:VEVENT
BEGIN:VEVENT
DTSTART;TZID=America/Chicago:20260423T100000
DTEND;TZID=America/Chicago:20260423T180000
DTSTAMP:20260419T082758
CREATED:20250620T211937Z
LAST-MODIFIED:20250620T211937Z
UID:115452-1776938400-1776967200@thetulsaartsdistrict.org
SUMMARY:“Going Electric: Bob Dylan ’65” at Bob Dylan Center
DESCRIPTION:
URL:https://thetulsaartsdistrict.org/event/stepping-into-the-unknown-at-bob-dylan-center-2025-07-24-2025-08-20-2025-08-27-2025-10-15-2025-10-31/2026-04-23/
LOCATION:Bob Dylan Center\, 116 Reconciliation Way\, Tulsa\, OK\, 74103\, United States
END:VEVENT
BEGIN:VEVENT
DTSTART;TZID=America/Chicago:20260423T110000
DTEND;TZID=America/Chicago:20260423T140000
DTSTAMP:20260419T082758
CREATED:20250621T162437Z
LAST-MODIFIED:20250621T162437Z
UID:102785-1776942000-1776952800@thetulsaartsdistrict.org
SUMMARY:Lunch Specials at Elgin Park
DESCRIPTION:
URL:https://thetulsaartsdistrict.org/event/lunch-specials-at-elgin-park-2-2025-12-30/2026-04-23/
LOCATION:Elgin Park Brewery\, 325 E Reconciliation Way\, Tulsa\, OK\, 74103\, United States
END:VEVENT
BEGIN:VEVENT
DTSTART;TZID=America/Chicago:20260423T110000
DTEND;TZID=America/Chicago:20260423T140000
DTSTAMP:20260419T082758
CREATED:20250621T164628Z
LAST-MODIFIED:20250621T164628Z
UID:102625-1776942000-1776952800@thetulsaartsdistrict.org
SUMMARY:Lunch Special at Empire Slice House
DESCRIPTION:
URL:https://thetulsaartsdistrict.org/event/lunch-special-at-empire-slice-house-2025-12-30/2026-04-23/
LOCATION:Empire Slice House Tulsa / 84 Hospitality Group\, 417 N Main Street\, Tulsa\, OK\, 74103\, United States
END:VEVENT
BEGIN:VEVENT
DTSTART;TZID=America/Chicago:20260423T120000
DTEND;TZID=America/Chicago:20260423T160000
DTSTAMP:20260419T082758
CREATED:20260322T185345Z
LAST-MODIFIED:20260405T205853Z
UID:115264-1776945600-1776960000@thetulsaartsdistrict.org
SUMMARY:Kenny Reams’s "Who Lives\, Who Dies\, Who Decides" at Living Arts - Free Admission
DESCRIPTION:
URL:https://thetulsaartsdistrict.org/event/kenny-reamss-who-lives-who-dies-who-decides-at-living-arts-2026-04-07/2026-04-23/
LOCATION:Living Arts of Tulsa\, 307 E. Reconciliation Way.\, Tulsa\, OK\, 74120\, United States
END:VEVENT
BEGIN:VEVENT
DTSTART;TZID=America/Chicago:20260423T120000
DTEND;TZID=America/Chicago:20260423T170000
DTSTAMP:20260419T082758
CREATED:20260322T182528Z
LAST-MODIFIED:20260409T132116Z
UID:115186-1776945600-1776963600@thetulsaartsdistrict.org
SUMMARY:Shawn Smith: Entangled Ecologies at 108 Contemporary - Free Admission
DESCRIPTION:
URL:https://thetulsaartsdistrict.org/event/shawn-smith-entangled-ecologies-at-108-contemporary-2026-04-04/2026-04-23/
LOCATION:108 Contemporary\, 108 E Reconciliation Way\, Tulsa\, OK\, 74103\, United States
END:VEVENT
BEGIN:VEVENT
DTSTART;TZID=America/Chicago:20260423T120000
DTEND;TZID=America/Chicago:20260423T170000
DTSTAMP:20260419T082758
CREATED:20260328T164205Z
LAST-MODIFIED:20260405T210843Z
UID:115571-1776945600-1776963600@thetulsaartsdistrict.org
SUMMARY:Envisioning Tomorrow: Photographs by Anitra Lavanhar + “American Myth” Exhibit at Oklahoma Center for the Humanities - Free Admission
DESCRIPTION:
URL:https://thetulsaartsdistrict.org/event/envisioning-tomorrow-photographs-by-anitra-lavanhar-american-myth-exhibit-at-oklahoma-center-for-the-humanities-2026-04-08/2026-04-23/
LOCATION:Oklahoma Center for the Humanities – 101 E Archer\, 101 E Archer St\, Tulsa\, OK\, 74103
END:VEVENT
END:VCALENDAR