BEGIN:VCALENDAR
VERSION:2.0
PRODID:-//Tulsa Arts District - ECPv6.15.20//NONSGML v1.0//EN
CALSCALE:GREGORIAN
METHOD:PUBLISH
X-ORIGINAL-URL:https://thetulsaartsdistrict.org
X-WR-CALDESC:Events for Tulsa Arts District
REFRESH-INTERVAL;VALUE=DURATION:PT1H
X-Robots-Tag:noindex
X-PUBLISHED-TTL:PT1H
BEGIN:VTIMEZONE
TZID:America/Chicago
BEGIN:DAYLIGHT
TZOFFSETFROM:-0600
TZOFFSETTO:-0500
TZNAME:CDT
DTSTART:20190310T080000
END:DAYLIGHT
BEGIN:STANDARD
TZOFFSETFROM:-0500
TZOFFSETTO:-0600
TZNAME:CST
DTSTART:20191103T070000
END:STANDARD
BEGIN:DAYLIGHT
TZOFFSETFROM:-0600
TZOFFSETTO:-0500
TZNAME:CDT
DTSTART:20200308T080000
END:DAYLIGHT
BEGIN:STANDARD
TZOFFSETFROM:-0500
TZOFFSETTO:-0600
TZNAME:CST
DTSTART:20201101T070000
END:STANDARD
BEGIN:DAYLIGHT
TZOFFSETFROM:-0600
TZOFFSETTO:-0500
TZNAME:CDT
DTSTART:20210314T080000
END:DAYLIGHT
BEGIN:STANDARD
TZOFFSETFROM:-0500
TZOFFSETTO:-0600
TZNAME:CST
DTSTART:20211107T070000
END:STANDARD
END:VTIMEZONE
BEGIN:VEVENT
DTSTART;TZID=America/Chicago:20201204T000000
DTEND;TZID=America/Chicago:20201215T233000
DTSTAMP:20260423T121922
CREATED:20201209T195807Z
LAST-MODIFIED:20201209T195808Z
UID:19591-1607040000-1608075000@thetulsaartsdistrict.org
SUMMARY:Christmas Mexperience at Mexicali Border Cafe
DESCRIPTION:It’s time to get into the Christmas spirit Tulsa!We have a Christmas MEXperience to share with you. December 4th will mark the beginning of the 12 Days of Christmas MEXperience!Each day we will ask our valued customers to:Take a photo of you and your loved ones chowing down or picking up food from Mexicali Border Cafe. Post your photo on Instagram or Facebook and “Check-In” at Mexicali. (< that is how we know that you entered!)All for a chance at WINNING one of 12 FREE APPETIZERS!Winners will be posted on December 16th\, so keep an eye out for your name!Good luck Tulsa\, and Happy Holidays!
URL:https://thetulsaartsdistrict.org/event/christmas-mexperience-at-mexicali-border-cafe/
LOCATION:Mexicali Border Café\, 14 W Reconciliation Way\, Tulsa\, OK\, 74103\, United States
END:VEVENT
BEGIN:VEVENT
DTSTART;TZID=America/Chicago:20201213T190000
DTEND;TZID=America/Chicago:20201213T200000
DTSTAMP:20260423T121922
CREATED:20201203T192405Z
LAST-MODIFIED:20201203T192416Z
UID:19570-1607886000-1607889600@thetulsaartsdistrict.org
SUMMARY:Rachel Maddow Returns on-line event hosted by Magic City Books
DESCRIPTION:
URL:https://thetulsaartsdistrict.org/event/rachel-maddow-returns-ion-line-event-hosted-by-magic-city-books/
LOCATION:Magic City Books\, 221 E Archer\, Tulsa\, OK\, 74103\, United States
END:VEVENT
BEGIN:VEVENT
DTSTART;TZID=America/Chicago:20201214T190000
DTEND;TZID=America/Chicago:20201214T200000
DTSTAMP:20260423T121922
CREATED:20201129T183307Z
LAST-MODIFIED:20201129T183308Z
UID:19457-1607972400-1607976000@thetulsaartsdistrict.org
SUMMARY:The Good Life in Bad Times - An Evening with Mark de Silva hosted on Facebook Live by Magic City Books
DESCRIPTION:
URL:https://thetulsaartsdistrict.org/event/the-good-life-in-bad-times-an-evening-with-mark-de-silva-hosted-on-facebook-live-by-magic-city-books/
LOCATION:Magic City Books\, 221 E Archer\, Tulsa\, OK\, 74103\, United States
END:VEVENT
BEGIN:VEVENT
DTSTART;TZID=America/Chicago:20201216T080000
DTEND;TZID=America/Chicago:20201216T180000
DTSTAMP:20260423T121922
CREATED:20201129T190634Z
LAST-MODIFIED:20201129T190635Z
UID:19465-1608105600-1608141600@thetulsaartsdistrict.org
SUMMARY:Free Coworking Day at 36 Degrees North
DESCRIPTION:
URL:https://thetulsaartsdistrict.org/event/free-coworking-day-at-36-degrees-north-12/
LOCATION:36 Degrees North\, 36 E Cameron\, Tulsa\, OK\, 74103\, United States
END:VEVENT
BEGIN:VEVENT
DTSTART;TZID=America/Chicago:20201216T090000
DTEND;TZID=America/Chicago:20201216T100000
DTSTAMP:20260423T121922
CREATED:20201129T190814Z
LAST-MODIFIED:20201129T194642Z
UID:19467-1608109200-1608112800@thetulsaartsdistrict.org
SUMMARY:1 Million Cups
DESCRIPTION:
URL:https://thetulsaartsdistrict.org/event/1-million-cups-2/
LOCATION:36 Degrees North\, 36 E Cameron\, Tulsa\, OK\, 74103\, United States
END:VEVENT
BEGIN:VEVENT
DTSTART;TZID=America/Chicago:20201217T113000
DTEND;TZID=America/Chicago:20201217T130000
DTSTAMP:20260423T121922
CREATED:20201129T191104Z
LAST-MODIFIED:20201129T191105Z
UID:19469-1608204600-1608210000@thetulsaartsdistrict.org
SUMMARY:Virtual: Popcorn Hot Seat Review: Instagram hosted by 36 Degrees North
DESCRIPTION:
URL:https://thetulsaartsdistrict.org/event/virtual-popcorn-hot-seat-review-instagram-hosted-by-36-degrees-north/
LOCATION:36 Degrees North\, 36 E Cameron\, Tulsa\, OK\, 74103\, United States
END:VEVENT
BEGIN:VEVENT
DTSTART;TZID=America/Chicago:20201218T190000
DTEND;TZID=America/Chicago:20201218T210000
DTSTAMP:20260423T121922
CREATED:20201218T001124Z
LAST-MODIFIED:20201218T001125Z
UID:19712-1608318000-1608325200@thetulsaartsdistrict.org
SUMMARY:Knipple feat. Burns - Chillhop Jazz experience at Duet Restaurant
DESCRIPTION:
URL:https://thetulsaartsdistrict.org/event/knipple-feat-burns-chillhop-jazz-experience-at-duet-restaurant/
LOCATION:Duet Jazz Restaurant\, 108 N Detroit\, Tulsa\, OK\, 74103\, United States
END:VEVENT
BEGIN:VEVENT
DTSTART;TZID=America/Chicago:20201218T190000
DTEND;TZID=America/Chicago:20201218T230000
DTSTAMP:20260423T121922
CREATED:20200822T145451Z
LAST-MODIFIED:20201216T184231Z
UID:19392-1608318000-1608332400@thetulsaartsdistrict.org
SUMMARY:Escándalo with Franchesqua Minaj\, King Laylo Chiffon\, Valentino Minak & Shenel Sterling at Club Majestic - show at 8:00
DESCRIPTION:
URL:https://thetulsaartsdistrict.org/event/hoe-you-think-you-can-dance-at-club-majestic-2-2020-11-27-2020-12-18/
LOCATION:Club Majestic\, 124 N Boston\, Tulsa\, OK\, 74103\, United States
END:VEVENT
BEGIN:VEVENT
DTSTART;TZID=America/Chicago:20201218T200000
DTEND;TZID=America/Chicago:20201218T230000
DTSTAMP:20260423T121922
CREATED:20200809T173822Z
LAST-MODIFIED:20201218T011932Z
UID:17089-1608321600-1608332400@thetulsaartsdistrict.org
SUMMARY:Hosty at The Hunt Club
DESCRIPTION:
URL:https://thetulsaartsdistrict.org/event/dante-and-the-hawks-at-the-hunt-club-6-2020-12-18/
LOCATION:The Hunt Club\, 224 N Main\, Tulsa\, OK\, 74103\, United States
END:VEVENT
BEGIN:VEVENT
DTSTART;TZID=America/Chicago:20201219T183000
DTEND;TZID=America/Chicago:20201219T200000
DTSTAMP:20260423T121922
CREATED:20201217T143239Z
LAST-MODIFIED:20201217T143240Z
UID:19709-1608402600-1608408000@thetulsaartsdistrict.org
SUMMARY:Phil Ochs Song Night - Celebrating Phil's 80th Birthday hosted by Woody Guthrie Center
DESCRIPTION:
URL:https://thetulsaartsdistrict.org/event/phil-ochs-song-night-celebrating-phils-80th-birthday-hosted-by-woody-guthrie-center/
LOCATION:Woody Guthrie Center\, 102 E Reconciliation Way\, Tulsa\, OK\, 74103\, United States
END:VEVENT
BEGIN:VEVENT
DTSTART;TZID=America/Chicago:20201219T190000
DTEND;TZID=America/Chicago:20201219T210000
DTSTAMP:20260423T121922
CREATED:20201218T001325Z
LAST-MODIFIED:20201218T001326Z
UID:19715-1608404400-1608411600@thetulsaartsdistrict.org
SUMMARY:SNOBUG - Folksy Jazz feat. Olivia McGraw at Duet Jazz
DESCRIPTION:
URL:https://thetulsaartsdistrict.org/event/snobug-folksy-jazz-feat-olivia-mcgraw-at-duet-jazz/
LOCATION:Duet Jazz Restaurant\, 108 N Detroit\, Tulsa\, OK\, 74103\, United States
END:VEVENT
BEGIN:VEVENT
DTSTART;TZID=America/Chicago:20201219T200000
DTEND;TZID=America/Chicago:20201219T230000
DTSTAMP:20260423T121922
CREATED:20200809T181444Z
LAST-MODIFIED:20201218T013929Z
UID:17115-1608408000-1608418800@thetulsaartsdistrict.org
SUMMARY:RPM @ the Hunt Club
DESCRIPTION:
URL:https://thetulsaartsdistrict.org/event/rpm-the-hunt-club-2020-12-19/
LOCATION:The Hunt Club\, 224 N Main\, Tulsa\, OK\, 74103\, United States
END:VEVENT
END:VCALENDAR