BEGIN:VCALENDAR
VERSION:2.0
PRODID:-//Tulsa Arts District - ECPv6.15.20//NONSGML v1.0//EN
CALSCALE:GREGORIAN
METHOD:PUBLISH
X-ORIGINAL-URL:https://thetulsaartsdistrict.org
X-WR-CALDESC:Events for Tulsa Arts District
REFRESH-INTERVAL;VALUE=DURATION:PT1H
X-Robots-Tag:noindex
X-PUBLISHED-TTL:PT1H
BEGIN:VTIMEZONE
TZID:America/Chicago
BEGIN:DAYLIGHT
TZOFFSETFROM:-0600
TZOFFSETTO:-0500
TZNAME:CDT
DTSTART:20200308T080000
END:DAYLIGHT
BEGIN:STANDARD
TZOFFSETFROM:-0500
TZOFFSETTO:-0600
TZNAME:CST
DTSTART:20201101T070000
END:STANDARD
BEGIN:DAYLIGHT
TZOFFSETFROM:-0600
TZOFFSETTO:-0500
TZNAME:CDT
DTSTART:20210314T080000
END:DAYLIGHT
BEGIN:STANDARD
TZOFFSETFROM:-0500
TZOFFSETTO:-0600
TZNAME:CST
DTSTART:20211107T070000
END:STANDARD
BEGIN:DAYLIGHT
TZOFFSETFROM:-0600
TZOFFSETTO:-0500
TZNAME:CDT
DTSTART:20220313T080000
END:DAYLIGHT
BEGIN:STANDARD
TZOFFSETFROM:-0500
TZOFFSETTO:-0600
TZNAME:CST
DTSTART:20221106T070000
END:STANDARD
BEGIN:DAYLIGHT
TZOFFSETFROM:-0600
TZOFFSETTO:-0500
TZNAME:CDT
DTSTART:20230312T080000
END:DAYLIGHT
BEGIN:STANDARD
TZOFFSETFROM:-0500
TZOFFSETTO:-0600
TZNAME:CST
DTSTART:20231105T070000
END:STANDARD
BEGIN:DAYLIGHT
TZOFFSETFROM:-0600
TZOFFSETTO:-0500
TZNAME:CDT
DTSTART:20240310T080000
END:DAYLIGHT
BEGIN:STANDARD
TZOFFSETFROM:-0500
TZOFFSETTO:-0600
TZNAME:CST
DTSTART:20241103T070000
END:STANDARD
END:VTIMEZONE
BEGIN:VEVENT
DTSTART;TZID=America/Chicago:20230312T150000
DTEND;TZID=America/Chicago:20230312T170000
DTSTAMP:20260423T035444
CREATED:20230223T225006Z
LAST-MODIFIED:20230223T225007Z
UID:52128-1678633200-1678640400@thetulsaartsdistrict.org
SUMMARY:DR. DAVID B. WATERS SERIES: PROKOFIEV'S SYMPHONY NO. 1 - Tulsa Symphony Orchestra at University of Tulsa
DESCRIPTION:
URL:https://thetulsaartsdistrict.org/event/dr-david-b-waters-series-prokofievs-symphony-no-1-tulsa-symphony-orchestra-at-university-of-tulsa/
LOCATION:Lorton Performance Center\, 550 S. Gary Pl\, Tulsa\, Oklahoma\, 74104\, United States
END:VEVENT
BEGIN:VEVENT
DTSTART;TZID=America/Chicago:20230304T193000
DTEND;TZID=America/Chicago:20230304T210000
DTSTAMP:20260423T035444
CREATED:20230223T224641Z
LAST-MODIFIED:20230223T224643Z
UID:52125-1677958200-1677963600@thetulsaartsdistrict.org
SUMMARY:Alluring - An Evening of Opera - 𝐌𝐮𝐬𝐢𝐜 𝐄𝐝𝐮𝐜𝐚𝐭𝐨𝐫 𝐍𝐢𝐠𝐡𝐭 𝐚𝐭 𝐭𝐡𝐞 𝐒𝐲𝐦𝐩𝐡𝐨𝐧𝐲! at Tulsa PAC
DESCRIPTION:𝘚𝘱𝘦𝘤𝘪𝘢𝘭 𝘦𝘷𝘦𝘯𝘵𝘴 𝘪𝘯𝘤𝘭𝘶𝘥𝘦: \n\n\n\n* 𝘗𝘳𝘦-𝘊𝘰𝘯𝘤𝘦𝘳𝘵 𝘗𝘦𝘳𝘧𝘰𝘳𝘮𝘢𝘯𝘤𝘦 𝘰𝘧 𝘜𝘯𝘪𝘰𝘯 𝘏𝘪𝘨𝘩 𝘚𝘤𝘩𝘰𝘰𝘭’𝘴 𝘛𝘰𝘱 𝘚𝘵𝘳𝘪𝘯𝘨 𝘊𝘩𝘢𝘮𝘣𝘦𝘳 𝘎𝘳𝘰𝘶𝘱 𝘪𝘯 𝘵𝘩𝘦 𝘞𝘦𝘴𝘵𝘣𝘺 𝘗𝘢𝘷𝘪𝘭𝘭𝘪𝘰𝘯 𝘧𝘳𝘰𝘮 6:45-7:15. \n\n\n\n* 𝘗𝘦𝘵𝘦 𝘗𝘦𝘵𝘦𝘳𝘴𝘰𝘯 𝘢𝘤𝘤𝘦𝘱𝘵𝘪𝘯𝘨 𝘵𝘩𝘦 2𝘯𝘥 𝘈𝘯𝘯𝘶𝘢𝘭 𝘙𝘰𝘯 𝘞𝘩𝘦𝘦𝘭𝘦𝘳 𝘔𝘶𝘴𝘪𝘤 𝘌𝘥𝘶𝘤𝘢𝘵𝘰𝘳 𝘰𝘧 𝘵𝘩𝘦 𝘠𝘦𝘢𝘳 𝘈𝘸𝘢𝘳𝘥 \n\n\n\n* 𝘈𝘯 𝘈𝘭𝘭𝘶𝘳𝘪𝘯𝘨 𝘌𝘹𝘱𝘦𝘳𝘪𝘦𝘯𝘤𝘦 𝘧𝘦𝘢𝘵𝘶𝘳𝘪𝘯𝘨 𝘚𝘢𝘳𝘢𝘩 𝘊𝘰𝘣𝘶𝘳𝘯 𝘢𝘯𝘥 𝘚𝘵𝘦𝘱𝘩𝘦𝘯 𝘗𝘰𝘸𝘦𝘭𝘭 \n\n\n\n* 𝘈𝘧𝘵𝘦𝘳 𝘗𝘢𝘳𝘵𝘺 𝘢𝘵 𝘵𝘩𝘦 𝘉𝘳𝘰𝘰𝘬 𝘋𝘰𝘸𝘯𝘵𝘰𝘸𝘯 𝘸𝘪𝘵𝘩 𝘛𝘩𝘦𝘮𝘦𝘥 𝘚𝘱𝘦𝘤𝘪𝘢𝘭𝘴 𝘢𝘯𝘥 𝘢𝘯 𝘌𝘹𝘵𝘦𝘯𝘥𝘦𝘥 𝘏𝘢𝘱𝘱𝘺 𝘏𝘰𝘶𝘳 𝘫𝘶𝘴𝘵 𝘧𝘰𝘳 𝘶𝘴!
URL:https://thetulsaartsdistrict.org/event/alluring-an-evening-of-opera-%f0%9d%90%8c%f0%9d%90%ae%f0%9d%90%ac%f0%9d%90%a2%f0%9d%90%9c-%f0%9d%90%84%f0%9d%90%9d%f0%9d%90%ae%f0%9d%90%9c%f0%9d%90%9a%f0%9d%90%ad%f0%9d%90%a8%f0%9d%90%ab/
LOCATION:Tulsa PAC\, 110 E. Second St\, Tulsa\, ok\, 74103\, United States
END:VEVENT
BEGIN:VEVENT
DTSTART;TZID=America/Chicago:20230204T193000
DTEND;TZID=America/Chicago:20230204T210000
DTSTAMP:20260423T035444
CREATED:20230128T224548Z
LAST-MODIFIED:20230128T224550Z
UID:51441-1675539000-1675544400@thetulsaartsdistrict.org
SUMMARY:CAPTIVATING: BRAHMS’ SYMPHONY NO. 1 presented by Tulsa Symphony at Tulsa PAC
DESCRIPTION:
URL:https://thetulsaartsdistrict.org/event/captivating-brahms-symphony-no-1-presented-by-tulsa-symphony-at-tulsa-pac/
LOCATION:Tulsa PAC\, 110 E. Second St\, Tulsa\, ok\, 74103\, United States
END:VEVENT
BEGIN:VEVENT
DTSTART;TZID=America/Chicago:20230127T190000
DTEND;TZID=America/Chicago:20230127T210000
DTSTAMP:20260423T035444
CREATED:20221230T161417Z
LAST-MODIFIED:20221230T161419Z
UID:50051-1674846000-1674853200@thetulsaartsdistrict.org
SUMMARY:JOSEPHINE G. WINTER CHAMBER MUSIC SERIES by Tulsa Symphony at FIRST PRESBYTERIAN CHURCH
DESCRIPTION:
URL:https://thetulsaartsdistrict.org/event/josephine-g-winter-chamber-music-series-by-tulsa-symphony-at-first-presbyterian-church/
LOCATION:First Presbyterian Chuch\, Tulsa
END:VEVENT
BEGIN:VEVENT
DTSTART;TZID=America/Chicago:20230114T193000
DTEND;TZID=America/Chicago:20230114T213000
DTSTAMP:20260423T035444
CREATED:20221229T231212Z
LAST-MODIFIED:20221229T231214Z
UID:50045-1673724600-1673731800@thetulsaartsdistrict.org
SUMMARY:PATTI JOHNSON WILSON CLASSICS SERIES presents INVIGORATING: PROKOFIEV’S SYMPHONY NO. 5 by Tulsa Symphony at Tulsa PAC
DESCRIPTION:
URL:https://thetulsaartsdistrict.org/event/patti-johnson-wilson-classics-series-presents-invigorating-prokofievs-symphony-no-5-by-tulsa-symphony-at-tulsa-pac/
LOCATION:Tulsa PAC\, 110 E. Second St\, Tulsa\, ok\, 74103\, United States
END:VEVENT
BEGIN:VEVENT
DTSTART;TZID=America/Chicago:20221119T193000
DTEND;TZID=America/Chicago:20221119T213000
DTSTAMP:20260423T035444
CREATED:20220911T211027Z
LAST-MODIFIED:20220911T211029Z
UID:44967-1668886200-1668893400@thetulsaartsdistrict.org
SUMMARY:PATTI JOHNSON WILSON CLASSICS SERIES -SENSATIONAL: DVOŘÁK’S SYMPHONY NO. 7 presented by Tulsa Symphony at Tulsa Performance Arts Center
DESCRIPTION:
URL:https://thetulsaartsdistrict.org/event/patti-johnson-wilson-classics-series-sensational-dvoraks-symphony-no-7-presented-by-tulsa-symphony-at-tulsa-performance-arts-center/
LOCATION:Tulsa PAC\, 110 E. Second St\, Tulsa\, ok\, 74103\, United States
END:VEVENT
BEGIN:VEVENT
DTSTART;TZID=America/Chicago:20221111T190000
DTEND;TZID=America/Chicago:20221111T210000
DTSTAMP:20260423T035444
CREATED:20220911T210321Z
LAST-MODIFIED:20220911T212550Z
UID:44962-1668193200-1668200400@thetulsaartsdistrict.org
SUMMARY:JOSEPHINE G. WINTER CHAMBER MUSIC SERIES - CHAMBER MUSIC SERIES: DVOŘÁK presented by Tulsa Symphony at First Presbyterian Church
DESCRIPTION:
URL:https://thetulsaartsdistrict.org/event/josephine-g-winter-chamber-music-series-chamber-music-series-dvorak-pressented-by-tulsa-symphony-at-first-presbyterian-church/
LOCATION:First Presbyterian Chuch\, Tulsa
END:VEVENT
BEGIN:VEVENT
DTSTART;TZID=America/Chicago:20221008T193000
DTEND;TZID=America/Chicago:20221008T213000
DTSTAMP:20260423T035444
CREATED:20220911T205800Z
LAST-MODIFIED:20220911T213119Z
UID:44959-1665257400-1665264600@thetulsaartsdistrict.org
SUMMARY:PATTI JOHNSON WILSON CLASSICS SERIES - UNFORGETTABLE: BERNSTEIN’S SYMPHONIC DANCES Presented by Tulsa Symphony at Tulsa PAC
DESCRIPTION:
URL:https://thetulsaartsdistrict.org/event/patti-johnson-wilson-classics-series-unforgettable-bernsteins-symphonic-dances-presented-by-tulsa-symphony-at-tulsa-pac/
LOCATION:Tulsa PAC\, 110 E. Second St\, Tulsa\, ok\, 74103\, United States
END:VEVENT
BEGIN:VEVENT
DTSTART;TZID=America/Chicago:20221002T150000
DTEND;TZID=America/Chicago:20221002T170000
DTSTAMP:20260423T035444
CREATED:20220911T205150Z
LAST-MODIFIED:20220911T205152Z
UID:44956-1664722800-1664730000@thetulsaartsdistrict.org
SUMMARY:DR. DAVID B. WATERS CHAMBER ORCHESTRA SERIES: HAYDN'S SYMPHONY NO. 83 presented by Tulsa Symphony Orchestra at Lorton Performance Center
DESCRIPTION:
URL:https://thetulsaartsdistrict.org/event/dr-david-b-waters-chamber-orchestra-series-haydns-symphony-no-83-presented-by-tulsa-symphony-orchestra-at-lorton-performance-center/
LOCATION:Lorton Performance Center\, 550 S. Gary Pl\, Tulsa\, Oklahoma\, 74104\, United States
END:VEVENT
BEGIN:VEVENT
DTSTART;TZID=America/Chicago:20220924T200000
DTEND;TZID=America/Chicago:20220924T220000
DTSTAMP:20260423T035444
CREATED:20220830T194217Z
LAST-MODIFIED:20220830T194218Z
UID:44509-1664049600-1664056800@thetulsaartsdistrict.org
SUMMARY:PATTI JOHNSON WILSON CLASSICS SERIES - MAGNIFICENT: SHOSTAKOVICH’S SYMPHONY NO. 5 by Tulsa Symphony at Tulsa PAC
DESCRIPTION:
URL:https://thetulsaartsdistrict.org/event/patti-johnson-wilson-classics-series-magnificent-shostakovichs-symphony-no-5-by-tulsa-symphony-at-tulsa-pac/
LOCATION:Tulsa PAC\, 110 E. Second St\, Tulsa\, ok\, 74103\, United States
END:VEVENT
BEGIN:VEVENT
DTSTART;TZID=America/Chicago:20220916T190000
DTEND;TZID=America/Chicago:20220916T210000
DTSTAMP:20260423T035444
CREATED:20220830T193310Z
LAST-MODIFIED:20220830T193954Z
UID:44504-1663354800-1663362000@thetulsaartsdistrict.org
SUMMARY:JOSEPHINE G. WINTER CHAMBER MUSIC SCHUBERT SERIES by Tulsa Symphony at First Presbyterian Church
DESCRIPTION:
URL:https://thetulsaartsdistrict.org/event/josephine-g-winter-chamber-music-schubert-series/
LOCATION:First Presbyterian Chuch\, Tulsa
END:VEVENT
BEGIN:VEVENT
DTSTART;TZID=America/Chicago:20220909T200000
DTEND;TZID=America/Chicago:20220909T203000
DTSTAMP:20260423T035444
CREATED:20220830T192727Z
LAST-MODIFIED:20220830T192728Z
UID:44501-1662753600-1662755400@thetulsaartsdistrict.org
SUMMARY:WALT DISNEY ANIMATION STUDIOS: A DECADE IN CONCERT by Tulsa Symphony at ONEOK Field
DESCRIPTION:
URL:https://thetulsaartsdistrict.org/event/walt-disney-animation-studios-a-decade-in-concert-by-tulsa-symphony-at-oneok-field/
LOCATION:ONEOK Field in Greenwood\, 201 N Elgin\, Tulsa\, OK\, 74120\, United States
END:VEVENT
BEGIN:VEVENT
DTSTART;TZID=America/Chicago:20220516T200000
DTEND;TZID=America/Chicago:20220516T220000
DTSTAMP:20260423T035444
CREATED:20220430T181647Z
LAST-MODIFIED:20220430T181650Z
UID:38117-1652731200-1652738400@thetulsaartsdistrict.org
SUMMARY:Tulsa Symphony Orchestra joins the Eagles at BOK Center to perform "Hotel California"
DESCRIPTION:Your Tulsa Symphony Orchestra joins the Eagles on May 16\, 2022 at the BOK Center!  The concert will feature ‘Hotel California\,’ in its entirety from start to finish\, accompanied by the Tulsa Symphony Orchestra and choir. After a short intermission the band will perform a set of their greatest hits. \n\n\n\n  – https://www.ticketmaster.com/eagle…/event/20005B908CDCA0EC
URL:https://thetulsaartsdistrict.org/event/tulsa-symphony-orchestra-joins-the-eagles-at-bok-center-to-perform-hotel-california/
LOCATION:BOK Center\, 200 S Denver St\, Tulsa
END:VEVENT
BEGIN:VEVENT
DTSTART;TZID=America/Chicago:20220501T160000
DTEND;TZID=America/Chicago:20220501T180000
DTSTAMP:20260423T035444
CREATED:20220326T202646Z
LAST-MODIFIED:20220403T193137Z
UID:36686-1651420800-1651428000@thetulsaartsdistrict.org
SUMMARY:Tulsa Symphony presents Flint Family Foundation Concert Series: Strike\, Scrape\, Shake at Guthrie Green
DESCRIPTION:
URL:https://thetulsaartsdistrict.org/event/flint-family-foundation-concert-series-strike-scrape-shake-at-guthrie-green/
LOCATION:Guthrie Green\, 111 E Reconciliation Way\, Tulsa\, OK\, 74103\, United States
END:VEVENT
BEGIN:VEVENT
DTSTART;TZID=America/Chicago:20220424T160000
DTEND;TZID=America/Chicago:20220424T180000
DTSTAMP:20260423T035444
CREATED:20220324T223813Z
LAST-MODIFIED:20220403T193105Z
UID:36537-1650816000-1650823200@thetulsaartsdistrict.org
SUMMARY:Tulsa Symphony presents Flint Family Concert Series: From Bach to The Beatles at Guthrie Green
DESCRIPTION:
URL:https://thetulsaartsdistrict.org/event/flint-family-concert-series-from-bach-to-the-beatles-at-guthrie-green/
LOCATION:Guthrie Green\, 111 E Reconciliation Way\, Tulsa\, OK\, 74103\, United States
END:VEVENT
BEGIN:VEVENT
DTSTART;TZID=America/Chicago:20220410T160000
DTEND;TZID=America/Chicago:20220410T180000
DTSTAMP:20260423T035444
CREATED:20220324T222547Z
LAST-MODIFIED:20220403T193042Z
UID:36527-1649606400-1649613600@thetulsaartsdistrict.org
SUMMARY:Tulsa Symphony presents Flint Family Concert Series: Woodwinds Around the World at Guthrie Green
DESCRIPTION:
URL:https://thetulsaartsdistrict.org/event/flint-family-concert-series-woodwinds-around-the-world-at-guthrie-green/
LOCATION:Guthrie Green\, 111 E Reconciliation Way\, Tulsa\, OK\, 74103\, United States
END:VEVENT
BEGIN:VEVENT
DTSTART;TZID=America/Chicago:20220403T160000
DTEND;TZID=America/Chicago:20220403T180000
DTSTAMP:20260423T035444
CREATED:20220324T222321Z
LAST-MODIFIED:20220403T193021Z
UID:36524-1649001600-1649008800@thetulsaartsdistrict.org
SUMMARY:Tulsa Symphony presents Flint Family Concert Series: Swingin’ with the Strings at Guthrie Green
DESCRIPTION:
URL:https://thetulsaartsdistrict.org/event/flint-family-concert-series-swingin-with-the-strings-at-guthrie-green/
LOCATION:Guthrie Green\, 111 E Reconciliation Way\, Tulsa\, OK\, 74103\, United States
END:VEVENT
BEGIN:VEVENT
DTSTART;TZID=America/Chicago:20220402T193000
DTEND;TZID=America/Chicago:20220402T213000
DTSTAMP:20260423T035444
CREATED:20220326T201930Z
LAST-MODIFIED:20220326T201933Z
UID:36680-1648927800-1648935000@thetulsaartsdistrict.org
SUMMARY:The Titan: Mahler's Symphony No. 1 performance by Tulsa Symphony at Tulsa PAC
DESCRIPTION:
URL:https://thetulsaartsdistrict.org/event/the-titan-mahlers-symphony-no-1-performance-by-tulsa-symphony-at-tulsa-pac/
LOCATION:Tulsa PAC\, 110 E. Second St\, Tulsa\, ok\, 74103\, United States
END:VEVENT
BEGIN:VEVENT
DTSTART;TZID=America/Chicago:20220311T190000
DTEND;TZID=America/Chicago:20220311T210000
DTSTAMP:20260423T035444
CREATED:20211003T191707Z
LAST-MODIFIED:20220311T173914Z
UID:29426-1647025200-1647032400@thetulsaartsdistrict.org
SUMMARY:Fridays in the Loft: Brahms at First Presbyterian Church by Tulsa Symphony
DESCRIPTION:
URL:https://thetulsaartsdistrict.org/event/fridays-in-the-loft-brahms-at-the-flyloft-tulsa/
LOCATION:First Presbyterian Chuch\, Tulsa
END:VEVENT
BEGIN:VEVENT
DTSTART;TZID=America/Chicago:20220305T193000
DTEND;TZID=America/Chicago:20220305T213000
DTSTAMP:20260423T035444
CREATED:20220303T193442Z
LAST-MODIFIED:20220303T193444Z
UID:35595-1646508600-1646515800@thetulsaartsdistrict.org
SUMMARY:UNFINISHED: SCHUBERT'S SYMPHONY NO. 8 presented by Tulsa Symphony at Tulsa PAC
DESCRIPTION:This unique program features Borodin’s Prince Igor Overture\, Bartok’s Piano Concerto No. 3\, and Schubert – Symphony No. 8 “Unfinished.” Principal Guest Conductor Daniel Hege will lead this exciting program. \n\n\n\nBorodin – Prince Igor OvertureBartok – Piano Concerto No. 3Schubert – Symphony No. 8 “Unfinished” \n\n\n\nOrion Weiss\, pianoDaniel Hege\, Principal Guest Conductor \n\n\n\nPatron Entry PolicyAll patrons will be required to show proof of full COVID-19 vaccinations or negative COVID-19 test results to attend any indoor Tulsa Symphony performance\, including Fridays in the Loft concerts\, Classics concerts\, and film concerts. Masks will be required. For the TSO’s full patron entry policy\, please visit TulsaSymphony.org/entry-policy/
URL:https://thetulsaartsdistrict.org/event/unfinished-schuberts-symphony-no-8-presented-by-tulsa-symphony-at-tulsa-pac/
LOCATION:Tulsa PAC\, 110 E. Second St\, Tulsa\, ok\, 74103\, United States
END:VEVENT
BEGIN:VEVENT
DTSTART;TZID=America/Chicago:20220211T190000
DTEND;TZID=America/Chicago:20220211T210000
DTSTAMP:20260423T035444
CREATED:20211003T191530Z
LAST-MODIFIED:20211003T191531Z
UID:29423-1644606000-1644613200@thetulsaartsdistrict.org
SUMMARY:Fridays in the Loft: Schubert at The Flyloft Tulsa
DESCRIPTION:
URL:https://thetulsaartsdistrict.org/event/fridays-in-the-loft-schubert-at-the-flyloft-tulsa/
LOCATION:FlyLoft Downtown Tulsa\, 117 N Boston\, Tulsa\, OK\, 74103\, United States
END:VEVENT
BEGIN:VEVENT
DTSTART;TZID=America/Chicago:20220205T193000
DTEND;TZID=America/Chicago:20220205T210000
DTSTAMP:20260423T035444
CREATED:20220120T224322Z
LAST-MODIFIED:20220120T224324Z
UID:34434-1644089400-1644094800@thetulsaartsdistrict.org
SUMMARY:Spitfire: Shostakovich's Symphony No. 9 by Tulsa Symphony at Tulsa PAC
DESCRIPTION:
URL:https://thetulsaartsdistrict.org/event/spitfire-shostakovichs-symphony-no-9-by-tulsa-symphony-at-tulsa-pac/
LOCATION:Tulsa PAC\, 110 E. Second St\, Tulsa\, ok\, 74103\, United States
END:VEVENT
BEGIN:VEVENT
DTSTART;TZID=America/Chicago:20220129T193000
DTEND;TZID=America/Chicago:20220129T210000
DTSTAMP:20260423T035444
CREATED:20211231T002827Z
LAST-MODIFIED:20211231T003257Z
UID:33248-1643484600-1643490000@thetulsaartsdistrict.org
SUMMARY:Star Wars: A New Hope presented by Tulsa Symphony at Chapman Music Hall - Tulsa PAC
DESCRIPTION:Experience Star Wars like never before! Jump in the Millennium Falcon and journey to Tatooine\, Alderaan and beyond with a complete showing of Star Wars: A New Hope in high-definition\, on a giant screen\, with John Williams’ Oscar® winning score played live by Tulsa Symphony. Luke Skywalker leaves his home planet\, battles the evil empire and learns the ways of the Force in the iconic film that started it all. \n\n\n\n© 2021 & TM LUCASFILM LTD. ALL RIGHTS RESERVED © DISNEY. \n\n\n\nPresentation licensed by Disney Concerts in association with 20th Century Fox\, Lucasfilm Ltd. and Warner/Chappell Music. \n\n\n\nThis event requires a mask and proof of vaccination or negative test to attend. For more information\, visit: https://tulsasymphony.org/entry-policy/
URL:https://thetulsaartsdistrict.org/event/star-wars-a-new-hope-presented-by-tulsa-symphony/
LOCATION:Tulsa PAC\, 110 E. Second St\, Tulsa\, ok\, 74103\, United States
END:VEVENT
BEGIN:VEVENT
DTSTART;TZID=America/Chicago:20220115T193000
DTEND;TZID=America/Chicago:20220115T210000
DTSTAMP:20260423T035444
CREATED:20211231T002558Z
LAST-MODIFIED:20211231T003344Z
UID:33244-1642275000-1642280400@thetulsaartsdistrict.org
SUMMARY:Folk Dances presented by Tulsa Symphony at Chapman Music Hall - Tulsa PAC
DESCRIPTION:Principal Guest Conductor Daniel Hege returns to the Tulsa Performing Arts Center stage for Folk Dances: “London” Symphony! This exciting program features fiery works such as Bartok’s Romanian Folk Dances\, Vaughan Williams’ Tuba Concerto\, featuring Principal Tuba – Jarrod Robertson\, Britten’s Simple Symphony\, and Vaughan Williams’ Symphony No. 2 “London!” \n\n\n\nBartok – Romanian Folk DancesVaughan Williams – Tuba ConcertoBritten – Simple SymphonyVaughan Williams – Symphony No. 2 “London” \n\n\n\nDaniel Hege\, Principal Guest ConductorJarrod Robertson\, Principal Tuba \n\n\n\nThis event requires a mask and proof of vaccination or negative test to attend. For more information\, visit: https://tulsasymphony.org/entry-policy/ \n\n\n\nTickets go on sale Sept 3 at 10:30 a.m.
URL:https://thetulsaartsdistrict.org/event/folk-dances-by-tulsa-symphony/
LOCATION:Tulsa PAC\, 110 E. Second St\, Tulsa\, ok\, 74103\, United States
END:VEVENT
BEGIN:VEVENT
DTSTART;TZID=America/Chicago:20211204T193000
DTEND;TZID=America/Chicago:20211204T210000
DTSTAMP:20260423T035444
CREATED:20211130T214735Z
LAST-MODIFIED:20211130T214933Z
UID:31777-1638646200-1638651600@thetulsaartsdistrict.org
SUMMARY:The Polar Express In Concert by Tulsa Symphony
DESCRIPTION:
URL:https://thetulsaartsdistrict.org/event/the-polar-express-in-concert-by-tulsa-symphony/
LOCATION:Tulsa PAC\, 110 E. Second St\, Tulsa\, ok\, 74103\, United States
END:VEVENT
BEGIN:VEVENT
DTSTART;TZID=America/Chicago:20211204T193000
DTEND;TZID=America/Chicago:20211204T210000
DTSTAMP:20260423T035444
CREATED:20211030T203413Z
LAST-MODIFIED:20211030T203554Z
UID:30938-1638646200-1638651600@thetulsaartsdistrict.org
SUMMARY:The Polar Express In Concert presented by Tulsa Symphony at Tulsa PAC
DESCRIPTION:Get up\, get on\, and get ready for the ride of your life! It’s Christmas Eve\, and you’re about to roller-coaster up and down mountains\, slip-slide over ice fields\, teeter across mile-high bridges and be served hot chocolate by singing waiters more astonishing than any you can imagine. You’re on The Polar Express! Tom Hanks stars in and Robert Zemeckis directs this instant holiday classic filmed in dazzling performance-capture animation that makes every moment magical. “Seeing is believing\,” says a mysterious hobo who rides the rails with you. You’ll see wonders. And you’ll believe. All aboooooard! \n\n\n\nTHE POLAR EXPRESS and all related character and elements © & ™ Warner Bros. Entertainment Inc. \n\n\n\nRon Spigelman\, Guest Conductor \n\n\n\nThis event requires a mask and proof of vaccination or negative test to attend. For more information\, visit: https://tulsasymphony.org/entry-policy/
URL:https://thetulsaartsdistrict.org/event/the-polar-express-in-concert-presented-by-tulsa-symphony-at-tulsa-pac/
LOCATION:Tulsa PAC\, 110 E. Second St\, Tulsa\, ok\, 74103\, United States
END:VEVENT
BEGIN:VEVENT
DTSTART;TZID=America/Chicago:20211113T193000
DTEND;TZID=America/Chicago:20211113T213000
DTSTAMP:20260423T035444
CREATED:20211015T210126Z
LAST-MODIFIED:20211015T210127Z
UID:30172-1636831800-1636839000@thetulsaartsdistrict.org
SUMMARY:Symphonic Poetry: Stravinsky's Petrouchka by Tulsa Symphony Orchestra at Tulsa PAC
DESCRIPTION:
URL:https://thetulsaartsdistrict.org/event/symphonic-poetry-stravinskys-petrouchka-by-tulsa-symphony-orchestra-at-tulsa-pac/
LOCATION:Tulsa PAC\, 110 E. Second St\, Tulsa\, ok\, 74103\, United States
END:VEVENT
BEGIN:VEVENT
DTSTART;TZID=America/Chicago:20211105T190000
DTEND;TZID=America/Chicago:20211105T210000
DTSTAMP:20260423T035444
CREATED:20211003T191320Z
LAST-MODIFIED:20211028T212112Z
UID:29420-1636138800-1636146000@thetulsaartsdistrict.org
SUMMARY:Fridays in the Loft: Dohnányi\, Hindemith\, Montgomery & Walker at FLYLOFT by Tulsa Symphony
DESCRIPTION:Hindemith: Duos for Clarinet and Double BassJessie Montgomery: Strum for String QuartetGeorge Walker: Lyric for StringsDohnányi: Sextet for Violin\, Viola\, Cello\, Clarinet\, Horn and Piano
URL:https://thetulsaartsdistrict.org/event/fridays-in-the-loft-dohnanyi-at-flyloft/
LOCATION:FlyLoft Downtown Tulsa\, 117 N Boston\, Tulsa\, OK\, 74103\, United States
END:VEVENT
BEGIN:VEVENT
DTSTART;TZID=America/Chicago:20211009T200000
DTEND;TZID=America/Chicago:20211009T220000
DTSTAMP:20260423T035444
CREATED:20210925T210748Z
LAST-MODIFIED:20210925T210750Z
UID:29239-1633809600-1633816800@thetulsaartsdistrict.org
SUMMARY:Triumph: Beethoven's "Emperor" Concerto presented by Tulsa Symphony at Tulsa PAC
DESCRIPTION:The Tulsa Symphony returns home to the Tulsa Performing Arts Center in just over 2 weeks for Triumph: Beethoven’s “Emperor” Concerto with Garrick Ohlsson and led by Bramwell Tovey!
URL:https://thetulsaartsdistrict.org/event/triumph-beethovens-emperor-concerto-presented-by-tulsa-symphony-at-tulsa-pac/
LOCATION:Tulsa PAC\, 110 E. Second St\, Tulsa\, ok\, 74103\, United States
END:VEVENT
BEGIN:VEVENT
DTSTART;TZID=America/Chicago:20210903T193000
DTEND;TZID=America/Chicago:20210903T213000
DTSTAMP:20260423T035444
CREATED:20210813T171427Z
LAST-MODIFIED:20210813T202829Z
UID:28239-1630697400-1630704600@thetulsaartsdistrict.org
SUMMARY:Symphony in the Park!  Tulsa Symphony Orchestra at Guthrie Green
DESCRIPTION:
URL:https://thetulsaartsdistrict.org/event/symphony-in-the-park-tulsa-symphony-orchestra-at-guthrie-green/
LOCATION:Guthrie Green\, 111 E Reconciliation Way\, Tulsa\, OK\, 74103\, United States
END:VEVENT
END:VCALENDAR