BEGIN:VCALENDAR
VERSION:2.0
PRODID:-//Tulsa Arts District - ECPv6.15.20//NONSGML v1.0//EN
CALSCALE:GREGORIAN
METHOD:PUBLISH
X-WR-CALNAME:Tulsa Arts District
X-ORIGINAL-URL:https://thetulsaartsdistrict.org
X-WR-CALDESC:Events for Tulsa Arts District
REFRESH-INTERVAL;VALUE=DURATION:PT1H
X-Robots-Tag:noindex
X-PUBLISHED-TTL:PT1H
BEGIN:VTIMEZONE
TZID:America/Chicago
BEGIN:DAYLIGHT
TZOFFSETFROM:-0600
TZOFFSETTO:-0500
TZNAME:CDT
DTSTART:20250309T080000
END:DAYLIGHT
BEGIN:STANDARD
TZOFFSETFROM:-0500
TZOFFSETTO:-0600
TZNAME:CST
DTSTART:20251102T070000
END:STANDARD
BEGIN:DAYLIGHT
TZOFFSETFROM:-0600
TZOFFSETTO:-0500
TZNAME:CDT
DTSTART:20260308T080000
END:DAYLIGHT
BEGIN:STANDARD
TZOFFSETFROM:-0500
TZOFFSETTO:-0600
TZNAME:CST
DTSTART:20261101T070000
END:STANDARD
BEGIN:DAYLIGHT
TZOFFSETFROM:-0600
TZOFFSETTO:-0500
TZNAME:CDT
DTSTART:20270314T080000
END:DAYLIGHT
BEGIN:STANDARD
TZOFFSETFROM:-0500
TZOFFSETTO:-0600
TZNAME:CST
DTSTART:20271107T070000
END:STANDARD
END:VTIMEZONE
BEGIN:VEVENT
DTSTART;TZID=America/Chicago:20260317T120000
DTEND;TZID=America/Chicago:20260317T170000
DTSTAMP:20260421T085323
CREATED:20260114T183407Z
LAST-MODIFIED:20260317T211517Z
UID:105393-1773748800-1773766800@thetulsaartsdistrict.org
SUMMARY:FINAL WEEK: Alicia Kelly: Roughly Right at 108 Contemporary
DESCRIPTION:
URL:https://thetulsaartsdistrict.org/event/alicia-kelly-roughly-right-at-108-contemporary-2026-03-17/2026-03-17/
LOCATION:108 Contemporary\, 108 E Reconciliation Way\, Tulsa\, OK\, 74103\, United States
END:VEVENT
BEGIN:VEVENT
DTSTART;TZID=America/Chicago:20260314T120000
DTEND;TZID=America/Chicago:20260314T170000
DTSTAMP:20260421T085323
CREATED:20260114T183407Z
LAST-MODIFIED:20260114T183944Z
UID:105392-1773489600-1773507600@thetulsaartsdistrict.org
SUMMARY:Alicia Kelly: Roughly Right at 108 Contemporary
DESCRIPTION:
URL:https://thetulsaartsdistrict.org/event/alicia-kelly-roughly-right-at-108-contemporary-2026-02-07/2026-03-14/
LOCATION:108 Contemporary\, 108 E Reconciliation Way\, Tulsa\, OK\, 74103\, United States
END:VEVENT
BEGIN:VEVENT
DTSTART;TZID=America/Chicago:20260313T120000
DTEND;TZID=America/Chicago:20260313T170000
DTSTAMP:20260421T085323
CREATED:20260114T183407Z
LAST-MODIFIED:20260114T183944Z
UID:105391-1773403200-1773421200@thetulsaartsdistrict.org
SUMMARY:Alicia Kelly: Roughly Right at 108 Contemporary
DESCRIPTION:
URL:https://thetulsaartsdistrict.org/event/alicia-kelly-roughly-right-at-108-contemporary-2026-02-07/2026-03-13/
LOCATION:108 Contemporary\, 108 E Reconciliation Way\, Tulsa\, OK\, 74103\, United States
END:VEVENT
BEGIN:VEVENT
DTSTART;TZID=America/Chicago:20260312T120000
DTEND;TZID=America/Chicago:20260312T170000
DTSTAMP:20260421T085323
CREATED:20260114T183407Z
LAST-MODIFIED:20260114T183944Z
UID:105390-1773316800-1773334800@thetulsaartsdistrict.org
SUMMARY:Alicia Kelly: Roughly Right at 108 Contemporary
DESCRIPTION:
URL:https://thetulsaartsdistrict.org/event/alicia-kelly-roughly-right-at-108-contemporary-2026-02-07/2026-03-12/
LOCATION:108 Contemporary\, 108 E Reconciliation Way\, Tulsa\, OK\, 74103\, United States
END:VEVENT
BEGIN:VEVENT
DTSTART;TZID=America/Chicago:20260311T120000
DTEND;TZID=America/Chicago:20260311T170000
DTSTAMP:20260421T085323
CREATED:20260114T183407Z
LAST-MODIFIED:20260114T183943Z
UID:105389-1773230400-1773248400@thetulsaartsdistrict.org
SUMMARY:Alicia Kelly: Roughly Right at 108 Contemporary
DESCRIPTION:
URL:https://thetulsaartsdistrict.org/event/alicia-kelly-roughly-right-at-108-contemporary-2026-02-07/2026-03-11/
LOCATION:108 Contemporary\, 108 E Reconciliation Way\, Tulsa\, OK\, 74103\, United States
END:VEVENT
BEGIN:VEVENT
DTSTART;TZID=America/Chicago:20260310T120000
DTEND;TZID=America/Chicago:20260310T170000
DTSTAMP:20260421T085323
CREATED:20260114T183407Z
LAST-MODIFIED:20260114T183943Z
UID:105388-1773144000-1773162000@thetulsaartsdistrict.org
SUMMARY:Alicia Kelly: Roughly Right at 108 Contemporary
DESCRIPTION:
URL:https://thetulsaartsdistrict.org/event/alicia-kelly-roughly-right-at-108-contemporary-2026-02-07/2026-03-10/
LOCATION:108 Contemporary\, 108 E Reconciliation Way\, Tulsa\, OK\, 74103\, United States
END:VEVENT
BEGIN:VEVENT
DTSTART;TZID=America/Chicago:20260307T120000
DTEND;TZID=America/Chicago:20260307T170000
DTSTAMP:20260421T085323
CREATED:20260114T183407Z
LAST-MODIFIED:20260114T183943Z
UID:105387-1772884800-1772902800@thetulsaartsdistrict.org
SUMMARY:Alicia Kelly: Roughly Right at 108 Contemporary
DESCRIPTION:
URL:https://thetulsaartsdistrict.org/event/alicia-kelly-roughly-right-at-108-contemporary-2026-02-07/2026-03-07/
LOCATION:108 Contemporary\, 108 E Reconciliation Way\, Tulsa\, OK\, 74103\, United States
END:VEVENT
BEGIN:VEVENT
DTSTART;TZID=America/Chicago:20260306T120000
DTEND;TZID=America/Chicago:20260306T210000
DTSTAMP:20260421T085323
CREATED:20260114T183407Z
LAST-MODIFIED:20260114T203859Z
UID:105386-1772798400-1772830800@thetulsaartsdistrict.org
SUMMARY:Alicia Kelly: Roughly Right at 108 Contemporary
DESCRIPTION:
URL:https://thetulsaartsdistrict.org/event/alicia-kelly-roughly-right-at-108-contemporary-2026-03-06/
LOCATION:108 Contemporary\, 108 E Reconciliation Way\, Tulsa\, OK\, 74103\, United States
END:VEVENT
BEGIN:VEVENT
DTSTART;TZID=America/Chicago:20260305T120000
DTEND;TZID=America/Chicago:20260305T170000
DTSTAMP:20260421T085323
CREATED:20260114T183407Z
LAST-MODIFIED:20260114T183942Z
UID:105385-1772712000-1772730000@thetulsaartsdistrict.org
SUMMARY:Alicia Kelly: Roughly Right at 108 Contemporary
DESCRIPTION:
URL:https://thetulsaartsdistrict.org/event/alicia-kelly-roughly-right-at-108-contemporary-2026-02-07/2026-03-05/
LOCATION:108 Contemporary\, 108 E Reconciliation Way\, Tulsa\, OK\, 74103\, United States
END:VEVENT
BEGIN:VEVENT
DTSTART;TZID=America/Chicago:20260304T120000
DTEND;TZID=America/Chicago:20260304T170000
DTSTAMP:20260421T085323
CREATED:20260114T183407Z
LAST-MODIFIED:20260114T183942Z
UID:105384-1772625600-1772643600@thetulsaartsdistrict.org
SUMMARY:Alicia Kelly: Roughly Right at 108 Contemporary
DESCRIPTION:
URL:https://thetulsaartsdistrict.org/event/alicia-kelly-roughly-right-at-108-contemporary-2026-02-07/2026-03-04/
LOCATION:108 Contemporary\, 108 E Reconciliation Way\, Tulsa\, OK\, 74103\, United States
END:VEVENT
BEGIN:VEVENT
DTSTART;TZID=America/Chicago:20260303T120000
DTEND;TZID=America/Chicago:20260303T170000
DTSTAMP:20260421T085323
CREATED:20260114T183407Z
LAST-MODIFIED:20260114T183942Z
UID:105383-1772539200-1772557200@thetulsaartsdistrict.org
SUMMARY:Alicia Kelly: Roughly Right at 108 Contemporary
DESCRIPTION:
URL:https://thetulsaartsdistrict.org/event/alicia-kelly-roughly-right-at-108-contemporary-2026-02-07/2026-03-03/
LOCATION:108 Contemporary\, 108 E Reconciliation Way\, Tulsa\, OK\, 74103\, United States
END:VEVENT
BEGIN:VEVENT
DTSTART;TZID=America/Chicago:20260228T120000
DTEND;TZID=America/Chicago:20260228T170000
DTSTAMP:20260421T085323
CREATED:20260114T183407Z
LAST-MODIFIED:20260114T183942Z
UID:105382-1772280000-1772298000@thetulsaartsdistrict.org
SUMMARY:Alicia Kelly: Roughly Right at 108 Contemporary
DESCRIPTION:
URL:https://thetulsaartsdistrict.org/event/alicia-kelly-roughly-right-at-108-contemporary-2026-02-07/2026-02-28/
LOCATION:108 Contemporary\, 108 E Reconciliation Way\, Tulsa\, OK\, 74103\, United States
END:VEVENT
BEGIN:VEVENT
DTSTART;TZID=America/Chicago:20260227T120000
DTEND;TZID=America/Chicago:20260227T170000
DTSTAMP:20260421T085323
CREATED:20260114T183407Z
LAST-MODIFIED:20260114T183941Z
UID:105381-1772193600-1772211600@thetulsaartsdistrict.org
SUMMARY:Alicia Kelly: Roughly Right at 108 Contemporary
DESCRIPTION:
URL:https://thetulsaartsdistrict.org/event/alicia-kelly-roughly-right-at-108-contemporary-2026-02-07/2026-02-27/
LOCATION:108 Contemporary\, 108 E Reconciliation Way\, Tulsa\, OK\, 74103\, United States
END:VEVENT
BEGIN:VEVENT
DTSTART;TZID=America/Chicago:20260226T120000
DTEND;TZID=America/Chicago:20260226T170000
DTSTAMP:20260421T085323
CREATED:20260114T183407Z
LAST-MODIFIED:20260114T183941Z
UID:105380-1772107200-1772125200@thetulsaartsdistrict.org
SUMMARY:Alicia Kelly: Roughly Right at 108 Contemporary
DESCRIPTION:
URL:https://thetulsaartsdistrict.org/event/alicia-kelly-roughly-right-at-108-contemporary-2026-02-07/2026-02-26/
LOCATION:108 Contemporary\, 108 E Reconciliation Way\, Tulsa\, OK\, 74103\, United States
END:VEVENT
BEGIN:VEVENT
DTSTART;TZID=America/Chicago:20260225T120000
DTEND;TZID=America/Chicago:20260225T170000
DTSTAMP:20260421T085323
CREATED:20260114T183407Z
LAST-MODIFIED:20260114T183941Z
UID:105379-1772020800-1772038800@thetulsaartsdistrict.org
SUMMARY:Alicia Kelly: Roughly Right at 108 Contemporary
DESCRIPTION:
URL:https://thetulsaartsdistrict.org/event/alicia-kelly-roughly-right-at-108-contemporary-2026-02-07/2026-02-25/
LOCATION:108 Contemporary\, 108 E Reconciliation Way\, Tulsa\, OK\, 74103\, United States
END:VEVENT
BEGIN:VEVENT
DTSTART;TZID=America/Chicago:20260224T120000
DTEND;TZID=America/Chicago:20260224T170000
DTSTAMP:20260421T085323
CREATED:20260114T183407Z
LAST-MODIFIED:20260114T183940Z
UID:105378-1771934400-1771952400@thetulsaartsdistrict.org
SUMMARY:Alicia Kelly: Roughly Right at 108 Contemporary
DESCRIPTION:
URL:https://thetulsaartsdistrict.org/event/alicia-kelly-roughly-right-at-108-contemporary-2026-02-07/2026-02-24/
LOCATION:108 Contemporary\, 108 E Reconciliation Way\, Tulsa\, OK\, 74103\, United States
END:VEVENT
BEGIN:VEVENT
DTSTART;TZID=America/Chicago:20260221T120000
DTEND;TZID=America/Chicago:20260221T170000
DTSTAMP:20260421T085323
CREATED:20260114T183407Z
LAST-MODIFIED:20260114T183940Z
UID:105377-1771675200-1771693200@thetulsaartsdistrict.org
SUMMARY:Alicia Kelly: Roughly Right at 108 Contemporary
DESCRIPTION:
URL:https://thetulsaartsdistrict.org/event/alicia-kelly-roughly-right-at-108-contemporary-2026-02-07/2026-02-21/
LOCATION:108 Contemporary\, 108 E Reconciliation Way\, Tulsa\, OK\, 74103\, United States
END:VEVENT
BEGIN:VEVENT
DTSTART;TZID=America/Chicago:20260220T120000
DTEND;TZID=America/Chicago:20260220T170000
DTSTAMP:20260421T085323
CREATED:20260114T183407Z
LAST-MODIFIED:20260114T183940Z
UID:105376-1771588800-1771606800@thetulsaartsdistrict.org
SUMMARY:Alicia Kelly: Roughly Right at 108 Contemporary
DESCRIPTION:
URL:https://thetulsaartsdistrict.org/event/alicia-kelly-roughly-right-at-108-contemporary-2026-02-07/2026-02-20/
LOCATION:108 Contemporary\, 108 E Reconciliation Way\, Tulsa\, OK\, 74103\, United States
END:VEVENT
BEGIN:VEVENT
DTSTART;TZID=America/Chicago:20260219T120000
DTEND;TZID=America/Chicago:20260219T170000
DTSTAMP:20260421T085323
CREATED:20260114T183407Z
LAST-MODIFIED:20260114T183940Z
UID:105375-1771502400-1771520400@thetulsaartsdistrict.org
SUMMARY:Alicia Kelly: Roughly Right at 108 Contemporary
DESCRIPTION:
URL:https://thetulsaartsdistrict.org/event/alicia-kelly-roughly-right-at-108-contemporary-2026-02-07/2026-02-19/
LOCATION:108 Contemporary\, 108 E Reconciliation Way\, Tulsa\, OK\, 74103\, United States
END:VEVENT
BEGIN:VEVENT
DTSTART;TZID=America/Chicago:20260218T173000
DTEND;TZID=America/Chicago:20260218T193000
DTSTAMP:20260421T085323
CREATED:20260207T204239Z
LAST-MODIFIED:20260207T204241Z
UID:106750-1771435800-1771443000@thetulsaartsdistrict.org
SUMMARY:February Craft Circle at 108 Contemporary
DESCRIPTION:
URL:https://thetulsaartsdistrict.org/event/february-craft-circle-at-108-contemporary/
LOCATION:108 Contemporary\, 108 E Reconciliation Way\, Tulsa\, OK\, 74103\, United States
END:VEVENT
BEGIN:VEVENT
DTSTART;TZID=America/Chicago:20260218T120000
DTEND;TZID=America/Chicago:20260218T170000
DTSTAMP:20260421T085323
CREATED:20260114T183407Z
LAST-MODIFIED:20260114T183939Z
UID:105374-1771416000-1771434000@thetulsaartsdistrict.org
SUMMARY:Alicia Kelly: Roughly Right at 108 Contemporary
DESCRIPTION:
URL:https://thetulsaartsdistrict.org/event/alicia-kelly-roughly-right-at-108-contemporary-2026-02-07/2026-02-18/
LOCATION:108 Contemporary\, 108 E Reconciliation Way\, Tulsa\, OK\, 74103\, United States
END:VEVENT
BEGIN:VEVENT
DTSTART;TZID=America/Chicago:20260217T120000
DTEND;TZID=America/Chicago:20260217T170000
DTSTAMP:20260421T085323
CREATED:20260114T183407Z
LAST-MODIFIED:20260114T183939Z
UID:105373-1771329600-1771347600@thetulsaartsdistrict.org
SUMMARY:Alicia Kelly: Roughly Right at 108 Contemporary
DESCRIPTION:
URL:https://thetulsaartsdistrict.org/event/alicia-kelly-roughly-right-at-108-contemporary-2026-02-07/2026-02-17/
LOCATION:108 Contemporary\, 108 E Reconciliation Way\, Tulsa\, OK\, 74103\, United States
END:VEVENT
BEGIN:VEVENT
DTSTART;TZID=America/Chicago:20260214T120000
DTEND;TZID=America/Chicago:20260214T170000
DTSTAMP:20260421T085323
CREATED:20260114T183407Z
LAST-MODIFIED:20260114T183939Z
UID:105372-1771070400-1771088400@thetulsaartsdistrict.org
SUMMARY:Alicia Kelly: Roughly Right at 108 Contemporary
DESCRIPTION:
URL:https://thetulsaartsdistrict.org/event/alicia-kelly-roughly-right-at-108-contemporary-2026-02-07/2026-02-14/
LOCATION:108 Contemporary\, 108 E Reconciliation Way\, Tulsa\, OK\, 74103\, United States
END:VEVENT
BEGIN:VEVENT
DTSTART;TZID=America/Chicago:20260213T120000
DTEND;TZID=America/Chicago:20260213T170000
DTSTAMP:20260421T085323
CREATED:20260114T183407Z
LAST-MODIFIED:20260114T183939Z
UID:105371-1770984000-1771002000@thetulsaartsdistrict.org
SUMMARY:Alicia Kelly: Roughly Right at 108 Contemporary
DESCRIPTION:
URL:https://thetulsaartsdistrict.org/event/alicia-kelly-roughly-right-at-108-contemporary-2026-02-07/2026-02-13/
LOCATION:108 Contemporary\, 108 E Reconciliation Way\, Tulsa\, OK\, 74103\, United States
END:VEVENT
BEGIN:VEVENT
DTSTART;TZID=America/Chicago:20260212T173000
DTEND;TZID=America/Chicago:20260212T193000
DTSTAMP:20260421T085323
CREATED:20260114T174803Z
LAST-MODIFIED:20260114T174805Z
UID:105361-1770917400-1770924600@thetulsaartsdistrict.org
SUMMARY:February Critique Night at 108 Contemporary
DESCRIPTION:
URL:https://thetulsaartsdistrict.org/event/february-critique-night-at-108-contemporary/
LOCATION:108 Contemporary\, 108 E Reconciliation Way\, Tulsa\, OK\, 74103\, United States
END:VEVENT
BEGIN:VEVENT
DTSTART;TZID=America/Chicago:20260212T120000
DTEND;TZID=America/Chicago:20260212T170000
DTSTAMP:20260421T085323
CREATED:20260114T183407Z
LAST-MODIFIED:20260114T183938Z
UID:105370-1770897600-1770915600@thetulsaartsdistrict.org
SUMMARY:Alicia Kelly: Roughly Right at 108 Contemporary
DESCRIPTION:
URL:https://thetulsaartsdistrict.org/event/alicia-kelly-roughly-right-at-108-contemporary-2026-02-07/2026-02-12/
LOCATION:108 Contemporary\, 108 E Reconciliation Way\, Tulsa\, OK\, 74103\, United States
END:VEVENT
BEGIN:VEVENT
DTSTART;TZID=America/Chicago:20260211T120000
DTEND;TZID=America/Chicago:20260211T170000
DTSTAMP:20260421T085323
CREATED:20260114T183407Z
LAST-MODIFIED:20260114T183938Z
UID:105369-1770811200-1770829200@thetulsaartsdistrict.org
SUMMARY:Alicia Kelly: Roughly Right at 108 Contemporary
DESCRIPTION:
URL:https://thetulsaartsdistrict.org/event/alicia-kelly-roughly-right-at-108-contemporary-2026-02-07/2026-02-11/
LOCATION:108 Contemporary\, 108 E Reconciliation Way\, Tulsa\, OK\, 74103\, United States
END:VEVENT
BEGIN:VEVENT
DTSTART;TZID=America/Chicago:20260210T120000
DTEND;TZID=America/Chicago:20260210T170000
DTSTAMP:20260421T085323
CREATED:20260114T183407Z
LAST-MODIFIED:20260114T183938Z
UID:105368-1770724800-1770742800@thetulsaartsdistrict.org
SUMMARY:Alicia Kelly: Roughly Right at 108 Contemporary
DESCRIPTION:
URL:https://thetulsaartsdistrict.org/event/alicia-kelly-roughly-right-at-108-contemporary-2026-02-07/2026-02-10/
LOCATION:108 Contemporary\, 108 E Reconciliation Way\, Tulsa\, OK\, 74103\, United States
END:VEVENT
BEGIN:VEVENT
DTSTART;TZID=America/Chicago:20260207T130000
DTEND;TZID=America/Chicago:20260207T140000
DTSTAMP:20260421T085323
CREATED:20260114T204321Z
LAST-MODIFIED:20260114T204324Z
UID:105432-1770469200-1770472800@thetulsaartsdistrict.org
SUMMARY:Alicia Kelly Artist Talk at 108 Contemporary
DESCRIPTION:
URL:https://thetulsaartsdistrict.org/event/alicia-kelly-artist-talk-at-108-contemporary/
LOCATION:108 Contemporary\, 108 E Reconciliation Way\, Tulsa\, OK\, 74103\, United States
END:VEVENT
BEGIN:VEVENT
DTSTART;TZID=America/Chicago:20260207T120000
DTEND;TZID=America/Chicago:20260207T170000
DTSTAMP:20260421T085323
CREATED:20260114T183407Z
LAST-MODIFIED:20260114T183937Z
UID:105367-1770465600-1770483600@thetulsaartsdistrict.org
SUMMARY:Alicia Kelly: Roughly Right at 108 Contemporary
DESCRIPTION:
URL:https://thetulsaartsdistrict.org/event/alicia-kelly-roughly-right-at-108-contemporary-2026-02-07/2026-02-07/
LOCATION:108 Contemporary\, 108 E Reconciliation Way\, Tulsa\, OK\, 74103\, United States
END:VEVENT
END:VCALENDAR