BEGIN:VCALENDAR
VERSION:2.0
PRODID:-//Tulsa Arts District - ECPv6.15.20//NONSGML v1.0//EN
CALSCALE:GREGORIAN
METHOD:PUBLISH
X-ORIGINAL-URL:https://thetulsaartsdistrict.org
X-WR-CALDESC:Events for Tulsa Arts District
REFRESH-INTERVAL;VALUE=DURATION:PT1H
X-Robots-Tag:noindex
X-PUBLISHED-TTL:PT1H
BEGIN:VTIMEZONE
TZID:America/Chicago
BEGIN:DAYLIGHT
TZOFFSETFROM:-0600
TZOFFSETTO:-0500
TZNAME:CDT
DTSTART:20220313T080000
END:DAYLIGHT
BEGIN:STANDARD
TZOFFSETFROM:-0500
TZOFFSETTO:-0600
TZNAME:CST
DTSTART:20221106T070000
END:STANDARD
BEGIN:DAYLIGHT
TZOFFSETFROM:-0600
TZOFFSETTO:-0500
TZNAME:CDT
DTSTART:20230312T080000
END:DAYLIGHT
BEGIN:STANDARD
TZOFFSETFROM:-0500
TZOFFSETTO:-0600
TZNAME:CST
DTSTART:20231105T070000
END:STANDARD
BEGIN:DAYLIGHT
TZOFFSETFROM:-0600
TZOFFSETTO:-0500
TZNAME:CDT
DTSTART:20240310T080000
END:DAYLIGHT
BEGIN:STANDARD
TZOFFSETFROM:-0500
TZOFFSETTO:-0600
TZNAME:CST
DTSTART:20241103T070000
END:STANDARD
BEGIN:DAYLIGHT
TZOFFSETFROM:-0600
TZOFFSETTO:-0500
TZNAME:CDT
DTSTART:20250309T080000
END:DAYLIGHT
BEGIN:STANDARD
TZOFFSETFROM:-0500
TZOFFSETTO:-0600
TZNAME:CST
DTSTART:20251102T070000
END:STANDARD
BEGIN:DAYLIGHT
TZOFFSETFROM:-0600
TZOFFSETTO:-0500
TZNAME:CDT
DTSTART:20260308T080000
END:DAYLIGHT
BEGIN:STANDARD
TZOFFSETFROM:-0500
TZOFFSETTO:-0600
TZNAME:CST
DTSTART:20261101T070000
END:STANDARD
END:VTIMEZONE
BEGIN:VEVENT
DTSTART;TZID=America/Chicago:20250516T170000
DTEND;TZID=America/Chicago:20250516T210000
DTSTAMP:20260419T101843
CREATED:20211230T225345Z
LAST-MODIFIED:20211230T225345Z
UID:84351-1747414800-1747429200@thetulsaartsdistrict.org
SUMMARY:Pie Night at Antoinette Bakery & Cafe
DESCRIPTION:
URL:https://thetulsaartsdistrict.org/event/pie-night-at-antoinette-baking-co-2023-07-01-2024-07-26-2024-12-27/2025-05-16/
LOCATION:Antoinette Bakery and Cafe\, 207 N Main\, Tulsa\, OK\, 74103\, United States
END:VEVENT
BEGIN:VEVENT
DTSTART;TZID=America/Chicago:20250510T170000
DTEND;TZID=America/Chicago:20250510T210000
DTSTAMP:20260419T101843
CREATED:20211230T225345Z
LAST-MODIFIED:20211230T225345Z
UID:84350-1746896400-1746910800@thetulsaartsdistrict.org
SUMMARY:Pie Night at Antoinette Bakery & Cafe
DESCRIPTION:
URL:https://thetulsaartsdistrict.org/event/pie-night-at-antoinette-baking-co-2023-07-01-2024-07-26-2024-12-27/2025-05-10/
LOCATION:Antoinette Bakery and Cafe\, 207 N Main\, Tulsa\, OK\, 74103\, United States
END:VEVENT
BEGIN:VEVENT
DTSTART;TZID=America/Chicago:20250509T170000
DTEND;TZID=America/Chicago:20250509T210000
DTSTAMP:20260419T101843
CREATED:20211230T225345Z
LAST-MODIFIED:20211230T225345Z
UID:84349-1746810000-1746824400@thetulsaartsdistrict.org
SUMMARY:Pie Night at Antoinette Bakery & Cafe
DESCRIPTION:
URL:https://thetulsaartsdistrict.org/event/pie-night-at-antoinette-baking-co-2023-07-01-2024-07-26-2024-12-27/2025-05-09/
LOCATION:Antoinette Bakery and Cafe\, 207 N Main\, Tulsa\, OK\, 74103\, United States
END:VEVENT
BEGIN:VEVENT
DTSTART;TZID=America/Chicago:20250503T170000
DTEND;TZID=America/Chicago:20250503T210000
DTSTAMP:20260419T101843
CREATED:20211230T225345Z
LAST-MODIFIED:20211230T225345Z
UID:84348-1746291600-1746306000@thetulsaartsdistrict.org
SUMMARY:Pie Night at Antoinette Bakery & Cafe
DESCRIPTION:
URL:https://thetulsaartsdistrict.org/event/pie-night-at-antoinette-baking-co-2023-07-01-2024-07-26-2024-12-27/2025-05-03/
LOCATION:Antoinette Bakery and Cafe\, 207 N Main\, Tulsa\, OK\, 74103\, United States
END:VEVENT
BEGIN:VEVENT
DTSTART;TZID=America/Chicago:20250502T170000
DTEND;TZID=America/Chicago:20250502T210000
DTSTAMP:20260419T101843
CREATED:20211230T225345Z
LAST-MODIFIED:20211230T225345Z
UID:84347-1746205200-1746219600@thetulsaartsdistrict.org
SUMMARY:Pie Night at Antoinette Bakery & Cafe
DESCRIPTION:
URL:https://thetulsaartsdistrict.org/event/pie-night-at-antoinette-baking-co-2023-07-01-2024-07-26-2024-12-27/2025-05-02/
LOCATION:Antoinette Bakery and Cafe\, 207 N Main\, Tulsa\, OK\, 74103\, United States
END:VEVENT
BEGIN:VEVENT
DTSTART;TZID=America/Chicago:20250426T170000
DTEND;TZID=America/Chicago:20250426T210000
DTSTAMP:20260419T101843
CREATED:20211230T225345Z
LAST-MODIFIED:20211230T225345Z
UID:84346-1745686800-1745701200@thetulsaartsdistrict.org
SUMMARY:Pie Night at Antoinette Bakery & Cafe
DESCRIPTION:
URL:https://thetulsaartsdistrict.org/event/pie-night-at-antoinette-baking-co-2023-07-01-2024-07-26-2024-12-27/2025-04-26/
LOCATION:Antoinette Bakery and Cafe\, 207 N Main\, Tulsa\, OK\, 74103\, United States
END:VEVENT
BEGIN:VEVENT
DTSTART;TZID=America/Chicago:20250425T170000
DTEND;TZID=America/Chicago:20250425T210000
DTSTAMP:20260419T101843
CREATED:20211230T225345Z
LAST-MODIFIED:20211230T225345Z
UID:84345-1745600400-1745614800@thetulsaartsdistrict.org
SUMMARY:Pie Night at Antoinette Bakery & Cafe
DESCRIPTION:
URL:https://thetulsaartsdistrict.org/event/pie-night-at-antoinette-baking-co-2023-07-01-2024-07-26-2024-12-27/2025-04-25/
LOCATION:Antoinette Bakery and Cafe\, 207 N Main\, Tulsa\, OK\, 74103\, United States
END:VEVENT
BEGIN:VEVENT
DTSTART;TZID=America/Chicago:20250419T170000
DTEND;TZID=America/Chicago:20250419T210000
DTSTAMP:20260419T101843
CREATED:20211230T225345Z
LAST-MODIFIED:20211230T225345Z
UID:84344-1745082000-1745096400@thetulsaartsdistrict.org
SUMMARY:Pie Night at Antoinette Bakery & Cafe
DESCRIPTION:
URL:https://thetulsaartsdistrict.org/event/pie-night-at-antoinette-baking-co-2023-07-01-2024-07-26-2024-12-27/2025-04-19/
LOCATION:Antoinette Bakery and Cafe\, 207 N Main\, Tulsa\, OK\, 74103\, United States
END:VEVENT
BEGIN:VEVENT
DTSTART;TZID=America/Chicago:20250418T170000
DTEND;TZID=America/Chicago:20250418T210000
DTSTAMP:20260419T101843
CREATED:20211230T225345Z
LAST-MODIFIED:20211230T225345Z
UID:84343-1744995600-1745010000@thetulsaartsdistrict.org
SUMMARY:Pie Night at Antoinette Bakery & Cafe
DESCRIPTION:
URL:https://thetulsaartsdistrict.org/event/pie-night-at-antoinette-baking-co-2023-07-01-2024-07-26-2024-12-27/2025-04-18/
LOCATION:Antoinette Bakery and Cafe\, 207 N Main\, Tulsa\, OK\, 74103\, United States
END:VEVENT
BEGIN:VEVENT
DTSTART;TZID=America/Chicago:20250123T070000
DTEND;TZID=America/Chicago:20250123T160000
DTSTAMP:20260419T101843
CREATED:20250123T134219Z
LAST-MODIFIED:20250123T134221Z
UID:87510-1737615600-1737648000@thetulsaartsdistrict.org
SUMMARY:National Pie Day at Antoinette Bakery & Cafe
DESCRIPTION:
URL:https://thetulsaartsdistrict.org/event/national-pie-day-at-antoinette-bakery-cafe/
LOCATION:Antoinette Bakery and Cafe\, 207 N Main\, Tulsa\, OK\, 74103\, United States
END:VEVENT
BEGIN:VEVENT
DTSTART;TZID=America/Chicago:20241227T170000
DTEND;TZID=America/Chicago:20241227T210000
DTSTAMP:20260419T101843
CREATED:20211230T225345Z
LAST-MODIFIED:20241220T222218Z
UID:71729-1735318800-1735333200@thetulsaartsdistrict.org
SUMMARY:Pie Night at Antoinette Bakery & Cafe
DESCRIPTION:
URL:https://thetulsaartsdistrict.org/event/pie-night-at-antoinette-baking-co-2023-07-01-2024-07-26-2024-12-27/2024-12-27/
LOCATION:Antoinette Bakery and Cafe\, 207 N Main\, Tulsa\, OK\, 74103\, United States
END:VEVENT
BEGIN:VEVENT
DTSTART;TZID=America/Chicago:20241019T170000
DTEND;TZID=America/Chicago:20241019T210000
DTSTAMP:20260419T101843
CREATED:20211230T225345Z
LAST-MODIFIED:20241015T194846Z
UID:71710-1729357200-1729371600@thetulsaartsdistrict.org
SUMMARY:Happy Birthday with Pie Night at Antoinette Bakery & Cafe
DESCRIPTION:
URL:https://thetulsaartsdistrict.org/event/pie-night-at-antoinette-baking-co-2023-07-01-2024-07-26-2024-10-19/
LOCATION:Antoinette Bakery and Cafe\, 207 N Main\, Tulsa\, OK\, 74103\, United States
END:VEVENT
BEGIN:VEVENT
DTSTART;TZID=America/Chicago:20241018T170000
DTEND;TZID=America/Chicago:20241018T210000
DTSTAMP:20260419T101843
CREATED:20211230T225345Z
LAST-MODIFIED:20241015T194740Z
UID:71709-1729270800-1729285200@thetulsaartsdistrict.org
SUMMARY:Happy Birthday with Pie Night at Antoinette Bakery & Cafe
DESCRIPTION:
URL:https://thetulsaartsdistrict.org/event/pie-night-at-antoinette-baking-co-2023-07-01-2024-07-26-2024-10-18/
LOCATION:Antoinette Bakery and Cafe\, 207 N Main\, Tulsa\, OK\, 74103\, United States
END:VEVENT
BEGIN:VEVENT
DTSTART;TZID=America/Chicago:20241017T120000
DTEND;TZID=America/Chicago:20241017T180000
DTSTAMP:20260419T101843
CREATED:20241005T163154Z
LAST-MODIFIED:20241015T194625Z
UID:81502-1729166400-1729188000@thetulsaartsdistrict.org
SUMMARY:Happy Birthday Antoinette with Cake Night
DESCRIPTION:
URL:https://thetulsaartsdistrict.org/event/antoinette-cake-night/
LOCATION:Antoinette Bakery and Cafe\, 207 N Main\, Tulsa\, OK\, 74103\, United States
END:VEVENT
BEGIN:VEVENT
DTSTART;TZID=America/Chicago:20240919T120000
DTEND;TZID=America/Chicago:20240919T170000
DTSTAMP:20260419T101843
CREATED:20240918T205040Z
LAST-MODIFIED:20240918T205043Z
UID:80649-1726747200-1726765200@thetulsaartsdistrict.org
SUMMARY:Antoinette Cake Night Specialty Drink Version
DESCRIPTION:Join us the Thursday the 19th from 12-6pm for a specialty drink themed cake night! \n\n\n\n🪻 London Fog🎃 Gluten Free PSL🤎 Vegan Dirty Chai
URL:https://thetulsaartsdistrict.org/event/antoinette-cake-night-specialty-drink-version/
LOCATION:Antoinette Bakery and Cafe\, 207 N Main\, Tulsa\, OK\, 74103\, United States
END:VEVENT
BEGIN:VEVENT
DTSTART;TZID=America/Chicago:20240726T170000
DTEND;TZID=America/Chicago:20240726T210000
DTSTAMP:20260419T101843
CREATED:20211230T225345Z
LAST-MODIFIED:20240720T154827Z
UID:71685-1722013200-1722027600@thetulsaartsdistrict.org
SUMMARY:Pie Night at Antoinette Bakery & Cafe
DESCRIPTION:
URL:https://thetulsaartsdistrict.org/event/pie-night-at-antoinette-baking-co-2023-07-01-2024-07-26/2024-07-26/
LOCATION:Antoinette Bakery and Cafe\, 207 N Main\, Tulsa\, OK\, 74103\, United States
END:VEVENT
BEGIN:VEVENT
DTSTART;TZID=America/Chicago:20240725T120000
DTEND;TZID=America/Chicago:20240725T170000
DTSTAMP:20260419T101843
CREATED:20240719T133917Z
LAST-MODIFIED:20240719T133917Z
UID:75971-1721908800-1721926800@thetulsaartsdistrict.org
SUMMARY:Cake Day at Antoinette Bakery & Cafe
DESCRIPTION:
URL:https://thetulsaartsdistrict.org/event/cake-day-at-antoinette-bakery-cafe/
LOCATION:Antoinette Bakery and Cafe\, 207 N Main\, Tulsa\, OK\, 74103\, United States
END:VEVENT
BEGIN:VEVENT
DTSTART;TZID=America/Chicago:20240620T120000
DTEND;TZID=America/Chicago:20240620T180000
DTSTAMP:20260419T101843
CREATED:20240620T153318Z
LAST-MODIFIED:20240620T153424Z
UID:74710-1718884800-1718906400@thetulsaartsdistrict.org
SUMMARY:Cake Night at Antoinette Bakery and Cafe
DESCRIPTION:We’re going full summer soirée with flavors like Toasted Coconut\, Strawberry Lemonade and Berries and Cream  \n\n\n\nWe have Vegan and Gluten Free options too! \n\n\n\nSlices will be available from 12-6pm – see you soon!
URL:https://thetulsaartsdistrict.org/event/cake-night-at-antoinette-bakery-and-cafe/
LOCATION:Antoinette Bakery and Cafe\, 207 N Main\, Tulsa\, OK\, 74103\, United States
END:VEVENT
BEGIN:VEVENT
DTSTART;TZID=America/Chicago:20240511T080000
DTEND;TZID=America/Chicago:20240511T170000
DTSTAMP:20260419T101843
CREATED:20240511T125058Z
LAST-MODIFIED:20240511T125058Z
UID:71331-1715414400-1715446800@thetulsaartsdistrict.org
SUMMARY:Mother's Day Market with ANTHOUSAI LUSH at Antoinette Baking Co.
DESCRIPTION:
URL:https://thetulsaartsdistrict.org/event/mothers-day-market-with-anthousai-lush-at-antoinette-baking-co/
LOCATION:Antoinette Bakery and Cafe\, 207 N Main\, Tulsa\, OK\, 74103\, United States
END:VEVENT
BEGIN:VEVENT
DTSTART;TZID=America/Chicago:20240314T070000
DTEND;TZID=America/Chicago:20240314T180000
DTSTAMP:20260419T101843
CREATED:20240314T124447Z
LAST-MODIFIED:20240314T124804Z
UID:68825-1710399600-1710439200@thetulsaartsdistrict.org
SUMMARY:National Pi Day at Antoinette Baking Co.
DESCRIPTION:
URL:https://thetulsaartsdistrict.org/event/national-pi-day-at-antoinette-baking-co/
LOCATION:Antoinette Bakery and Cafe\, 207 N Main\, Tulsa\, OK\, 74103\, United States
END:VEVENT
BEGIN:VEVENT
DTSTART;TZID=America/Chicago:20240301T080000
DTEND;TZID=America/Chicago:20240301T170000
DTSTAMP:20260419T101843
CREATED:20240301T204921Z
LAST-MODIFIED:20240301T224744Z
UID:68348-1709280000-1709312400@thetulsaartsdistrict.org
SUMMARY:Happy Pi Day! hosted by Antoinette Baking Company
DESCRIPTION:
URL:https://thetulsaartsdistrict.org/event/happy-pi-day-hosted-antoinette-baking-company/
LOCATION:Antoinette Bakery and Cafe\, 207 N Main\, Tulsa\, OK\, 74103\, United States
END:VEVENT
BEGIN:VEVENT
DTSTART;TZID=America/Chicago:20240126T070000
DTEND;TZID=America/Chicago:20240126T170000
DTSTAMP:20260419T101843
CREATED:20240119T190938Z
LAST-MODIFIED:20240119T190940Z
UID:66882-1706252400-1706288400@thetulsaartsdistrict.org
SUMMARY:FIDO FRIDAYS at Antoinette Baking Company
DESCRIPTION:
URL:https://thetulsaartsdistrict.org/event/fido-fridays-at-antoinette-baking-company/2024-01-26/
LOCATION:Antoinette Bakery and Cafe\, 207 N Main\, Tulsa\, OK\, 74103\, United States
END:VEVENT
BEGIN:VEVENT
DTSTART;TZID=America/Chicago:20240124T120000
DTEND;TZID=America/Chicago:20240124T160000
DTSTAMP:20260419T101843
CREATED:20240119T190229Z
LAST-MODIFIED:20240124T202240Z
UID:66879-1706097600-1706112000@thetulsaartsdistrict.org
SUMMARY:National Pie Day at Antoinette Baking Co. - Preorders available
DESCRIPTION:
URL:https://thetulsaartsdistrict.org/event/national-pie-day-at-antoinette-baking-co-preorders-available/
LOCATION:Antoinette Bakery and Cafe\, 207 N Main\, Tulsa\, OK\, 74103\, United States
END:VEVENT
BEGIN:VEVENT
DTSTART;TZID=America/Chicago:20230907T170000
DTEND;TZID=America/Chicago:20230907T210000
DTSTAMP:20260419T101843
CREATED:20230811T185813Z
LAST-MODIFIED:20230811T185816Z
UID:59539-1694106000-1694120400@thetulsaartsdistrict.org
SUMMARY:CAKE IT OFF - ERAS CAKE DAY at Antoinette Bakery & Cafe
DESCRIPTION:
URL:https://thetulsaartsdistrict.org/event/cake-it-off-eras-cake-day-at-antoinette-bakery-cafe/
LOCATION:Antoinette Bakery and Cafe\, 207 N Main\, Tulsa\, OK\, 74103\, United States
END:VEVENT
BEGIN:VEVENT
DTSTART;TZID=America/Chicago:20230824T180000
DTEND;TZID=America/Chicago:20230824T200000
DTSTAMP:20260419T101843
CREATED:20230811T185048Z
LAST-MODIFIED:20230811T185051Z
UID:59536-1692900000-1692907200@thetulsaartsdistrict.org
SUMMARY:End of Summer "Cookout" Wine Dinner at Antoinette Baking Co.
DESCRIPTION:
URL:https://thetulsaartsdistrict.org/event/end-of-summer-cookout-wine-dinner-at-antoinette-baking-co/
LOCATION:Antoinette Bakery and Cafe\, 207 N Main\, Tulsa\, OK\, 74103\, United States
END:VEVENT
BEGIN:VEVENT
DTSTART;TZID=America/Chicago:20230721T070000
DTEND;TZID=America/Chicago:20230721T210000
DTSTAMP:20260419T101843
CREATED:20230703T165618Z
LAST-MODIFIED:20230703T165621Z
UID:57688-1689922800-1689973200@thetulsaartsdistrict.org
SUMMARY:Antoinette Goes PINK with an all-day Barbie Party
DESCRIPTION:
URL:https://thetulsaartsdistrict.org/event/antoinette-goes-pink-with-an-all-day-barbie-party/
LOCATION:Antoinette Bakery and Cafe\, 207 N Main\, Tulsa\, OK\, 74103\, United States
END:VEVENT
BEGIN:VEVENT
DTSTART;TZID=America/Chicago:20230703T090000
DTEND;TZID=America/Chicago:20230703T150000
DTSTAMP:20260419T101843
CREATED:20230703T125115Z
LAST-MODIFIED:20230703T125119Z
UID:57630-1688374800-1688396400@thetulsaartsdistrict.org
SUMMARY:Red\, White & Blue Cobbler while supplies last and special holiday brunch available at Antoinette Baking Company
DESCRIPTION:
URL:https://thetulsaartsdistrict.org/event/red-white-blue-cobbler-while-supplies-last-and-special-holiday-brunch-available-at-antoinette-baking-company/
LOCATION:Antoinette Bakery and Cafe\, 207 N Main\, Tulsa\, OK\, 74103\, United States
END:VEVENT
BEGIN:VEVENT
DTSTART;TZID=America/Chicago:20230701T170000
DTEND;TZID=America/Chicago:20230701T210000
DTSTAMP:20260419T101843
CREATED:20211230T225345Z
LAST-MODIFIED:20240519T191217Z
UID:49632-1688230800-1688245200@thetulsaartsdistrict.org
SUMMARY:Pie Night at Antoinette Baking Co.
DESCRIPTION:
URL:https://thetulsaartsdistrict.org/event/pie-night-at-antoinette-baking-co-2023-07-01/2023-07-01/
LOCATION:Antoinette Bakery and Cafe\, 207 N Main\, Tulsa\, OK\, 74103\, United States
END:VEVENT
BEGIN:VEVENT
DTSTART;TZID=America/Chicago:20230525T120000
DTEND;TZID=America/Chicago:20230525T180000
DTSTAMP:20260419T101843
CREATED:20230524T183939Z
LAST-MODIFIED:20230524T183941Z
UID:55371-1685016000-1685037600@thetulsaartsdistrict.org
SUMMARY:Italian Cake Day at Antoinette Baking Co.
DESCRIPTION:
URL:https://thetulsaartsdistrict.org/event/italian-cake-day-at-antoinette-baking-co/
LOCATION:Antoinette Bakery and Cafe\, 207 N Main\, Tulsa\, OK\, 74103\, United States
END:VEVENT
BEGIN:VEVENT
DTSTART;TZID=America/Chicago:20230505T120000
DTEND;TZID=America/Chicago:20230507T150000
DTSTAMP:20260419T101843
CREATED:20230503T221127Z
LAST-MODIFIED:20230503T221129Z
UID:54833-1683288000-1683471600@thetulsaartsdistrict.org
SUMMARY:Grand Reopening Weekend! at Antoinette Baking Co.
DESCRIPTION:
URL:https://thetulsaartsdistrict.org/event/grand-reopening-weekend-at-antoinette-baking-co/
LOCATION:Antoinette Bakery and Cafe\, 207 N Main\, Tulsa\, OK\, 74103\, United States
END:VEVENT
END:VCALENDAR