BEGIN:VCALENDAR
VERSION:2.0
PRODID:-//Tulsa Arts District - ECPv6.15.20//NONSGML v1.0//EN
CALSCALE:GREGORIAN
METHOD:PUBLISH
X-ORIGINAL-URL:https://thetulsaartsdistrict.org
X-WR-CALDESC:Events for Tulsa Arts District
REFRESH-INTERVAL;VALUE=DURATION:PT1H
X-Robots-Tag:noindex
X-PUBLISHED-TTL:PT1H
BEGIN:VTIMEZONE
TZID:America/Chicago
BEGIN:DAYLIGHT
TZOFFSETFROM:-0600
TZOFFSETTO:-0500
TZNAME:CDT
DTSTART:20240310T080000
END:DAYLIGHT
BEGIN:STANDARD
TZOFFSETFROM:-0500
TZOFFSETTO:-0600
TZNAME:CST
DTSTART:20241103T070000
END:STANDARD
BEGIN:DAYLIGHT
TZOFFSETFROM:-0600
TZOFFSETTO:-0500
TZNAME:CDT
DTSTART:20250309T080000
END:DAYLIGHT
BEGIN:STANDARD
TZOFFSETFROM:-0500
TZOFFSETTO:-0600
TZNAME:CST
DTSTART:20251102T070000
END:STANDARD
BEGIN:DAYLIGHT
TZOFFSETFROM:-0600
TZOFFSETTO:-0500
TZNAME:CDT
DTSTART:20260308T080000
END:DAYLIGHT
BEGIN:STANDARD
TZOFFSETFROM:-0500
TZOFFSETTO:-0600
TZNAME:CST
DTSTART:20261101T070000
END:STANDARD
END:VTIMEZONE
BEGIN:VEVENT
DTSTART;TZID=America/Chicago:20251128T190000
DTEND;TZID=America/Chicago:20251128T220000
DTSTAMP:20260423T064947
CREATED:20251024T000723Z
LAST-MODIFIED:20251024T000726Z
UID:100064-1764356400-1764367200@thetulsaartsdistrict.org
SUMMARY:20th Annual Leftover Turkey with Jason Boland & The Stragglers with Randy Crouch at Cain's Ballroom
DESCRIPTION:All Ages Welcome
URL:https://thetulsaartsdistrict.org/event/20th-annual-leftover-turkey-with-jason-boland-the-stragglers-with-randy-crouch-at-cains-ballroom/
LOCATION:Cain’s Ballroom\, 423 N Main\, Tulsa\, OK\, 74103\, United States
END:VEVENT
BEGIN:VEVENT
DTSTART;TZID=America/Chicago:20251123T180000
DTEND;TZID=America/Chicago:20251123T213000
DTSTAMP:20260423T064947
CREATED:20251024T000408Z
LAST-MODIFIED:20251024T000410Z
UID:100061-1763920800-1763933400@thetulsaartsdistrict.org
SUMMARY:Say Anything and Motion City Soundtrack with Oso Oso at Cain's Ballroom
DESCRIPTION:All Ages Welcome
URL:https://thetulsaartsdistrict.org/event/say-anything-and-motion-city-soundtrack-with-oso-oso-at-cains-ballroom/
LOCATION:Cain’s Ballroom\, 423 N Main\, Tulsa\, OK\, 74103\, United States
END:VEVENT
BEGIN:VEVENT
DTSTART;TZID=America/Chicago:20251122T183000
DTEND;TZID=America/Chicago:20251122T213000
DTSTAMP:20260423T064947
CREATED:20251024T000117Z
LAST-MODIFIED:20251024T000120Z
UID:100058-1763836200-1763847000@thetulsaartsdistrict.org
SUMMARY:Autumn Ragland with Darby Sparkman and Kanton Teen at Cain's Ballroom
DESCRIPTION:
URL:https://thetulsaartsdistrict.org/event/autumn-ragland-with-darby-sparkman-and-kanton-teen-at-cains-ballroom/
LOCATION:Cain’s Ballroom\, 423 N Main\, Tulsa\, OK\, 74103\, United States
END:VEVENT
BEGIN:VEVENT
DTSTART;TZID=America/Chicago:20251121T183000
DTEND;TZID=America/Chicago:20251121T213000
DTSTAMP:20260423T064947
CREATED:20251023T235611Z
LAST-MODIFIED:20251023T235614Z
UID:100055-1763749800-1763760600@thetulsaartsdistrict.org
SUMMARY:J.R. Carroll with special guests John R Miller\, Colton Bowlin at Cain's Ballroom
DESCRIPTION:
URL:https://thetulsaartsdistrict.org/event/j-r-carroll-with-special-guests-john-r-miller-colton-bowlin-at-cains-ballroom/
LOCATION:Cain’s Ballroom\, 423 N Main\, Tulsa\, OK\, 74103\, United States
END:VEVENT
BEGIN:VEVENT
DTSTART;TZID=America/Chicago:20251119T183000
DTEND;TZID=America/Chicago:20251119T213000
DTSTAMP:20260423T064947
CREATED:20251023T235310Z
LAST-MODIFIED:20251023T235313Z
UID:100052-1763577000-1763587800@thetulsaartsdistrict.org
SUMMARY:The Moth Mainstage
DESCRIPTION:All Ages Welcome
URL:https://thetulsaartsdistrict.org/event/the-moth-mainstage/
LOCATION:Cain’s Ballroom\, 423 N Main\, Tulsa\, OK\, 74103\, United States
END:VEVENT
BEGIN:VEVENT
DTSTART;TZID=America/Chicago:20251114T190000
DTEND;TZID=America/Chicago:20251114T220000
DTSTAMP:20260423T064947
CREATED:20251023T235035Z
LAST-MODIFIED:20251023T235039Z
UID:100049-1763146800-1763157600@thetulsaartsdistrict.org
SUMMARY:Hippie Sabotage with special guest Kembe X at Cain's Ballroom
DESCRIPTION:
URL:https://thetulsaartsdistrict.org/event/hippie-sabotage-with-special-guest-kembe-x-at-cains-ballroom/
LOCATION:Cain’s Ballroom\, 423 N Main\, Tulsa\, OK\, 74103\, United States
END:VEVENT
BEGIN:VEVENT
DTSTART;TZID=America/Chicago:20251113T180000
DTEND;TZID=America/Chicago:20251113T220000
DTSTAMP:20260423T064947
CREATED:20251023T234740Z
LAST-MODIFIED:20251023T234744Z
UID:100046-1763056800-1763071200@thetulsaartsdistrict.org
SUMMARY:Dancing with the Tulsa Stars - Benefitting San Miguel at Cain's Ballroom
DESCRIPTION:
URL:https://thetulsaartsdistrict.org/event/dancing-with-the-tulsa-stars-benefitting-san-miguel-at-cains-ballroom/
LOCATION:Cain’s Ballroom\, 423 N Main\, Tulsa\, OK\, 74103\, United States
END:VEVENT
BEGIN:VEVENT
DTSTART;TZID=America/Chicago:20251109T183000
DTEND;TZID=America/Chicago:20251109T213000
DTSTAMP:20260423T064947
CREATED:20251023T234443Z
LAST-MODIFIED:20251109T214708Z
UID:100043-1762713000-1762723800@thetulsaartsdistrict.org
SUMMARY:Jeff Tweedy Twilight Override Tour with special guest Liam Kazar at Cain's Ballroom
DESCRIPTION:All Ages Welcome
URL:https://thetulsaartsdistrict.org/event/jeff-tweedy-twilight-override-tour-with-special-guest-liam-kazar/
LOCATION:Cain’s Ballroom\, 423 N Main\, Tulsa\, OK\, 74103\, United States
END:VEVENT
BEGIN:VEVENT
DTSTART;TZID=America/Chicago:20251108T173000
DTEND;TZID=America/Chicago:20251108T203000
DTSTAMP:20260423T064947
CREATED:20251023T233219Z
LAST-MODIFIED:20251023T233222Z
UID:100040-1762623000-1762633800@thetulsaartsdistrict.org
SUMMARY:12th Annual Rock-N-Folk-N-Chili Cook Off at Cain's Ballroom
DESCRIPTION:All Ages Welcome // 12 & Under Free
URL:https://thetulsaartsdistrict.org/event/12th-annual-rock-n-folk-n-chili-cook-off-at-cains-ballroom/
LOCATION:Cain’s Ballroom\, 423 N Main\, Tulsa\, OK\, 74103\, United States
END:VEVENT
BEGIN:VEVENT
DTSTART;TZID=America/Chicago:20251107T190000
DTEND;TZID=America/Chicago:20251107T213000
DTSTAMP:20260423T064947
CREATED:20251023T232920Z
LAST-MODIFIED:20251023T232923Z
UID:100037-1762542000-1762551000@thetulsaartsdistrict.org
SUMMARY:William Clark Green with Josh Weathers Ringling Road 10-Year Anniversary Tour at Cain's Ballroom
DESCRIPTION:All Ages Welcome
URL:https://thetulsaartsdistrict.org/event/william-clark-green-with-josh-weathers-ringling-road-10-year-anniversary-tour-at-cains-ballroom/
LOCATION:Cain’s Ballroom\, 423 N Main\, Tulsa\, OK\, 74103\, United States
END:VEVENT
BEGIN:VEVENT
DTSTART;TZID=America/Chicago:20251106T183000
DTEND;TZID=America/Chicago:20251106T210000
DTSTAMP:20260423T064947
CREATED:20251023T232344Z
LAST-MODIFIED:20251023T232347Z
UID:100034-1762453800-1762462800@thetulsaartsdistrict.org
SUMMARY:Uncle Lucius at Cain's Ballroom
DESCRIPTION:
URL:https://thetulsaartsdistrict.org/event/uncle-lucius-at-cains-ballroom/
LOCATION:Cain’s Ballroom\, 423 N Main\, Tulsa\, OK\, 74103\, United States
END:VEVENT
BEGIN:VEVENT
DTSTART;TZID=America/Chicago:20251104T190000
DTEND;TZID=America/Chicago:20251104T220000
DTSTAMP:20260423T064947
CREATED:20251023T231929Z
LAST-MODIFIED:20251023T232107Z
UID:100030-1762282800-1762293600@thetulsaartsdistrict.org
SUMMARY:Yung Gravy - Voluptuous Voyage Tour with Pertinence and DJ Tiiiiiiiiiip at Cain's Ballroom
DESCRIPTION:All Ages Welcome
URL:https://thetulsaartsdistrict.org/event/yung-gravy-voluptuous-voyage-tour-at-cains-ballroom/
LOCATION:Cain’s Ballroom\, 423 N Main\, Tulsa\, OK\, 74103\, United States
END:VEVENT
BEGIN:VEVENT
DTSTART;TZID=America/Chicago:20251103T183000
DTEND;TZID=America/Chicago:20251103T210000
DTSTAMP:20260423T064947
CREATED:20251023T231409Z
LAST-MODIFIED:20251023T231412Z
UID:100027-1762194600-1762203600@thetulsaartsdistrict.org
SUMMARY:Big Thief - Somersault Slide 360 Tour at Cain's Ballroom
DESCRIPTION:
URL:https://thetulsaartsdistrict.org/event/big-thief-somersault-slide-360-tour-at-cains-ballroom/
LOCATION:Cain’s Ballroom\, 423 N Main\, Tulsa\, OK\, 74103\, United States
END:VEVENT
BEGIN:VEVENT
DTSTART;TZID=America/Chicago:20251102T190000
DTEND;TZID=America/Chicago:20251102T220000
DTSTAMP:20260423T064947
CREATED:20250920T195239Z
LAST-MODIFIED:20250920T195242Z
UID:98806-1762110000-1762120800@thetulsaartsdistrict.org
SUMMARY:Ryan Bingham and The Texas Gentlemen - The All Night Long Tour at Cain's Ballroom
DESCRIPTION:All Ages Welcome
URL:https://thetulsaartsdistrict.org/event/ryan-bingham-and-the-texas-gentlemen-the-all-night-long-tour-at-cains-ballroom-2/
LOCATION:Cain’s Ballroom\, 423 N Main\, Tulsa\, OK\, 74103\, United States
END:VEVENT
BEGIN:VEVENT
DTSTART;TZID=America/Chicago:20251101T190000
DTEND;TZID=America/Chicago:20251101T220000
DTSTAMP:20260423T064947
CREATED:20250920T194822Z
LAST-MODIFIED:20250920T194824Z
UID:98802-1762023600-1762034400@thetulsaartsdistrict.org
SUMMARY:Ryan Bingham and The Texas Gentlemen - The All Night Long Tour at Cain's Ballroom
DESCRIPTION:All Ages Welcome
URL:https://thetulsaartsdistrict.org/event/ryan-bingham-and-the-texas-gentlemen-the-all-night-long-tour-at-cains-ballroom/
LOCATION:Cain’s Ballroom\, 423 N Main\, Tulsa\, OK\, 74103\, United States
END:VEVENT
BEGIN:VEVENT
DTSTART;TZID=America/Chicago:20251026T190000
DTEND;TZID=America/Chicago:20251026T220000
DTSTAMP:20260423T064947
CREATED:20250920T193220Z
LAST-MODIFIED:20250920T193222Z
UID:98799-1761505200-1761516000@thetulsaartsdistrict.org
SUMMARY:THE MARS VOLTA at Cain's Ballroom
DESCRIPTION:All Ages Welcome
URL:https://thetulsaartsdistrict.org/event/the-mars-volta-at-cains-ballroom/
LOCATION:Cain’s Ballroom\, 423 N Main\, Tulsa\, OK\, 74103\, United States
END:VEVENT
BEGIN:VEVENT
DTSTART;TZID=America/Chicago:20251025T180000
DTEND;TZID=America/Chicago:20251025T210000
DTSTAMP:20260423T064947
CREATED:20250920T192223Z
LAST-MODIFIED:20250920T192226Z
UID:98796-1761415200-1761426000@thetulsaartsdistrict.org
SUMMARY:Allen Stone and Ripe - The Get Sweet Tour at Cain's Ballroom
DESCRIPTION:All Ages Welcome
URL:https://thetulsaartsdistrict.org/event/allen-stone-and-ripe-the-get-sweet-tour-at-cains-ballroom/
LOCATION:Cain’s Ballroom\, 423 N Main\, Tulsa\, OK\, 74103\, United States
END:VEVENT
BEGIN:VEVENT
DTSTART;TZID=America/Chicago:20251024T190000
DTEND;TZID=America/Chicago:20251024T220000
DTSTAMP:20260423T064947
CREATED:20250920T191849Z
LAST-MODIFIED:20250920T191851Z
UID:98793-1761332400-1761343200@thetulsaartsdistrict.org
SUMMARY:Corks & Kegs - a Cystic Fibrosis Fundraiser at Cain's Ballroom
DESCRIPTION:Ages 21+ Only
URL:https://thetulsaartsdistrict.org/event/corks-kegs-a-cystic-fibrosis-fundraiser-at-cains-ballroom/
LOCATION:Cain’s Ballroom\, 423 N Main\, Tulsa\, OK\, 74103\, United States
END:VEVENT
BEGIN:VEVENT
DTSTART;TZID=America/Chicago:20251023T190000
DTEND;TZID=America/Chicago:20251023T220000
DTSTAMP:20260423T064947
CREATED:20250920T191440Z
LAST-MODIFIED:20250920T191442Z
UID:98790-1761246000-1761256800@thetulsaartsdistrict.org
SUMMARY:Ole 60 with special guest Rob Langdon at Cain's Ballroom
DESCRIPTION:
URL:https://thetulsaartsdistrict.org/event/ole-60-with-special-guest-rob-langdon-at-cains-ballroom-2/
LOCATION:Cain’s Ballroom\, 423 N Main\, Tulsa\, OK\, 74103\, United States
END:VEVENT
BEGIN:VEVENT
DTSTART;TZID=America/Chicago:20251022T190000
DTEND;TZID=America/Chicago:20251022T220000
DTSTAMP:20260423T064947
CREATED:20250920T191047Z
LAST-MODIFIED:20250920T191050Z
UID:98787-1761159600-1761170400@thetulsaartsdistrict.org
SUMMARY:Ole 60 with special guest Rob Langdon at Cain's Ballroom
DESCRIPTION:All Ages Welcome
URL:https://thetulsaartsdistrict.org/event/ole-60-with-special-guest-rob-langdon-at-cains-ballroom/
LOCATION:Cain’s Ballroom\, 423 N Main\, Tulsa\, OK\, 74103\, United States
END:VEVENT
BEGIN:VEVENT
DTSTART;TZID=America/Chicago:20251021T163000
DTEND;TZID=America/Chicago:20251021T210000
DTSTAMP:20260423T064947
CREATED:20251021T160316Z
LAST-MODIFIED:20251021T160318Z
UID:99890-1761064200-1761080400@thetulsaartsdistrict.org
SUMMARY:Bono and The Edge will accept the 2025 Woody Guthrie Prize on behalf of U2 at Cain's Ballroom - SOLD OUT
DESCRIPTION:
URL:https://thetulsaartsdistrict.org/event/bono-and-the-edge-will-accept-the-2025-woody-guthrie-prize-on-behalf-of-u2-at-cains-ballroom-sold-out/
LOCATION:Cain’s Ballroom\, 423 N Main\, Tulsa\, OK\, 74103\, United States
END:VEVENT
BEGIN:VEVENT
DTSTART;TZID=America/Chicago:20251019T190000
DTEND;TZID=America/Chicago:20251019T220000
DTSTAMP:20260423T064947
CREATED:20250920T190323Z
LAST-MODIFIED:20250920T190326Z
UID:98784-1760900400-1760911200@thetulsaartsdistrict.org
SUMMARY:Black Ink Presents Evil Dead in Concert at Cain's Ballroom
DESCRIPTION:All Ages Welcome
URL:https://thetulsaartsdistrict.org/event/black-ink-presents-evil-dead-in-concert-at-cains-ballroom/
LOCATION:Cain’s Ballroom\, 423 N Main\, Tulsa\, OK\, 74103\, United States
END:VEVENT
BEGIN:VEVENT
DTSTART;TZID=America/Chicago:20251018T190000
DTEND;TZID=America/Chicago:20251018T220000
DTSTAMP:20260423T064947
CREATED:20250920T185835Z
LAST-MODIFIED:20250920T185838Z
UID:98781-1760814000-1760824800@thetulsaartsdistrict.org
SUMMARY:Josh Meloy with Cole Phillips at Cain's Ballroom
DESCRIPTION:All Ages Welcome
URL:https://thetulsaartsdistrict.org/event/josh-meloy-with-cole-phillips-at-cains-ballroom/
LOCATION:Cain’s Ballroom\, 423 N Main\, Tulsa\, OK\, 74103\, United States
END:VEVENT
BEGIN:VEVENT
DTSTART;TZID=America/Chicago:20251017T190000
DTEND;TZID=America/Chicago:20251017T220000
DTSTAMP:20260423T064947
CREATED:20250920T185501Z
LAST-MODIFIED:20250920T185504Z
UID:98778-1760727600-1760738400@thetulsaartsdistrict.org
SUMMARY:Josh Meloy with Kenny Feidler at Cain's Ballroom
DESCRIPTION:All Ages Welcome
URL:https://thetulsaartsdistrict.org/event/josh-meloy-with-kenny-feidler-at-cains-ballroom/
LOCATION:Cain’s Ballroom\, 423 N Main\, Tulsa\, OK\, 74103\, United States
END:VEVENT
BEGIN:VEVENT
DTSTART;TZID=America/Chicago:20251016T190000
DTEND;TZID=America/Chicago:20251016T220000
DTSTAMP:20260423T064947
CREATED:20250919T184211Z
LAST-MODIFIED:20250919T184214Z
UID:98697-1760641200-1760652000@thetulsaartsdistrict.org
SUMMARY:THE PARTY OF A SHOWGIRL: A TS12 Celebration at Cain's Ballroom
DESCRIPTION:All Ages Welcome
URL:https://thetulsaartsdistrict.org/event/the-party-of-a-showgirl-a-ts12-celebration-at-cains-ballroom/
LOCATION:Cain’s Ballroom\, 423 N Main\, Tulsa\, OK\, 74103\, United States
END:VEVENT
BEGIN:VEVENT
DTSTART;TZID=America/Chicago:20251014T183000
DTEND;TZID=America/Chicago:20251014T213000
DTSTAMP:20260423T064947
CREATED:20250919T183850Z
LAST-MODIFIED:20250919T183852Z
UID:98694-1760466600-1760477400@thetulsaartsdistrict.org
SUMMARY:Melvins with Redd Kross at Cain's Ballroom
DESCRIPTION:All Ages Welcome
URL:https://thetulsaartsdistrict.org/event/melvins-with-redd-kross-at-cains-ballroom/
LOCATION:Cain’s Ballroom\, 423 N Main\, Tulsa\, OK\, 74103\, United States
END:VEVENT
BEGIN:VEVENT
DTSTART;TZID=America/Chicago:20251011T180000
DTEND;TZID=America/Chicago:20251011T210000
DTSTAMP:20260423T064947
CREATED:20250919T183617Z
LAST-MODIFIED:20250919T183620Z
UID:98691-1760205600-1760216400@thetulsaartsdistrict.org
SUMMARY:Bingo Loco at Cain's Ballroom
DESCRIPTION:Ages 21+ Only
URL:https://thetulsaartsdistrict.org/event/bingo-loco-at-cains-ballroom/
LOCATION:Cain’s Ballroom\, 423 N Main\, Tulsa\, OK\, 74103\, United States
END:VEVENT
BEGIN:VEVENT
DTSTART;TZID=America/Chicago:20251009T190000
DTEND;TZID=America/Chicago:20251009T220000
DTSTAMP:20260423T064947
CREATED:20250919T182632Z
LAST-MODIFIED:20250919T182635Z
UID:98688-1760036400-1760047200@thetulsaartsdistrict.org
SUMMARY:Jimmie L Dean Scholarship Foundation Concert - Drake Milligan with Collin Nash at Cain's Ballroom
DESCRIPTION:All Ages Welcome
URL:https://thetulsaartsdistrict.org/event/jimmie-l-dean-scholarship-foundation-concert-drake-milligan-with-collin-nash-at-cains-ballroom/
LOCATION:Cain’s Ballroom\, 423 N Main\, Tulsa\, OK\, 74103\, United States
END:VEVENT
BEGIN:VEVENT
DTSTART;TZID=America/Chicago:20251008T183000
DTEND;TZID=America/Chicago:20251008T213000
DTSTAMP:20260423T064947
CREATED:20250919T182207Z
LAST-MODIFIED:20250919T182210Z
UID:98685-1759948200-1759959000@thetulsaartsdistrict.org
SUMMARY:The Beaches with Annie DiRusso - No Hard Feelings Tour at Cain's Ballroom
DESCRIPTION:All Ages Welcome
URL:https://thetulsaartsdistrict.org/event/the-beaches-with-annie-dirusso-no-hard-feelings-tour-at-cains-ballroom/
LOCATION:Cain’s Ballroom\, 423 N Main\, Tulsa\, OK\, 74103\, United States
END:VEVENT
BEGIN:VEVENT
DTSTART;TZID=America/Chicago:20251004T190000
DTEND;TZID=America/Chicago:20251004T220000
DTSTAMP:20260423T064947
CREATED:20250919T181105Z
LAST-MODIFIED:20250919T181108Z
UID:98682-1759604400-1759615200@thetulsaartsdistrict.org
SUMMARY:Ray Wylie Hubbard with Shelby Stone at Cain's Ballroom
DESCRIPTION:All Ages Welcome
URL:https://thetulsaartsdistrict.org/event/ray-wylie-hubbard-with-shelby-stone-at-cains-ballroom/
LOCATION:Cain’s Ballroom\, 423 N Main\, Tulsa\, OK\, 74103\, United States
END:VEVENT
END:VCALENDAR