BEGIN:VCALENDAR
VERSION:2.0
PRODID:-//Tulsa Arts District - ECPv6.15.20//NONSGML v1.0//EN
CALSCALE:GREGORIAN
METHOD:PUBLISH
X-WR-CALNAME:Tulsa Arts District
X-ORIGINAL-URL:https://thetulsaartsdistrict.org
X-WR-CALDESC:Events for Tulsa Arts District
REFRESH-INTERVAL;VALUE=DURATION:PT1H
X-Robots-Tag:noindex
X-PUBLISHED-TTL:PT1H
BEGIN:VTIMEZONE
TZID:America/Chicago
BEGIN:DAYLIGHT
TZOFFSETFROM:-0600
TZOFFSETTO:-0500
TZNAME:CDT
DTSTART:20240310T080000
END:DAYLIGHT
BEGIN:STANDARD
TZOFFSETFROM:-0500
TZOFFSETTO:-0600
TZNAME:CST
DTSTART:20241103T070000
END:STANDARD
BEGIN:DAYLIGHT
TZOFFSETFROM:-0600
TZOFFSETTO:-0500
TZNAME:CDT
DTSTART:20250309T080000
END:DAYLIGHT
BEGIN:STANDARD
TZOFFSETFROM:-0500
TZOFFSETTO:-0600
TZNAME:CST
DTSTART:20251102T070000
END:STANDARD
BEGIN:DAYLIGHT
TZOFFSETFROM:-0600
TZOFFSETTO:-0500
TZNAME:CDT
DTSTART:20260308T080000
END:DAYLIGHT
BEGIN:STANDARD
TZOFFSETFROM:-0500
TZOFFSETTO:-0600
TZNAME:CST
DTSTART:20261101T070000
END:STANDARD
END:VTIMEZONE
BEGIN:VEVENT
DTSTART;TZID=America/Chicago:20251019T190000
DTEND;TZID=America/Chicago:20251019T220000
DTSTAMP:20260419T071256
CREATED:20250920T190323Z
LAST-MODIFIED:20250920T190326Z
UID:98784-1760900400-1760911200@thetulsaartsdistrict.org
SUMMARY:Black Ink Presents Evil Dead in Concert at Cain's Ballroom
DESCRIPTION:All Ages Welcome
URL:https://thetulsaartsdistrict.org/event/black-ink-presents-evil-dead-in-concert-at-cains-ballroom/
LOCATION:Cain’s Ballroom\, 423 N Main\, Tulsa\, OK\, 74103\, United States
END:VEVENT
BEGIN:VEVENT
DTSTART;TZID=America/Chicago:20251018T190000
DTEND;TZID=America/Chicago:20251018T220000
DTSTAMP:20260419T071256
CREATED:20250920T185835Z
LAST-MODIFIED:20250920T185838Z
UID:98781-1760814000-1760824800@thetulsaartsdistrict.org
SUMMARY:Josh Meloy with Cole Phillips at Cain's Ballroom
DESCRIPTION:All Ages Welcome
URL:https://thetulsaartsdistrict.org/event/josh-meloy-with-cole-phillips-at-cains-ballroom/
LOCATION:Cain’s Ballroom\, 423 N Main\, Tulsa\, OK\, 74103\, United States
END:VEVENT
BEGIN:VEVENT
DTSTART;TZID=America/Chicago:20251017T190000
DTEND;TZID=America/Chicago:20251017T220000
DTSTAMP:20260419T071256
CREATED:20250920T185501Z
LAST-MODIFIED:20250920T185504Z
UID:98778-1760727600-1760738400@thetulsaartsdistrict.org
SUMMARY:Josh Meloy with Kenny Feidler at Cain's Ballroom
DESCRIPTION:All Ages Welcome
URL:https://thetulsaartsdistrict.org/event/josh-meloy-with-kenny-feidler-at-cains-ballroom/
LOCATION:Cain’s Ballroom\, 423 N Main\, Tulsa\, OK\, 74103\, United States
END:VEVENT
BEGIN:VEVENT
DTSTART;TZID=America/Chicago:20251016T190000
DTEND;TZID=America/Chicago:20251016T220000
DTSTAMP:20260419T071256
CREATED:20250919T184211Z
LAST-MODIFIED:20250919T184214Z
UID:98697-1760641200-1760652000@thetulsaartsdistrict.org
SUMMARY:THE PARTY OF A SHOWGIRL: A TS12 Celebration at Cain's Ballroom
DESCRIPTION:All Ages Welcome
URL:https://thetulsaartsdistrict.org/event/the-party-of-a-showgirl-a-ts12-celebration-at-cains-ballroom/
LOCATION:Cain’s Ballroom\, 423 N Main\, Tulsa\, OK\, 74103\, United States
END:VEVENT
BEGIN:VEVENT
DTSTART;TZID=America/Chicago:20251014T183000
DTEND;TZID=America/Chicago:20251014T213000
DTSTAMP:20260419T071256
CREATED:20250919T183850Z
LAST-MODIFIED:20250919T183852Z
UID:98694-1760466600-1760477400@thetulsaartsdistrict.org
SUMMARY:Melvins with Redd Kross at Cain's Ballroom
DESCRIPTION:All Ages Welcome
URL:https://thetulsaartsdistrict.org/event/melvins-with-redd-kross-at-cains-ballroom/
LOCATION:Cain’s Ballroom\, 423 N Main\, Tulsa\, OK\, 74103\, United States
END:VEVENT
BEGIN:VEVENT
DTSTART;TZID=America/Chicago:20251011T180000
DTEND;TZID=America/Chicago:20251011T210000
DTSTAMP:20260419T071256
CREATED:20250919T183617Z
LAST-MODIFIED:20250919T183620Z
UID:98691-1760205600-1760216400@thetulsaartsdistrict.org
SUMMARY:Bingo Loco at Cain's Ballroom
DESCRIPTION:Ages 21+ Only
URL:https://thetulsaartsdistrict.org/event/bingo-loco-at-cains-ballroom/
LOCATION:Cain’s Ballroom\, 423 N Main\, Tulsa\, OK\, 74103\, United States
END:VEVENT
BEGIN:VEVENT
DTSTART;TZID=America/Chicago:20251009T190000
DTEND;TZID=America/Chicago:20251009T220000
DTSTAMP:20260419T071256
CREATED:20250919T182632Z
LAST-MODIFIED:20250919T182635Z
UID:98688-1760036400-1760047200@thetulsaartsdistrict.org
SUMMARY:Jimmie L Dean Scholarship Foundation Concert - Drake Milligan with Collin Nash at Cain's Ballroom
DESCRIPTION:All Ages Welcome
URL:https://thetulsaartsdistrict.org/event/jimmie-l-dean-scholarship-foundation-concert-drake-milligan-with-collin-nash-at-cains-ballroom/
LOCATION:Cain’s Ballroom\, 423 N Main\, Tulsa\, OK\, 74103\, United States
END:VEVENT
BEGIN:VEVENT
DTSTART;TZID=America/Chicago:20251008T183000
DTEND;TZID=America/Chicago:20251008T213000
DTSTAMP:20260419T071256
CREATED:20250919T182207Z
LAST-MODIFIED:20250919T182210Z
UID:98685-1759948200-1759959000@thetulsaartsdistrict.org
SUMMARY:The Beaches with Annie DiRusso - No Hard Feelings Tour at Cain's Ballroom
DESCRIPTION:All Ages Welcome
URL:https://thetulsaartsdistrict.org/event/the-beaches-with-annie-dirusso-no-hard-feelings-tour-at-cains-ballroom/
LOCATION:Cain’s Ballroom\, 423 N Main\, Tulsa\, OK\, 74103\, United States
END:VEVENT
BEGIN:VEVENT
DTSTART;TZID=America/Chicago:20251004T190000
DTEND;TZID=America/Chicago:20251004T220000
DTSTAMP:20260419T071256
CREATED:20250919T181105Z
LAST-MODIFIED:20250919T181108Z
UID:98682-1759604400-1759615200@thetulsaartsdistrict.org
SUMMARY:Ray Wylie Hubbard with Shelby Stone at Cain's Ballroom
DESCRIPTION:All Ages Welcome
URL:https://thetulsaartsdistrict.org/event/ray-wylie-hubbard-with-shelby-stone-at-cains-ballroom/
LOCATION:Cain’s Ballroom\, 423 N Main\, Tulsa\, OK\, 74103\, United States
END:VEVENT
BEGIN:VEVENT
DTSTART;TZID=America/Chicago:20251003T183000
DTEND;TZID=America/Chicago:20251003T213000
DTSTAMP:20260419T071256
CREATED:20250918T201106Z
LAST-MODIFIED:20250918T201109Z
UID:98578-1759516200-1759527000@thetulsaartsdistrict.org
SUMMARY:JOHNNYSWIM When The War Is Over Tour with Shua at Cain's Ballroom
DESCRIPTION:All Ages Welcome
URL:https://thetulsaartsdistrict.org/event/johnnyswim-when-the-war-is-over-tour-with-shua-at-cains-ballroom/
LOCATION:Cain’s Ballroom\, 423 N Main\, Tulsa\, OK\, 74103\, United States
END:VEVENT
BEGIN:VEVENT
DTSTART;TZID=America/Chicago:20250928T190000
DTEND;TZID=America/Chicago:20250928T220000
DTSTAMP:20260419T071256
CREATED:20250817T200511Z
LAST-MODIFIED:20250817T200513Z
UID:97208-1759086000-1759096800@thetulsaartsdistrict.org
SUMMARY:Lucky Man Concerts featuring Yächtley Crëw at Cain's Ballroom - All ages
DESCRIPTION:
URL:https://thetulsaartsdistrict.org/event/lucky-man-concerts-featuring-yachtley-crew-at-cains-ballroom-all-ages/
LOCATION:Cain’s Ballroom\, 423 N Main\, Tulsa\, OK\, 74103\, United States
END:VEVENT
BEGIN:VEVENT
DTSTART;TZID=America/Chicago:20250927T110000
DTEND;TZID=America/Chicago:20250927T230000
DTSTAMP:20260419T071256
CREATED:20250817T195807Z
LAST-MODIFIED:20250817T195809Z
UID:97205-1758970800-1759014000@thetulsaartsdistrict.org
SUMMARY:Day Shift Party - Cain's Ballroom - 21+
DESCRIPTION:
URL:https://thetulsaartsdistrict.org/event/day-shift-party-cains-ballroom-21/
LOCATION:Cain’s Ballroom\, 423 N Main\, Tulsa\, OK\, 74103\, United States
END:VEVENT
BEGIN:VEVENT
DTSTART;TZID=America/Chicago:20250926T190000
DTEND;TZID=America/Chicago:20250926T210000
DTSTAMP:20260419T071256
CREATED:20250918T200507Z
LAST-MODIFIED:20250918T200510Z
UID:98575-1758913200-1758920400@thetulsaartsdistrict.org
SUMMARY:An Evening with Cuco at Cain's Ballroom
DESCRIPTION:All Ages Welcome
URL:https://thetulsaartsdistrict.org/event/an-evening-with-cuco-at-cains-ballroom/
LOCATION:Cain’s Ballroom\, 423 N Main\, Tulsa\, OK\, 74103\, United States
END:VEVENT
BEGIN:VEVENT
DTSTART;TZID=America/Chicago:20250922T180000
DTEND;TZID=America/Chicago:20250922T210000
DTSTAMP:20260419T071256
CREATED:20250817T194528Z
LAST-MODIFIED:20250817T194745Z
UID:97196-1758564000-1758574800@thetulsaartsdistrict.org
SUMMARY:Poppy - They're All Around Us Tour with Dying Wish\, MSPAINT- All Ages at Cain's Ballroom
DESCRIPTION:
URL:https://thetulsaartsdistrict.org/event/poppy-theyre-all-around-us-tour-all-ages-at-cains-ballroom/
LOCATION:Cain’s Ballroom\, 423 N Main\, Tulsa\, OK\, 74103\, United States
END:VEVENT
BEGIN:VEVENT
DTSTART;TZID=America/Chicago:20250920T180000
DTEND;TZID=America/Chicago:20250920T203000
DTSTAMP:20260419T071256
CREATED:20250817T191145Z
LAST-MODIFIED:20250817T191147Z
UID:97193-1758391200-1758400200@thetulsaartsdistrict.org
SUMMARY:The Bison Bash - Arkansauce with special guests The Bison\, Maddie K Garland\, and Wyatt Justice - All Ages Welcome - Cain's Ballroom
DESCRIPTION:
URL:https://thetulsaartsdistrict.org/event/the-bison-bash-arkansauce-with-special-guests-the-bison-maddie-k-garland-and-wyatt-justice-all-ages-welcome-cains-ballroom/
LOCATION:Cain’s Ballroom\, 423 N Main\, Tulsa\, OK\, 74103\, United States
END:VEVENT
BEGIN:VEVENT
DTSTART;TZID=America/Chicago:20250919T190000
DTEND;TZID=America/Chicago:20250919T220000
DTSTAMP:20260419T071256
CREATED:20250817T185722Z
LAST-MODIFIED:20250817T185725Z
UID:97182-1758308400-1758319200@thetulsaartsdistrict.org
SUMMARY:Chris D’Elia Straight Outta The Multiverse - Ages 18+ Only at Cain's Ballroom
DESCRIPTION:
URL:https://thetulsaartsdistrict.org/event/chris-delia-straight-outta-the-multiverse-ages-18-only-at-cains-ballroom/
LOCATION:Cain’s Ballroom\, 423 N Main\, Tulsa\, OK\, 74103\, United States
END:VEVENT
BEGIN:VEVENT
DTSTART;TZID=America/Chicago:20250913T190000
DTEND;TZID=America/Chicago:20250913T223000
DTSTAMP:20260419T071256
CREATED:20250817T185310Z
LAST-MODIFIED:20250817T185312Z
UID:97179-1757790000-1757802600@thetulsaartsdistrict.org
SUMMARY:BRONCHO at Cain's Ballroom
DESCRIPTION:Natural Pleasure Tour
URL:https://thetulsaartsdistrict.org/event/broncho-at-cains-ballroom/
LOCATION:Cain’s Ballroom\, 423 N Main\, Tulsa\, OK\, 74103\, United States
END:VEVENT
BEGIN:VEVENT
DTSTART;TZID=America/Chicago:20250912T183000
DTEND;TZID=America/Chicago:20250912T210000
DTSTAMP:20260419T071256
CREATED:20250817T184959Z
LAST-MODIFIED:20250817T185002Z
UID:97176-1757701800-1757710800@thetulsaartsdistrict.org
SUMMARY:Jessica Kirson - The Never Ending Tour at Cain's Ballroom
DESCRIPTION:The Never Ending Tour
URL:https://thetulsaartsdistrict.org/event/jessica-kirson-the-never-ending-tour-at-cains-ballroom/
LOCATION:Cain’s Ballroom\, 423 N Main\, Tulsa\, OK\, 74103\, United States
END:VEVENT
BEGIN:VEVENT
DTSTART;TZID=America/Chicago:20250906T180000
DTEND;TZID=America/Chicago:20250906T210000
DTSTAMP:20260419T071256
CREATED:20250817T184621Z
LAST-MODIFIED:20250817T184623Z
UID:97173-1757181600-1757192400@thetulsaartsdistrict.org
SUMMARY:Album Release Concert - Aaron Ray Vaughan a Cain's Ballroom
DESCRIPTION:
URL:https://thetulsaartsdistrict.org/event/album-release-concert-aaron-ray-vaughan-a-cains-ballroom/
LOCATION:Cain’s Ballroom\, 423 N Main\, Tulsa\, OK\, 74103\, United States
END:VEVENT
BEGIN:VEVENT
DTSTART;TZID=America/Chicago:20250905T183000
DTEND;TZID=America/Chicago:20250905T210000
DTSTAMP:20260419T071256
CREATED:20250817T184117Z
LAST-MODIFIED:20250817T184255Z
UID:97169-1757097000-1757106000@thetulsaartsdistrict.org
SUMMARY:MJ Lenderman & The Wind: 2025 Tour with Nap Eyes - Cain's Ballroom
DESCRIPTION:
URL:https://thetulsaartsdistrict.org/event/mj-lenderman-the-wind-2025-tour-cains-ballroom/
LOCATION:Cain’s Ballroom\, 423 N Main\, Tulsa\, OK\, 74103\, United States
END:VEVENT
BEGIN:VEVENT
DTSTART;TZID=America/Chicago:20250830T190000
DTEND;TZID=America/Chicago:20250830T220000
DTSTAMP:20260419T071256
CREATED:20250711T194431Z
LAST-MODIFIED:20250711T194434Z
UID:95970-1756580400-1756591200@thetulsaartsdistrict.org
SUMMARY:Pop Punk Nite! by: Van Full of Nuns at Cain's Ballroom
DESCRIPTION:
URL:https://thetulsaartsdistrict.org/event/pop-punk-nite-by-van-full-of-nuns-at-cains-ballroom/
LOCATION:Cain’s Ballroom\, 423 N Main\, Tulsa\, OK\, 74103\, United States
END:VEVENT
BEGIN:VEVENT
DTSTART;TZID=America/Chicago:20250828T183000
DTEND;TZID=America/Chicago:20250828T210000
DTSTAMP:20260419T071256
CREATED:20250711T194002Z
LAST-MODIFIED:20250711T194005Z
UID:95967-1756405800-1756414800@thetulsaartsdistrict.org
SUMMARY:Fitz & The Tantrums - Man On The Moon Tour at Cain's Ballroom - All ages welcome
DESCRIPTION:
URL:https://thetulsaartsdistrict.org/event/fitz-the-tantrums-man-on-the-moon-tour-at-cains-ballroom-all-ages-welcome/
LOCATION:Cain’s Ballroom\, 423 N Main\, Tulsa\, OK\, 74103\, United States
END:VEVENT
BEGIN:VEVENT
DTSTART;TZID=America/Chicago:20250827T183000
DTEND;TZID=America/Chicago:20250827T213000
DTSTAMP:20260419T071256
CREATED:20250730T140055Z
LAST-MODIFIED:20250730T140058Z
UID:96528-1756319400-1756330200@thetulsaartsdistrict.org
SUMMARY:Toadies with Vandoliers at Cain's Ballroom
DESCRIPTION:
URL:https://thetulsaartsdistrict.org/event/toadies-with-vandoliers-at-cains-ballroom-2/
LOCATION:Cain’s Ballroom\, 423 N Main\, Tulsa\, OK\, 74103\, United States
END:VEVENT
BEGIN:VEVENT
DTSTART;TZID=America/Chicago:20250823T180000
DTEND;TZID=America/Chicago:20250823T210000
DTSTAMP:20260419T071256
CREATED:20250711T193201Z
LAST-MODIFIED:20250711T193203Z
UID:95961-1755972000-1755982800@thetulsaartsdistrict.org
SUMMARY:Shining The Light - a Brain Injury Recovery Foundation fundraiser at Cain's Ballroom
DESCRIPTION:
URL:https://thetulsaartsdistrict.org/event/shining-the-light-a-brain-injury-recovery-foundation-fundraiser-at-cains-ballroom/
LOCATION:Cain’s Ballroom\, 423 N Main\, Tulsa\, OK\, 74103\, United States
END:VEVENT
BEGIN:VEVENT
DTSTART;TZID=America/Chicago:20250822T190000
DTEND;TZID=America/Chicago:20250822T220000
DTSTAMP:20260419T071256
CREATED:20250711T192718Z
LAST-MODIFIED:20250821T194935Z
UID:95958-1755889200-1755900000@thetulsaartsdistrict.org
SUMMARY:Max McNown - Forever Ain’t Long Enough Tour - All Ages Welcome at Cain's Ballroom
DESCRIPTION:
URL:https://thetulsaartsdistrict.org/event/max-mcnown-forever-aint-long-enough-tour-all-ages-welcome/
LOCATION:Cain’s Ballroom\, 423 N Main\, Tulsa\, OK\, 74103\, United States
END:VEVENT
BEGIN:VEVENT
DTSTART;TZID=America/Chicago:20250821T190000
DTEND;TZID=America/Chicago:20250821T220000
DTSTAMP:20260419T071256
CREATED:20250730T125812Z
LAST-MODIFIED:20250730T125815Z
UID:96521-1755802800-1755813600@thetulsaartsdistrict.org
SUMMARY:An Evening With Evan Felker & Hayes Carll
DESCRIPTION:
URL:https://thetulsaartsdistrict.org/event/an-evening-with-evan-felker-hayes-carll/
LOCATION:Cain’s Ballroom\, 423 N Main\, Tulsa\, OK\, 74103\, United States
END:VEVENT
BEGIN:VEVENT
DTSTART;TZID=America/Chicago:20250819T190000
DTEND;TZID=America/Chicago:20250819T213000
DTSTAMP:20260419T071256
CREATED:20250711T192228Z
LAST-MODIFIED:20250711T192231Z
UID:95955-1755630000-1755639000@thetulsaartsdistrict.org
SUMMARY:FLIPTURN THE BURNOUT DAYS TOUR at Cain's Ballroom - All Ages Welcome
DESCRIPTION:All Ages Welcome
URL:https://thetulsaartsdistrict.org/event/flipturn-the-burnout-days-tour-at-cains-ballroom-all-ages-welcome/
LOCATION:Cain’s Ballroom\, 423 N Main\, Tulsa\, OK\, 74103\, United States
END:VEVENT
BEGIN:VEVENT
DTSTART;TZID=America/Chicago:20250817T145227
DTEND;TZID=America/Chicago:20250817T145227
DTSTAMP:20260419T071256
CREATED:20250817T195150Z
LAST-MODIFIED:20250817T195228Z
UID:97200-1755442347-1755442347@thetulsaartsdistrict.org
SUMMARY:Cuco: Ridin' Tour - All ages at Cain's Ballroom
DESCRIPTION:
URL:https://thetulsaartsdistrict.org/event/cuco-ridin-tour-all-ages-at-cains-ballroom/
LOCATION:Cain’s Ballroom\, 423 N Main\, Tulsa\, OK\, 74103\, United States
END:VEVENT
BEGIN:VEVENT
DTSTART;TZID=America/Chicago:20250817T140206
DTEND;TZID=America/Chicago:20250817T140206
DTSTAMP:20260419T071256
CREATED:20250817T190141Z
LAST-MODIFIED:20250817T190704Z
UID:97185-1755439326-1755439326@thetulsaartsdistrict.org
SUMMARY:The Bison Bash - Arkansauce with special guests The Bison\, Maddie K Garland\, and Wyatt Justice - All Ages Welcome - Cain's Ballroom
DESCRIPTION:All Ages Welcome
URL:https://thetulsaartsdistrict.org/event/the-bison-bash-all-ages-welcome-cains-ballroom/
LOCATION:Cain’s Ballroom\, 423 N Main\, Tulsa\, OK\, 74103\, United States
END:VEVENT
BEGIN:VEVENT
DTSTART;TZID=America/Chicago:20250816T210000
DTEND;TZID=America/Chicago:20250816T220000
DTSTAMP:20260419T071256
CREATED:20250711T191613Z
LAST-MODIFIED:20250711T191616Z
UID:95952-1755378000-1755381600@thetulsaartsdistrict.org
SUMMARY:Blue Whale Comedy Festival - Hannibal Buress at Cain's Ballroom
DESCRIPTION:
URL:https://thetulsaartsdistrict.org/event/blue-whale-comedy-festival-hannibal-buress-at-cains-ballroom/
LOCATION:Cain’s Ballroom\, 423 N Main\, Tulsa\, OK\, 74103\, United States
END:VEVENT
END:VCALENDAR