BEGIN:VCALENDAR
VERSION:2.0
PRODID:-//Tulsa Arts District - ECPv6.15.20//NONSGML v1.0//EN
CALSCALE:GREGORIAN
METHOD:PUBLISH
X-WR-CALNAME:Tulsa Arts District
X-ORIGINAL-URL:https://thetulsaartsdistrict.org
X-WR-CALDESC:Events for Tulsa Arts District
REFRESH-INTERVAL;VALUE=DURATION:PT1H
X-Robots-Tag:noindex
X-PUBLISHED-TTL:PT1H
BEGIN:VTIMEZONE
TZID:America/Chicago
BEGIN:DAYLIGHT
TZOFFSETFROM:-0600
TZOFFSETTO:-0500
TZNAME:CDT
DTSTART:20250309T080000
END:DAYLIGHT
BEGIN:STANDARD
TZOFFSETFROM:-0500
TZOFFSETTO:-0600
TZNAME:CST
DTSTART:20251102T070000
END:STANDARD
BEGIN:DAYLIGHT
TZOFFSETFROM:-0600
TZOFFSETTO:-0500
TZNAME:CDT
DTSTART:20260308T080000
END:DAYLIGHT
BEGIN:STANDARD
TZOFFSETFROM:-0500
TZOFFSETTO:-0600
TZNAME:CST
DTSTART:20261101T070000
END:STANDARD
BEGIN:DAYLIGHT
TZOFFSETFROM:-0600
TZOFFSETTO:-0500
TZNAME:CDT
DTSTART:20270314T080000
END:DAYLIGHT
BEGIN:STANDARD
TZOFFSETFROM:-0500
TZOFFSETTO:-0600
TZNAME:CST
DTSTART:20271107T070000
END:STANDARD
END:VTIMEZONE
BEGIN:VEVENT
DTSTART;TZID=America/Chicago:20260422T140000
DTEND;TZID=America/Chicago:20260422T180000
DTSTAMP:20260419T174726
CREATED:20250621T171310Z
LAST-MODIFIED:20250621T171310Z
UID:102360-1776866400-1776880800@thetulsaartsdistrict.org
SUMMARY:Happy Hour\, 2-6pm! $2 off glass of wine / $4 off bottle of wine! $3.50 mules AND 1/2 price apps with any bar purchase! at The Chowhouse
DESCRIPTION:
URL:https://thetulsaartsdistrict.org/event/happy-hour-2-6pm-2-off-glass-of-wine-4-off-bottle-of-wine-3-50-mules-and-1-2-price-apps-with-any-bar-purchase-at-the-chowhouse-3-2025-12-26/2026-04-22/
LOCATION:The Chowhouse\, 18 E Reconciliation Way\, Tulsa\, OK\, 74103\, United States
END:VEVENT
BEGIN:VEVENT
DTSTART;TZID=America/Chicago:20260422T170000
DTEND;TZID=America/Chicago:20260422T210000
DTSTAMP:20260419T174726
CREATED:20250621T170632Z
LAST-MODIFIED:20250621T170632Z
UID:102302-1776877200-1776891600@thetulsaartsdistrict.org
SUMMARY:Kids Eat Free!!!! with purchase of an adult entre at The Chowhouse
DESCRIPTION:
URL:https://thetulsaartsdistrict.org/event/kids-eat-free-with-purchase-of-an-adult-entre-at-the-chowhouse-3-2025-12-10/2026-04-22/
LOCATION:The Chowhouse\, 18 E Reconciliation Way\, Tulsa\, OK\, 74103\, United States
END:VEVENT
BEGIN:VEVENT
DTSTART;TZID=America/Chicago:20260423T140000
DTEND;TZID=America/Chicago:20260423T180000
DTSTAMP:20260419T174726
CREATED:20250621T171310Z
LAST-MODIFIED:20250621T171310Z
UID:102361-1776952800-1776967200@thetulsaartsdistrict.org
SUMMARY:Happy Hour\, 2-6pm! $2 off glass of wine / $4 off bottle of wine! $3.50 mules AND 1/2 price apps with any bar purchase! at The Chowhouse
DESCRIPTION:
URL:https://thetulsaartsdistrict.org/event/happy-hour-2-6pm-2-off-glass-of-wine-4-off-bottle-of-wine-3-50-mules-and-1-2-price-apps-with-any-bar-purchase-at-the-chowhouse-3-2025-12-26/2026-04-23/
LOCATION:The Chowhouse\, 18 E Reconciliation Way\, Tulsa\, OK\, 74103\, United States
END:VEVENT
BEGIN:VEVENT
DTSTART;TZID=America/Chicago:20260424T140000
DTEND;TZID=America/Chicago:20260424T180000
DTSTAMP:20260419T174726
CREATED:20250621T171310Z
LAST-MODIFIED:20250621T171310Z
UID:102362-1777039200-1777053600@thetulsaartsdistrict.org
SUMMARY:Happy Hour\, 2-6pm! $2 off glass of wine / $4 off bottle of wine! $3.50 mules AND 1/2 price apps with any bar purchase! at The Chowhouse
DESCRIPTION:
URL:https://thetulsaartsdistrict.org/event/happy-hour-2-6pm-2-off-glass-of-wine-4-off-bottle-of-wine-3-50-mules-and-1-2-price-apps-with-any-bar-purchase-at-the-chowhouse-3-2025-12-26/2026-04-24/
LOCATION:The Chowhouse\, 18 E Reconciliation Way\, Tulsa\, OK\, 74103\, United States
END:VEVENT
BEGIN:VEVENT
DTSTART;TZID=America/Chicago:20260429T140000
DTEND;TZID=America/Chicago:20260429T180000
DTSTAMP:20260419T174726
CREATED:20250621T171310Z
LAST-MODIFIED:20250621T171310Z
UID:102363-1777471200-1777485600@thetulsaartsdistrict.org
SUMMARY:Happy Hour\, 2-6pm! $2 off glass of wine / $4 off bottle of wine! $3.50 mules AND 1/2 price apps with any bar purchase! at The Chowhouse
DESCRIPTION:
URL:https://thetulsaartsdistrict.org/event/happy-hour-2-6pm-2-off-glass-of-wine-4-off-bottle-of-wine-3-50-mules-and-1-2-price-apps-with-any-bar-purchase-at-the-chowhouse-3-2025-12-26/2026-04-29/
LOCATION:The Chowhouse\, 18 E Reconciliation Way\, Tulsa\, OK\, 74103\, United States
END:VEVENT
BEGIN:VEVENT
DTSTART;TZID=America/Chicago:20260429T170000
DTEND;TZID=America/Chicago:20260429T210000
DTSTAMP:20260419T174726
CREATED:20250621T170632Z
LAST-MODIFIED:20250621T170632Z
UID:102303-1777482000-1777496400@thetulsaartsdistrict.org
SUMMARY:Kids Eat Free!!!! with purchase of an adult entre at The Chowhouse
DESCRIPTION:
URL:https://thetulsaartsdistrict.org/event/kids-eat-free-with-purchase-of-an-adult-entre-at-the-chowhouse-3-2025-12-10/2026-04-29/
LOCATION:The Chowhouse\, 18 E Reconciliation Way\, Tulsa\, OK\, 74103\, United States
END:VEVENT
BEGIN:VEVENT
DTSTART;TZID=America/Chicago:20260430T140000
DTEND;TZID=America/Chicago:20260430T180000
DTSTAMP:20260419T174726
CREATED:20250621T171310Z
LAST-MODIFIED:20250621T171310Z
UID:102364-1777557600-1777572000@thetulsaartsdistrict.org
SUMMARY:Happy Hour\, 2-6pm! $2 off glass of wine / $4 off bottle of wine! $3.50 mules AND 1/2 price apps with any bar purchase! at The Chowhouse
DESCRIPTION:
URL:https://thetulsaartsdistrict.org/event/happy-hour-2-6pm-2-off-glass-of-wine-4-off-bottle-of-wine-3-50-mules-and-1-2-price-apps-with-any-bar-purchase-at-the-chowhouse-3-2025-12-26/2026-04-30/
LOCATION:The Chowhouse\, 18 E Reconciliation Way\, Tulsa\, OK\, 74103\, United States
END:VEVENT
BEGIN:VEVENT
DTSTART;TZID=America/Chicago:20260501T140000
DTEND;TZID=America/Chicago:20260501T180000
DTSTAMP:20260419T174726
CREATED:20250621T171310Z
LAST-MODIFIED:20250621T171310Z
UID:102365-1777644000-1777658400@thetulsaartsdistrict.org
SUMMARY:Happy Hour\, 2-6pm! $2 off glass of wine / $4 off bottle of wine! $3.50 mules AND 1/2 price apps with any bar purchase! at The Chowhouse
DESCRIPTION:
URL:https://thetulsaartsdistrict.org/event/happy-hour-2-6pm-2-off-glass-of-wine-4-off-bottle-of-wine-3-50-mules-and-1-2-price-apps-with-any-bar-purchase-at-the-chowhouse-3-2025-12-26/2026-05-01/
LOCATION:The Chowhouse\, 18 E Reconciliation Way\, Tulsa\, OK\, 74103\, United States
END:VEVENT
BEGIN:VEVENT
DTSTART;TZID=America/Chicago:20260506T140000
DTEND;TZID=America/Chicago:20260506T180000
DTSTAMP:20260419T174726
CREATED:20250621T171310Z
LAST-MODIFIED:20250621T171310Z
UID:102366-1778076000-1778090400@thetulsaartsdistrict.org
SUMMARY:Happy Hour\, 2-6pm! $2 off glass of wine / $4 off bottle of wine! $3.50 mules AND 1/2 price apps with any bar purchase! at The Chowhouse
DESCRIPTION:
URL:https://thetulsaartsdistrict.org/event/happy-hour-2-6pm-2-off-glass-of-wine-4-off-bottle-of-wine-3-50-mules-and-1-2-price-apps-with-any-bar-purchase-at-the-chowhouse-3-2025-12-26/2026-05-06/
LOCATION:The Chowhouse\, 18 E Reconciliation Way\, Tulsa\, OK\, 74103\, United States
END:VEVENT
BEGIN:VEVENT
DTSTART;TZID=America/Chicago:20260506T170000
DTEND;TZID=America/Chicago:20260506T210000
DTSTAMP:20260419T174726
CREATED:20250621T170632Z
LAST-MODIFIED:20250621T170632Z
UID:102304-1778086800-1778101200@thetulsaartsdistrict.org
SUMMARY:Kids Eat Free!!!! with purchase of an adult entre at The Chowhouse
DESCRIPTION:
URL:https://thetulsaartsdistrict.org/event/kids-eat-free-with-purchase-of-an-adult-entre-at-the-chowhouse-3-2025-12-10/2026-05-06/
LOCATION:The Chowhouse\, 18 E Reconciliation Way\, Tulsa\, OK\, 74103\, United States
END:VEVENT
BEGIN:VEVENT
DTSTART;TZID=America/Chicago:20260507T140000
DTEND;TZID=America/Chicago:20260507T180000
DTSTAMP:20260419T174726
CREATED:20250621T171310Z
LAST-MODIFIED:20250621T171310Z
UID:102367-1778162400-1778176800@thetulsaartsdistrict.org
SUMMARY:Happy Hour\, 2-6pm! $2 off glass of wine / $4 off bottle of wine! $3.50 mules AND 1/2 price apps with any bar purchase! at The Chowhouse
DESCRIPTION:
URL:https://thetulsaartsdistrict.org/event/happy-hour-2-6pm-2-off-glass-of-wine-4-off-bottle-of-wine-3-50-mules-and-1-2-price-apps-with-any-bar-purchase-at-the-chowhouse-3-2025-12-26/2026-05-07/
LOCATION:The Chowhouse\, 18 E Reconciliation Way\, Tulsa\, OK\, 74103\, United States
END:VEVENT
BEGIN:VEVENT
DTSTART;TZID=America/Chicago:20260508T140000
DTEND;TZID=America/Chicago:20260508T180000
DTSTAMP:20260419T174726
CREATED:20250621T171310Z
LAST-MODIFIED:20250621T171310Z
UID:102368-1778248800-1778263200@thetulsaartsdistrict.org
SUMMARY:Happy Hour\, 2-6pm! $2 off glass of wine / $4 off bottle of wine! $3.50 mules AND 1/2 price apps with any bar purchase! at The Chowhouse
DESCRIPTION:
URL:https://thetulsaartsdistrict.org/event/happy-hour-2-6pm-2-off-glass-of-wine-4-off-bottle-of-wine-3-50-mules-and-1-2-price-apps-with-any-bar-purchase-at-the-chowhouse-3-2025-12-26/2026-05-08/
LOCATION:The Chowhouse\, 18 E Reconciliation Way\, Tulsa\, OK\, 74103\, United States
END:VEVENT
BEGIN:VEVENT
DTSTART;TZID=America/Chicago:20260513T140000
DTEND;TZID=America/Chicago:20260513T180000
DTSTAMP:20260419T174726
CREATED:20250621T171310Z
LAST-MODIFIED:20250621T171310Z
UID:102369-1778680800-1778695200@thetulsaartsdistrict.org
SUMMARY:Happy Hour\, 2-6pm! $2 off glass of wine / $4 off bottle of wine! $3.50 mules AND 1/2 price apps with any bar purchase! at The Chowhouse
DESCRIPTION:
URL:https://thetulsaartsdistrict.org/event/happy-hour-2-6pm-2-off-glass-of-wine-4-off-bottle-of-wine-3-50-mules-and-1-2-price-apps-with-any-bar-purchase-at-the-chowhouse-3-2025-12-26/2026-05-13/
LOCATION:The Chowhouse\, 18 E Reconciliation Way\, Tulsa\, OK\, 74103\, United States
END:VEVENT
BEGIN:VEVENT
DTSTART;TZID=America/Chicago:20260513T170000
DTEND;TZID=America/Chicago:20260513T210000
DTSTAMP:20260419T174726
CREATED:20250621T170632Z
LAST-MODIFIED:20250621T170632Z
UID:102305-1778691600-1778706000@thetulsaartsdistrict.org
SUMMARY:Kids Eat Free!!!! with purchase of an adult entre at The Chowhouse
DESCRIPTION:
URL:https://thetulsaartsdistrict.org/event/kids-eat-free-with-purchase-of-an-adult-entre-at-the-chowhouse-3-2025-12-10/2026-05-13/
LOCATION:The Chowhouse\, 18 E Reconciliation Way\, Tulsa\, OK\, 74103\, United States
END:VEVENT
BEGIN:VEVENT
DTSTART;TZID=America/Chicago:20260514T140000
DTEND;TZID=America/Chicago:20260514T180000
DTSTAMP:20260419T174726
CREATED:20250621T171310Z
LAST-MODIFIED:20250621T171310Z
UID:102370-1778767200-1778781600@thetulsaartsdistrict.org
SUMMARY:Happy Hour\, 2-6pm! $2 off glass of wine / $4 off bottle of wine! $3.50 mules AND 1/2 price apps with any bar purchase! at The Chowhouse
DESCRIPTION:
URL:https://thetulsaartsdistrict.org/event/happy-hour-2-6pm-2-off-glass-of-wine-4-off-bottle-of-wine-3-50-mules-and-1-2-price-apps-with-any-bar-purchase-at-the-chowhouse-3-2025-12-26/2026-05-14/
LOCATION:The Chowhouse\, 18 E Reconciliation Way\, Tulsa\, OK\, 74103\, United States
END:VEVENT
BEGIN:VEVENT
DTSTART;TZID=America/Chicago:20260515T140000
DTEND;TZID=America/Chicago:20260515T180000
DTSTAMP:20260419T174726
CREATED:20250621T171310Z
LAST-MODIFIED:20250621T171310Z
UID:102371-1778853600-1778868000@thetulsaartsdistrict.org
SUMMARY:Happy Hour\, 2-6pm! $2 off glass of wine / $4 off bottle of wine! $3.50 mules AND 1/2 price apps with any bar purchase! at The Chowhouse
DESCRIPTION:
URL:https://thetulsaartsdistrict.org/event/happy-hour-2-6pm-2-off-glass-of-wine-4-off-bottle-of-wine-3-50-mules-and-1-2-price-apps-with-any-bar-purchase-at-the-chowhouse-3-2025-12-26/2026-05-15/
LOCATION:The Chowhouse\, 18 E Reconciliation Way\, Tulsa\, OK\, 74103\, United States
END:VEVENT
BEGIN:VEVENT
DTSTART;TZID=America/Chicago:20260520T140000
DTEND;TZID=America/Chicago:20260520T180000
DTSTAMP:20260419T174726
CREATED:20250621T171310Z
LAST-MODIFIED:20250621T171310Z
UID:102372-1779285600-1779300000@thetulsaartsdistrict.org
SUMMARY:Happy Hour\, 2-6pm! $2 off glass of wine / $4 off bottle of wine! $3.50 mules AND 1/2 price apps with any bar purchase! at The Chowhouse
DESCRIPTION:
URL:https://thetulsaartsdistrict.org/event/happy-hour-2-6pm-2-off-glass-of-wine-4-off-bottle-of-wine-3-50-mules-and-1-2-price-apps-with-any-bar-purchase-at-the-chowhouse-3-2025-12-26/2026-05-20/
LOCATION:The Chowhouse\, 18 E Reconciliation Way\, Tulsa\, OK\, 74103\, United States
END:VEVENT
BEGIN:VEVENT
DTSTART;TZID=America/Chicago:20260520T170000
DTEND;TZID=America/Chicago:20260520T210000
DTSTAMP:20260419T174726
CREATED:20250621T170632Z
LAST-MODIFIED:20250621T170632Z
UID:102306-1779296400-1779310800@thetulsaartsdistrict.org
SUMMARY:Kids Eat Free!!!! with purchase of an adult entre at The Chowhouse
DESCRIPTION:
URL:https://thetulsaartsdistrict.org/event/kids-eat-free-with-purchase-of-an-adult-entre-at-the-chowhouse-3-2025-12-10/2026-05-20/
LOCATION:The Chowhouse\, 18 E Reconciliation Way\, Tulsa\, OK\, 74103\, United States
END:VEVENT
BEGIN:VEVENT
DTSTART;TZID=America/Chicago:20260521T140000
DTEND;TZID=America/Chicago:20260521T180000
DTSTAMP:20260419T174726
CREATED:20250621T171310Z
LAST-MODIFIED:20250621T171310Z
UID:102373-1779372000-1779386400@thetulsaartsdistrict.org
SUMMARY:Happy Hour\, 2-6pm! $2 off glass of wine / $4 off bottle of wine! $3.50 mules AND 1/2 price apps with any bar purchase! at The Chowhouse
DESCRIPTION:
URL:https://thetulsaartsdistrict.org/event/happy-hour-2-6pm-2-off-glass-of-wine-4-off-bottle-of-wine-3-50-mules-and-1-2-price-apps-with-any-bar-purchase-at-the-chowhouse-3-2025-12-26/2026-05-21/
LOCATION:The Chowhouse\, 18 E Reconciliation Way\, Tulsa\, OK\, 74103\, United States
END:VEVENT
BEGIN:VEVENT
DTSTART;TZID=America/Chicago:20260522T140000
DTEND;TZID=America/Chicago:20260522T180000
DTSTAMP:20260419T174726
CREATED:20250621T171310Z
LAST-MODIFIED:20250621T171310Z
UID:102374-1779458400-1779472800@thetulsaartsdistrict.org
SUMMARY:Happy Hour\, 2-6pm! $2 off glass of wine / $4 off bottle of wine! $3.50 mules AND 1/2 price apps with any bar purchase! at The Chowhouse
DESCRIPTION:
URL:https://thetulsaartsdistrict.org/event/happy-hour-2-6pm-2-off-glass-of-wine-4-off-bottle-of-wine-3-50-mules-and-1-2-price-apps-with-any-bar-purchase-at-the-chowhouse-3-2025-12-26/2026-05-22/
LOCATION:The Chowhouse\, 18 E Reconciliation Way\, Tulsa\, OK\, 74103\, United States
END:VEVENT
BEGIN:VEVENT
DTSTART;TZID=America/Chicago:20260527T140000
DTEND;TZID=America/Chicago:20260527T180000
DTSTAMP:20260419T174726
CREATED:20250621T171310Z
LAST-MODIFIED:20250621T171310Z
UID:102375-1779890400-1779904800@thetulsaartsdistrict.org
SUMMARY:Happy Hour\, 2-6pm! $2 off glass of wine / $4 off bottle of wine! $3.50 mules AND 1/2 price apps with any bar purchase! at The Chowhouse
DESCRIPTION:
URL:https://thetulsaartsdistrict.org/event/happy-hour-2-6pm-2-off-glass-of-wine-4-off-bottle-of-wine-3-50-mules-and-1-2-price-apps-with-any-bar-purchase-at-the-chowhouse-3-2025-12-26/2026-05-27/
LOCATION:The Chowhouse\, 18 E Reconciliation Way\, Tulsa\, OK\, 74103\, United States
END:VEVENT
BEGIN:VEVENT
DTSTART;TZID=America/Chicago:20260527T170000
DTEND;TZID=America/Chicago:20260527T210000
DTSTAMP:20260419T174726
CREATED:20250621T170632Z
LAST-MODIFIED:20250621T170632Z
UID:102307-1779901200-1779915600@thetulsaartsdistrict.org
SUMMARY:Kids Eat Free!!!! with purchase of an adult entre at The Chowhouse
DESCRIPTION:
URL:https://thetulsaartsdistrict.org/event/kids-eat-free-with-purchase-of-an-adult-entre-at-the-chowhouse-3-2025-12-10/2026-05-27/
LOCATION:The Chowhouse\, 18 E Reconciliation Way\, Tulsa\, OK\, 74103\, United States
END:VEVENT
BEGIN:VEVENT
DTSTART;TZID=America/Chicago:20260528T140000
DTEND;TZID=America/Chicago:20260528T180000
DTSTAMP:20260419T174726
CREATED:20250621T171310Z
LAST-MODIFIED:20250621T171310Z
UID:102376-1779976800-1779991200@thetulsaartsdistrict.org
SUMMARY:Happy Hour\, 2-6pm! $2 off glass of wine / $4 off bottle of wine! $3.50 mules AND 1/2 price apps with any bar purchase! at The Chowhouse
DESCRIPTION:
URL:https://thetulsaartsdistrict.org/event/happy-hour-2-6pm-2-off-glass-of-wine-4-off-bottle-of-wine-3-50-mules-and-1-2-price-apps-with-any-bar-purchase-at-the-chowhouse-3-2025-12-26/2026-05-28/
LOCATION:The Chowhouse\, 18 E Reconciliation Way\, Tulsa\, OK\, 74103\, United States
END:VEVENT
BEGIN:VEVENT
DTSTART;TZID=America/Chicago:20260529T140000
DTEND;TZID=America/Chicago:20260529T180000
DTSTAMP:20260419T174726
CREATED:20250621T171310Z
LAST-MODIFIED:20250621T171310Z
UID:102377-1780063200-1780077600@thetulsaartsdistrict.org
SUMMARY:Happy Hour\, 2-6pm! $2 off glass of wine / $4 off bottle of wine! $3.50 mules AND 1/2 price apps with any bar purchase! at The Chowhouse
DESCRIPTION:
URL:https://thetulsaartsdistrict.org/event/happy-hour-2-6pm-2-off-glass-of-wine-4-off-bottle-of-wine-3-50-mules-and-1-2-price-apps-with-any-bar-purchase-at-the-chowhouse-3-2025-12-26/2026-05-29/
LOCATION:The Chowhouse\, 18 E Reconciliation Way\, Tulsa\, OK\, 74103\, United States
END:VEVENT
BEGIN:VEVENT
DTSTART;TZID=America/Chicago:20260603T140000
DTEND;TZID=America/Chicago:20260603T180000
DTSTAMP:20260419T174726
CREATED:20250621T171310Z
LAST-MODIFIED:20250621T171310Z
UID:102378-1780495200-1780509600@thetulsaartsdistrict.org
SUMMARY:Happy Hour\, 2-6pm! $2 off glass of wine / $4 off bottle of wine! $3.50 mules AND 1/2 price apps with any bar purchase! at The Chowhouse
DESCRIPTION:
URL:https://thetulsaartsdistrict.org/event/happy-hour-2-6pm-2-off-glass-of-wine-4-off-bottle-of-wine-3-50-mules-and-1-2-price-apps-with-any-bar-purchase-at-the-chowhouse-3-2025-12-26/2026-06-03/
LOCATION:The Chowhouse\, 18 E Reconciliation Way\, Tulsa\, OK\, 74103\, United States
END:VEVENT
BEGIN:VEVENT
DTSTART;TZID=America/Chicago:20260603T170000
DTEND;TZID=America/Chicago:20260603T210000
DTSTAMP:20260419T174726
CREATED:20250621T170632Z
LAST-MODIFIED:20250621T170632Z
UID:102308-1780506000-1780520400@thetulsaartsdistrict.org
SUMMARY:Kids Eat Free!!!! with purchase of an adult entre at The Chowhouse
DESCRIPTION:
URL:https://thetulsaartsdistrict.org/event/kids-eat-free-with-purchase-of-an-adult-entre-at-the-chowhouse-3-2025-12-10/2026-06-03/
LOCATION:The Chowhouse\, 18 E Reconciliation Way\, Tulsa\, OK\, 74103\, United States
END:VEVENT
BEGIN:VEVENT
DTSTART;TZID=America/Chicago:20260604T140000
DTEND;TZID=America/Chicago:20260604T180000
DTSTAMP:20260419T174726
CREATED:20250621T171310Z
LAST-MODIFIED:20250621T171310Z
UID:102379-1780581600-1780596000@thetulsaartsdistrict.org
SUMMARY:Happy Hour\, 2-6pm! $2 off glass of wine / $4 off bottle of wine! $3.50 mules AND 1/2 price apps with any bar purchase! at The Chowhouse
DESCRIPTION:
URL:https://thetulsaartsdistrict.org/event/happy-hour-2-6pm-2-off-glass-of-wine-4-off-bottle-of-wine-3-50-mules-and-1-2-price-apps-with-any-bar-purchase-at-the-chowhouse-3-2025-12-26/2026-06-04/
LOCATION:The Chowhouse\, 18 E Reconciliation Way\, Tulsa\, OK\, 74103\, United States
END:VEVENT
BEGIN:VEVENT
DTSTART;TZID=America/Chicago:20260605T140000
DTEND;TZID=America/Chicago:20260605T180000
DTSTAMP:20260419T174726
CREATED:20250621T171310Z
LAST-MODIFIED:20250621T171310Z
UID:102380-1780668000-1780682400@thetulsaartsdistrict.org
SUMMARY:Happy Hour\, 2-6pm! $2 off glass of wine / $4 off bottle of wine! $3.50 mules AND 1/2 price apps with any bar purchase! at The Chowhouse
DESCRIPTION:
URL:https://thetulsaartsdistrict.org/event/happy-hour-2-6pm-2-off-glass-of-wine-4-off-bottle-of-wine-3-50-mules-and-1-2-price-apps-with-any-bar-purchase-at-the-chowhouse-3-2025-12-26/2026-06-05/
LOCATION:The Chowhouse\, 18 E Reconciliation Way\, Tulsa\, OK\, 74103\, United States
END:VEVENT
BEGIN:VEVENT
DTSTART;TZID=America/Chicago:20260610T140000
DTEND;TZID=America/Chicago:20260610T180000
DTSTAMP:20260419T174726
CREATED:20250621T171310Z
LAST-MODIFIED:20250621T171310Z
UID:102381-1781100000-1781114400@thetulsaartsdistrict.org
SUMMARY:Happy Hour\, 2-6pm! $2 off glass of wine / $4 off bottle of wine! $3.50 mules AND 1/2 price apps with any bar purchase! at The Chowhouse
DESCRIPTION:
URL:https://thetulsaartsdistrict.org/event/happy-hour-2-6pm-2-off-glass-of-wine-4-off-bottle-of-wine-3-50-mules-and-1-2-price-apps-with-any-bar-purchase-at-the-chowhouse-3-2025-12-26/2026-06-10/
LOCATION:The Chowhouse\, 18 E Reconciliation Way\, Tulsa\, OK\, 74103\, United States
END:VEVENT
BEGIN:VEVENT
DTSTART;TZID=America/Chicago:20260610T170000
DTEND;TZID=America/Chicago:20260610T210000
DTSTAMP:20260419T174726
CREATED:20250621T170632Z
LAST-MODIFIED:20250621T170632Z
UID:102309-1781110800-1781125200@thetulsaartsdistrict.org
SUMMARY:Kids Eat Free!!!! with purchase of an adult entre at The Chowhouse
DESCRIPTION:
URL:https://thetulsaartsdistrict.org/event/kids-eat-free-with-purchase-of-an-adult-entre-at-the-chowhouse-3-2025-12-10/2026-06-10/
LOCATION:The Chowhouse\, 18 E Reconciliation Way\, Tulsa\, OK\, 74103\, United States
END:VEVENT
END:VCALENDAR