BEGIN:VCALENDAR
VERSION:2.0
PRODID:-//Tulsa Arts District - ECPv6.15.20//NONSGML v1.0//EN
CALSCALE:GREGORIAN
METHOD:PUBLISH
X-WR-CALNAME:Tulsa Arts District
X-ORIGINAL-URL:https://thetulsaartsdistrict.org
X-WR-CALDESC:Events for Tulsa Arts District
REFRESH-INTERVAL;VALUE=DURATION:PT1H
X-Robots-Tag:noindex
X-PUBLISHED-TTL:PT1H
BEGIN:VTIMEZONE
TZID:America/Chicago
BEGIN:DAYLIGHT
TZOFFSETFROM:-0600
TZOFFSETTO:-0500
TZNAME:CDT
DTSTART:20210314T080000
END:DAYLIGHT
BEGIN:STANDARD
TZOFFSETFROM:-0500
TZOFFSETTO:-0600
TZNAME:CST
DTSTART:20211107T070000
END:STANDARD
BEGIN:DAYLIGHT
TZOFFSETFROM:-0600
TZOFFSETTO:-0500
TZNAME:CDT
DTSTART:20220313T080000
END:DAYLIGHT
BEGIN:STANDARD
TZOFFSETFROM:-0500
TZOFFSETTO:-0600
TZNAME:CST
DTSTART:20221106T070000
END:STANDARD
BEGIN:DAYLIGHT
TZOFFSETFROM:-0600
TZOFFSETTO:-0500
TZNAME:CDT
DTSTART:20230312T080000
END:DAYLIGHT
BEGIN:STANDARD
TZOFFSETFROM:-0500
TZOFFSETTO:-0600
TZNAME:CST
DTSTART:20231105T070000
END:STANDARD
BEGIN:DAYLIGHT
TZOFFSETFROM:-0600
TZOFFSETTO:-0500
TZNAME:CDT
DTSTART:20240310T080000
END:DAYLIGHT
BEGIN:STANDARD
TZOFFSETFROM:-0500
TZOFFSETTO:-0600
TZNAME:CST
DTSTART:20241103T070000
END:STANDARD
END:VTIMEZONE
BEGIN:VEVENT
DTSTART;TZID=America/Chicago:20230512T213000
DTEND;TZID=America/Chicago:20230512T230000
DTSTAMP:20260423T065002
CREATED:20230512T163826Z
LAST-MODIFIED:20230512T163828Z
UID:54989-1683927000-1683932400@thetulsaartsdistrict.org
SUMMARY:Bad Boys on the Block at Club Majestic
DESCRIPTION:
URL:https://thetulsaartsdistrict.org/event/bad-boys-on-the-block-at-club-majestic-21/
LOCATION:Club Majestic\, 124 N Boston\, Tulsa\, OK\, 74103\, United States
END:VEVENT
BEGIN:VEVENT
DTSTART;TZID=America/Chicago:20230507T220000
DTEND;TZID=America/Chicago:20230507T233000
DTSTAMP:20260423T065002
CREATED:20230507T122800Z
LAST-MODIFIED:20230507T123555Z
UID:54939-1683496800-1683502200@thetulsaartsdistrict.org
SUMMARY:Mr. Gay Oklahoma America 2023 at Club Majestic
DESCRIPTION:Doors open at 9pm • Showtime 10pm • 18 to Enter – Cover 21+ $10 \, 18-20 $15
URL:https://thetulsaartsdistrict.org/event/mr-gay-oklahoma-america-2023-at-club-majestic/
LOCATION:Club Majestic\, 124 N Boston\, Tulsa\, OK\, 74103\, United States
END:VEVENT
BEGIN:VEVENT
DTSTART;TZID=America/Chicago:20230430T210000
DTEND;TZID=America/Chicago:20230430T223000
DTSTAMP:20260423T065002
CREATED:20230219T185722Z
LAST-MODIFIED:20230219T185723Z
UID:51930-1682888400-1682893800@thetulsaartsdistrict.org
SUMMARY:Miss Gay Oklahoma USofA Newcomer 2023 at Club Majestic
DESCRIPTION:
URL:https://thetulsaartsdistrict.org/event/miss-gay-oklahoma-usofa-newcomer-2023-at-club-majestic/
LOCATION:Club Majestic\, 124 N Boston\, Tulsa\, OK\, 74103\, United States
END:VEVENT
BEGIN:VEVENT
DTSTART;TZID=America/Chicago:20230416T210000
DTEND;TZID=America/Chicago:20230416T223000
DTSTAMP:20260423T065002
CREATED:20230413T161752Z
LAST-MODIFIED:20230413T161755Z
UID:53807-1681678800-1681684200@thetulsaartsdistrict.org
SUMMARY:Club Majestic presents a BENEFIT SHOW for Miss Gay Oklahoma America
DESCRIPTION:
URL:https://thetulsaartsdistrict.org/event/club-majestic-presents-a-benefit-show-for-miss-gay-oklahoma-america/
LOCATION:Club Majestic\, 124 N Boston\, Tulsa\, OK\, 74103\, United States
END:VEVENT
BEGIN:VEVENT
DTSTART;TZID=America/Chicago:20230414T213000
DTEND;TZID=America/Chicago:20230414T223000
DTSTAMP:20260423T065002
CREATED:20230413T161241Z
LAST-MODIFIED:20230413T161351Z
UID:53804-1681507800-1681511400@thetulsaartsdistrict.org
SUMMARY:Bad Boys On The Block! at Club Majestic
DESCRIPTION:With Aiden B. Von Trash\, Dravyn Khrystian Drake\, Charlie M. Von Trash\, Londenn D. Raine\, and your host Scrappy Legacy. \n\n\n\nDoors open at 9pm • Showtime 9:30pm • 18+
URL:https://thetulsaartsdistrict.org/event/bad-boys-on-the-block-at-club-majestic-20/
LOCATION:Club Majestic\, 124 N Boston\, Tulsa\, OK\, 74103\, United States
END:VEVENT
BEGIN:VEVENT
DTSTART;TZID=America/Chicago:20230317T210000
DTEND;TZID=America/Chicago:20230317T223000
DTSTAMP:20260423T065002
CREATED:20230312T190554Z
LAST-MODIFIED:20230312T190556Z
UID:52544-1679086800-1679092200@thetulsaartsdistrict.org
SUMMARY:Escándalo at Club Majestic
DESCRIPTION:Don’t miss Escándalo \n\n\n\nWith Valentino Minaj\, Bosston\, Diana Laveau\, Deja Deveaux\, and your hosts Franchesqua Minaj\, and \n\n\n\nKing Laylo York! \n\n\n\nDoors open at 9pm • 18 to Enter • Showtime 9:30pm
URL:https://thetulsaartsdistrict.org/event/escandalo-at-club-majestic-17/
LOCATION:Club Majestic\, 124 N Boston\, Tulsa\, OK\, 74103\, United States
END:VEVENT
BEGIN:VEVENT
DTSTART;TZID=America/Chicago:20230226T220000
DTEND;TZID=America/Chicago:20230226T230000
DTSTAMP:20260423T065002
CREATED:20230225T171916Z
LAST-MODIFIED:20230225T172033Z
UID:52138-1677448800-1677452400@thetulsaartsdistrict.org
SUMMARY:Oklahoma Bold & Beautiful Elite 2023 - Honoring Oklahoma B&B Elite 2022\, Shanel Sterling at Club Majestic
DESCRIPTION:Doors open at 9pm • Showtime 10pm • 18+
URL:https://thetulsaartsdistrict.org/event/oklahoma-bold-beautiful-elite-2023-honoring-oklahoma-bb-elite-2022-shanel-sterling-at-club-majestic/
LOCATION:Club Majestic\, 124 N Boston\, Tulsa\, OK\, 74103\, United States
END:VEVENT
BEGIN:VEVENT
DTSTART;TZID=America/Chicago:20230129T220000
DTEND;TZID=America/Chicago:20230129T233000
DTSTAMP:20260423T065002
CREATED:20221004T212445Z
LAST-MODIFIED:20221004T212446Z
UID:45601-1675029600-1675035000@thetulsaartsdistrict.org
SUMMARY:Majestic Royale 2023! at Club Majestic
DESCRIPTION:
URL:https://thetulsaartsdistrict.org/event/majestic-royale-2023-at-club-majestic/
LOCATION:Club Majestic\, 124 N Boston\, Tulsa\, OK\, 74103\, United States
END:VEVENT
BEGIN:VEVENT
DTSTART;TZID=America/Chicago:20230122T220000
DTEND;TZID=America/Chicago:20230122T230000
DTSTAMP:20260423T065002
CREATED:20230122T142341Z
LAST-MODIFIED:20230122T142435Z
UID:51191-1674424800-1674428400@thetulsaartsdistrict.org
SUMMARY:Miss Oklahoma USofA Diva 2023 - Women's Empowerment at Club Majestic
DESCRIPTION:Women’s Empowerment
URL:https://thetulsaartsdistrict.org/event/miss-oklahoma-usofa-diva-2023-womens-empowerment-at-club-majestic/
LOCATION:Club Majestic\, 124 N Boston\, Tulsa\, OK\, 74103\, United States
END:VEVENT
BEGIN:VEVENT
DTSTART;TZID=America/Chicago:20230120T213000
DTEND;TZID=America/Chicago:20230120T230000
DTSTAMP:20260423T065002
CREATED:20230109T150938Z
LAST-MODIFIED:20230109T150940Z
UID:50905-1674250200-1674255600@thetulsaartsdistrict.org
SUMMARY:Escándalo at Club Majestic
DESCRIPTION:
URL:https://thetulsaartsdistrict.org/event/escandalo-at-club-majestic-16/
LOCATION:Club Majestic\, 124 N Boston\, Tulsa\, OK\, 74103\, United States
END:VEVENT
BEGIN:VEVENT
DTSTART;TZID=America/Chicago:20230113T213000
DTEND;TZID=America/Chicago:20230113T223000
DTSTAMP:20260423T065002
CREATED:20230105T135229Z
LAST-MODIFIED:20230105T135231Z
UID:50419-1673645400-1673649000@thetulsaartsdistrict.org
SUMMARY:Bad Boys On The Block at Club Majestic
DESCRIPTION:
URL:https://thetulsaartsdistrict.org/event/bad-boys-on-the-block-at-club-majestic-19/
LOCATION:Club Majestic\, 124 N Boston\, Tulsa\, OK\, 74103\, United States
END:VEVENT
BEGIN:VEVENT
DTSTART;TZID=America/Chicago:20230106T210000
DTEND;TZID=America/Chicago:20230107T013000
DTSTAMP:20260423T065002
CREATED:20210103T161634Z
LAST-MODIFIED:20230105T141926Z
UID:49347-1673038800-1673055000@thetulsaartsdistrict.org
SUMMARY:First Friday Latin Infusion & Bosston's Tea Party & Hoe You Think You Can Dance! Contest at Club Majestic at 12:30 am
DESCRIPTION:
URL:https://thetulsaartsdistrict.org/event/hoe-you-think-you-can-dance-contest-at-club-majestic-at-1230-am-2021-05-07-2021-12-03-2022-12-02-2023-01-06/
LOCATION:Club Majestic\, 124 N Boston\, Tulsa\, OK\, 74103\, United States
END:VEVENT
BEGIN:VEVENT
DTSTART;TZID=America/Chicago:20230105T210000
DTEND;TZID=America/Chicago:20230106T013000
DTSTAMP:20260423T065002
CREATED:20210107T001200Z
LAST-MODIFIED:20230105T130008Z
UID:49354-1672952400-1672968600@thetulsaartsdistrict.org
SUMMARY:Dragnificent! at Club Majestic - show at 11:00 pm
DESCRIPTION:Every Thursday. \n\n\n\nFeaturing special guest\, Alizay Z. Paige. \n\n\n\nWith Londenn D. Raine\, and host Shanel Sterling!
URL:https://thetulsaartsdistrict.org/event/drag-roulette-at-club-majestic-show-at-1100-pm-2023-01-05/2023-01-05/
LOCATION:Club Majestic\, 124 N Boston\, Tulsa\, OK\, 74103\, United States
END:VEVENT
BEGIN:VEVENT
DTSTART;TZID=America/Chicago:20221231T210000
DTEND;TZID=America/Chicago:20230101T013000
DTSTAMP:20260423T065002
CREATED:20221217T200734Z
LAST-MODIFIED:20221217T200735Z
UID:48897-1672520400-1672536600@thetulsaartsdistrict.org
SUMMARY:New Year's Eve at Club Majestic
DESCRIPTION:Ring in the new year at Club Majestic! \n\n\n\nCountdown and champagne toast at midnight \n\n\n\nhosted by Shanel Sterling. \n\n\n\nDoors open at 9pm • 21+ only
URL:https://thetulsaartsdistrict.org/event/new-years-eve-at-club-majestic/
LOCATION:Club Majestic\, 124 N Boston\, Tulsa\, OK\, 74103\, United States
END:VEVENT
BEGIN:VEVENT
DTSTART;TZID=America/Chicago:20221222T220000
DTEND;TZID=America/Chicago:20221222T233000
DTSTAMP:20260423T065002
CREATED:20221218T150312Z
LAST-MODIFIED:20221220T223044Z
UID:48909-1671746400-1671751800@thetulsaartsdistrict.org
SUMMARY:Christmas Showcase & Party at Club Majestic
DESCRIPTION:Celebrate the holiday weekend with us! \n\n\n\nDon’t miss our Christmas Showcase & Party \n\n\n\nCome in from the cold weather\, and cozy up for an amazing show full of talent! \n\n\n\nThursday the 22nd & Sunday the 25th \n\n\n\nDoors 9pm • Showtime 10pm • 18 to Enter \n\n\n\nFor table reservations contact Shanel Sterling Brandon Patrick.
URL:https://thetulsaartsdistrict.org/event/christmas-drag-show-at-club-mjaestic/2022-12-22/
LOCATION:Club Majestic\, 124 N Boston\, Tulsa\, OK\, 74103\, United States
END:VEVENT
BEGIN:VEVENT
DTSTART;TZID=America/Chicago:20221218T210000
DTEND;TZID=America/Chicago:20221218T223000
DTSTAMP:20260423T065002
CREATED:20221218T145952Z
LAST-MODIFIED:20221218T145954Z
UID:48906-1671397200-1671402600@thetulsaartsdistrict.org
SUMMARY:Miss Gay Tulsa\, Oklahoma USofA 2023 Beach Party at Club Majestic
DESCRIPTION:Doors open at 9pm • Showtime 10pm • 18 to Enter
URL:https://thetulsaartsdistrict.org/event/miss-gay-tulsa-oklahoma-usofa-2023-beach-party-at-club-majestic/
LOCATION:Club Majestic\, 124 N Boston\, Tulsa\, OK\, 74103\, United States
END:VEVENT
BEGIN:VEVENT
DTSTART;TZID=America/Chicago:20221216T213000
DTEND;TZID=America/Chicago:20221216T223000
DTSTAMP:20260423T065002
CREATED:20221215T141947Z
LAST-MODIFIED:20221215T141948Z
UID:48895-1671226200-1671229800@thetulsaartsdistrict.org
SUMMARY:Escandalo at Club Majestic
DESCRIPTION:
URL:https://thetulsaartsdistrict.org/event/escandalo-at-club-majestic-15/
LOCATION:Club Majestic\, 124 N Boston\, Tulsa\, OK\, 74103\, United States
END:VEVENT
BEGIN:VEVENT
DTSTART;TZID=America/Chicago:20221209T213000
DTEND;TZID=America/Chicago:20221209T223000
DTSTAMP:20260423T065002
CREATED:20221204T205032Z
LAST-MODIFIED:20221204T205033Z
UID:48824-1670621400-1670625000@thetulsaartsdistrict.org
SUMMARY:Bad Boys On The Block! at Club Majestic
DESCRIPTION:Featuring Jay Kash\, Haze V. Jade\, and Baylor Luck.  With Londenn D. Raine\, and host Scrappy Legacy. \n\n\n\n Raffle Basket by Haze •N• Blaze Dispensary  (Med card required to win) \n\n\n\nDoors open at 9pm • Showtime 9:30pm • 18 to Enter
URL:https://thetulsaartsdistrict.org/event/bad-boys-on-the-block-at-club-majestic-18/
LOCATION:Club Majestic\, 124 N Boston\, Tulsa\, OK\, 74103\, United States
END:VEVENT
BEGIN:VEVENT
DTSTART;TZID=America/Chicago:20221204T220000
DTEND;TZID=America/Chicago:20221204T233000
DTSTAMP:20260423T065002
CREATED:20221203T013828Z
LAST-MODIFIED:20221203T021147Z
UID:48804-1670191200-1670196600@thetulsaartsdistrict.org
SUMMARY:Mister Oklahoma USofA MI & Oklahoma USofA MI Classic 2023 - Battle of the Boy Bands at Club Majestic
DESCRIPTION:
URL:https://thetulsaartsdistrict.org/event/mister-oklahoma-usofa-mi-oklahoma-usofa-mi-classic-2023-battle-of-the-boy-bands-at-club-majestic/
LOCATION:Club Majestic\, 124 N Boston\, Tulsa\, OK\, 74103\, United States
END:VEVENT
BEGIN:VEVENT
DTSTART;TZID=America/Chicago:20221202T210000
DTEND;TZID=America/Chicago:20221203T013000
DTSTAMP:20260423T065002
CREATED:20210103T161634Z
LAST-MODIFIED:20221223T224648Z
UID:41826-1670014800-1670031000@thetulsaartsdistrict.org
SUMMARY:First Friday Latin Infusion & Bosston's Tea Party & Hoe You Think You Can Dance! Contest at Club Majestic at 12:30 am
DESCRIPTION:
URL:https://thetulsaartsdistrict.org/event/hoe-you-think-you-can-dance-contest-at-club-majestic-at-1230-am-2021-05-07-2021-12-03-2022-12-02/2022-12-02/
LOCATION:Club Majestic\, 124 N Boston\, Tulsa\, OK\, 74103\, United States
END:VEVENT
BEGIN:VEVENT
DTSTART;TZID=America/Chicago:20221125T213000
DTEND;TZID=America/Chicago:20221125T230000
DTSTAMP:20260423T065002
CREATED:20221112T215348Z
LAST-MODIFIED:20221112T215350Z
UID:48107-1669411800-1669417200@thetulsaartsdistrict.org
SUMMARY:Bad Boys On The Block at Club Majestic
DESCRIPTION:
URL:https://thetulsaartsdistrict.org/event/bad-boys-on-the-block-at-club-majestic-17/
LOCATION:Club Majestic\, 124 N Boston\, Tulsa\, OK\, 74103\, United States
END:VEVENT
BEGIN:VEVENT
DTSTART;TZID=America/Chicago:20221120T210000
DTEND;TZID=America/Chicago:20221121T013000
DTSTAMP:20260423T065002
CREATED:20211031T194628Z
LAST-MODIFIED:20221120T145628Z
UID:41950-1668978000-1668994200@thetulsaartsdistrict.org
SUMMARY:The Sunday Showdown! Featuring your host Shanel Sterling\, with Scrappy Legacy and  Londenn D. Raine! at Club Majestic - Doors @ 9 - Showtime @ 11
DESCRIPTION:Drag out your weekend at The Sunday Showdown! \n\n\n\nFeaturing last weeks winner\, D. Composer \n\n\n\nWith Scrappy Legacy\, Londenn D. Raine\, your host Shanel Sterling\, and contestants! \n\n\n\nOpen Talent: Sign up at the door by 10:30pm \n\n\n\nDoors open at 9pm • Showtime 11pm • 18 to Enter
URL:https://thetulsaartsdistrict.org/event/the-sunday-showdown-featuring-your-host-shanel-sterling-londenn-d-raine-at-club-majestic-2-2021-11-28-2022-11-20/
LOCATION:Club Majestic\, 124 N Boston\, Tulsa\, OK\, 74103\, United States
END:VEVENT
BEGIN:VEVENT
DTSTART;TZID=America/Chicago:20221118T210000
DTEND;TZID=America/Chicago:20221118T223000
DTSTAMP:20260423T065002
CREATED:20221112T220034Z
LAST-MODIFIED:20221112T220036Z
UID:48109-1668805200-1668810600@thetulsaartsdistrict.org
SUMMARY:Escándalo at Club Majestic
DESCRIPTION:Showtime 9:30pm • 18+Featuring Kiana Davenport Jade\, Shanel Sterling\, and Kenadie St. James.Hosted by Franchesqua Minaj & King Laylo York
URL:https://thetulsaartsdistrict.org/event/escandalo-at-club-majestic-14/
LOCATION:Club Majestic\, 124 N Boston\, Tulsa\, OK\, 74103\, United States
END:VEVENT
BEGIN:VEVENT
DTSTART;TZID=America/Chicago:20221023T220000
DTEND;TZID=America/Chicago:20221023T230000
DTSTAMP:20260423T065002
CREATED:20221003T222615Z
LAST-MODIFIED:20221020T124915Z
UID:45586-1666562400-1666566000@thetulsaartsdistrict.org
SUMMARY:The Rocky Horrow Picture Show at Club Majestic
DESCRIPTION:
URL:https://thetulsaartsdistrict.org/event/the-rocky-horrow-picture-show-at-club-majestic/2022-10-23/
LOCATION:Club Majestic\, 124 N Boston\, Tulsa\, OK\, 74103\, United States
END:VEVENT
BEGIN:VEVENT
DTSTART;TZID=America/Chicago:20221021T213000
DTEND;TZID=America/Chicago:20221021T223000
DTSTAMP:20260423T065002
CREATED:20221017T113617Z
LAST-MODIFIED:20221017T113735Z
UID:46038-1666387800-1666391400@thetulsaartsdistrict.org
SUMMARY:Escándalo at Club Majestic
DESCRIPTION:Don’t miss EscándaloFeaturing Nicki Savage\, Valentino Minaj\, and Shanel Sterling.With your hosts Franchesqua Minaj\, and King Laylo York.Doors open at 9pm • Showtime 9:30pm • 18 to Enter
URL:https://thetulsaartsdistrict.org/event/escandalo-at-club-majestic-13/
LOCATION:Club Majestic\, 124 N Boston\, Tulsa\, OK\, 74103\, United States
END:VEVENT
BEGIN:VEVENT
DTSTART;TZID=America/Chicago:20221016T220000
DTEND;TZID=America/Chicago:20221017T013000
DTSTAMP:20260423T065002
CREATED:20221012T180951Z
LAST-MODIFIED:20221012T180952Z
UID:45773-1665957600-1665970200@thetulsaartsdistrict.org
SUMMARY:Miss Gay Tulsa America 2022 at Club Majestic
DESCRIPTION:
URL:https://thetulsaartsdistrict.org/event/miss-gay-tulsa-america-2022-at-club-majestic/
LOCATION:Club Majestic\, 124 N Boston\, Tulsa\, OK\, 74103\, United States
END:VEVENT
BEGIN:VEVENT
DTSTART;TZID=America/Chicago:20221014T213000
DTEND;TZID=America/Chicago:20221014T223000
DTSTAMP:20260423T065002
CREATED:20221012T180603Z
LAST-MODIFIED:20221012T180605Z
UID:45769-1665783000-1665786600@thetulsaartsdistrict.org
SUMMARY:Bad Boys On The Block! at Club Majestic
DESCRIPTION:Bad Boys On The Block!  Hosted by Scrappy Legacy \n\n\n\nFeaturing Adam Mitchelle Legacy\, Londenn D. Raine\, special guests\, D’Angelo\, Vincent Van Rose\, \n\n\n\nand LL killjoy.
URL:https://thetulsaartsdistrict.org/event/bad-boys-on-the-block-at-club-majestic-16/
LOCATION:Club Majestic\, 124 N Boston\, Tulsa\, OK\, 74103\, United States
END:VEVENT
BEGIN:VEVENT
DTSTART;TZID=America/Chicago:20220918T220000
DTEND;TZID=America/Chicago:20220918T230000
DTSTAMP:20260423T065002
CREATED:20220917T125614Z
LAST-MODIFIED:20220917T125738Z
UID:45093-1663538400-1663542000@thetulsaartsdistrict.org
SUMMARY:Mr. & Miss Oklahoma Bold & Beautiful 2022 at Club Majestic
DESCRIPTION:
URL:https://thetulsaartsdistrict.org/event/mr-miss-oklahoma-bold-beautiful-2022-at-club-majestic/
LOCATION:Club Majestic\, 124 N Boston\, Tulsa\, OK\, 74103\, United States
END:VEVENT
BEGIN:VEVENT
DTSTART;TZID=America/Chicago:20220916T210000
DTEND;TZID=America/Chicago:20220917T013000
DTSTAMP:20260423T065002
CREATED:20211222T204122Z
LAST-MODIFIED:20220915T234639Z
UID:41836-1663362000-1663378200@thetulsaartsdistrict.org
SUMMARY:Escándalo kicks off at 9:30pm  - Hoe You Think You Can Dance! Contest at Club Majestic at 12:30 am
DESCRIPTION:
URL:https://thetulsaartsdistrict.org/event/hoe-you-think-you-can-dance-contest-at-club-majestic-at-1230-am-2-2022-09-16/
LOCATION:Club Majestic\, 124 N Boston\, Tulsa\, OK\, 74103\, United States
END:VEVENT
BEGIN:VEVENT
DTSTART;TZID=America/Chicago:20220902T210000
DTEND;TZID=America/Chicago:20220903T013000
DTSTAMP:20260423T065002
CREATED:20210103T161634Z
LAST-MODIFIED:20220902T200302Z
UID:41823-1662152400-1662168600@thetulsaartsdistrict.org
SUMMARY:First Friday Latin Infusion & Bosston's Tea Party at 9:30 & Hoe You Think You Can Dance! Contest at Club Majestic at 12:30 am
DESCRIPTION:
URL:https://thetulsaartsdistrict.org/event/hoe-you-think-you-can-dance-contest-at-club-majestic-at-1230-am-2021-05-07-2021-12-03-2022-09-02/
LOCATION:Club Majestic\, 124 N Boston\, Tulsa\, OK\, 74103\, United States
END:VEVENT
END:VCALENDAR