BEGIN:VCALENDAR
VERSION:2.0
PRODID:-//Tulsa Arts District - ECPv6.15.20//NONSGML v1.0//EN
CALSCALE:GREGORIAN
METHOD:PUBLISH
X-ORIGINAL-URL:https://thetulsaartsdistrict.org
X-WR-CALDESC:Events for Tulsa Arts District
REFRESH-INTERVAL;VALUE=DURATION:PT1H
X-Robots-Tag:noindex
X-PUBLISHED-TTL:PT1H
BEGIN:VTIMEZONE
TZID:America/Chicago
BEGIN:DAYLIGHT
TZOFFSETFROM:-0600
TZOFFSETTO:-0500
TZNAME:CDT
DTSTART:20240310T080000
END:DAYLIGHT
BEGIN:STANDARD
TZOFFSETFROM:-0500
TZOFFSETTO:-0600
TZNAME:CST
DTSTART:20241103T070000
END:STANDARD
BEGIN:DAYLIGHT
TZOFFSETFROM:-0600
TZOFFSETTO:-0500
TZNAME:CDT
DTSTART:20250309T080000
END:DAYLIGHT
BEGIN:STANDARD
TZOFFSETFROM:-0500
TZOFFSETTO:-0600
TZNAME:CST
DTSTART:20251102T070000
END:STANDARD
BEGIN:DAYLIGHT
TZOFFSETFROM:-0600
TZOFFSETTO:-0500
TZNAME:CDT
DTSTART:20260308T080000
END:DAYLIGHT
BEGIN:STANDARD
TZOFFSETFROM:-0500
TZOFFSETTO:-0600
TZNAME:CST
DTSTART:20261101T070000
END:STANDARD
END:VTIMEZONE
BEGIN:VEVENT
DTSTART;TZID=America/Chicago:20250710T110000
DTEND;TZID=America/Chicago:20250710T140000
DTSTAMP:20260421T065408
CREATED:20250621T162437Z
LAST-MODIFIED:20250621T162437Z
UID:93806-1752145200-1752156000@thetulsaartsdistrict.org
SUMMARY:Lunch Specials at Elgin Park
DESCRIPTION:
URL:https://thetulsaartsdistrict.org/event/lunch-specials-at-elgin-park-2/2025-07-10/
LOCATION:Elgin Park Brewery\, 325 E Reconciliation Way\, Tulsa\, OK\, 74103\, United States
END:VEVENT
BEGIN:VEVENT
DTSTART;TZID=America/Chicago:20250709T170000
DTEND;TZID=America/Chicago:20250709T210000
DTSTAMP:20260421T065408
CREATED:20250621T163955Z
LAST-MODIFIED:20250621T163955Z
UID:93956-1752080400-1752094800@thetulsaartsdistrict.org
SUMMARY:Wing Wednesday – Half Price Traditional Wings at Elgin Park
DESCRIPTION:
URL:https://thetulsaartsdistrict.org/event/wing-wednesday-half-price-traditional-wings-at-elgin-park/2025-07-09/
LOCATION:Elgin Park Brewery\, 325 E Reconciliation Way\, Tulsa\, OK\, 74103\, United States
END:VEVENT
BEGIN:VEVENT
DTSTART;TZID=America/Chicago:20250709T110000
DTEND;TZID=America/Chicago:20250709T140000
DTSTAMP:20260421T065408
CREATED:20250621T162437Z
LAST-MODIFIED:20250621T162437Z
UID:93805-1752058800-1752069600@thetulsaartsdistrict.org
SUMMARY:Lunch Specials at Elgin Park
DESCRIPTION:
URL:https://thetulsaartsdistrict.org/event/lunch-specials-at-elgin-park-2/2025-07-09/
LOCATION:Elgin Park Brewery\, 325 E Reconciliation Way\, Tulsa\, OK\, 74103\, United States
END:VEVENT
BEGIN:VEVENT
DTSTART;TZID=America/Chicago:20250708T110000
DTEND;TZID=America/Chicago:20250708T140000
DTSTAMP:20260421T065408
CREATED:20250621T162437Z
LAST-MODIFIED:20250621T162437Z
UID:93804-1751972400-1751983200@thetulsaartsdistrict.org
SUMMARY:Lunch Specials at Elgin Park
DESCRIPTION:
URL:https://thetulsaartsdistrict.org/event/lunch-specials-at-elgin-park-2/2025-07-08/
LOCATION:Elgin Park Brewery\, 325 E Reconciliation Way\, Tulsa\, OK\, 74103\, United States
END:VEVENT
BEGIN:VEVENT
DTSTART;TZID=America/Chicago:20250707T110000
DTEND;TZID=America/Chicago:20250707T140000
DTSTAMP:20260421T065408
CREATED:20250621T162437Z
LAST-MODIFIED:20250621T162437Z
UID:93803-1751886000-1751896800@thetulsaartsdistrict.org
SUMMARY:Lunch Specials at Elgin Park
DESCRIPTION:
URL:https://thetulsaartsdistrict.org/event/lunch-specials-at-elgin-park-2/2025-07-07/
LOCATION:Elgin Park Brewery\, 325 E Reconciliation Way\, Tulsa\, OK\, 74103\, United States
END:VEVENT
BEGIN:VEVENT
DTSTART;TZID=America/Chicago:20250704T110000
DTEND;TZID=America/Chicago:20250704T140000
DTSTAMP:20260421T065408
CREATED:20250621T162437Z
LAST-MODIFIED:20250621T162437Z
UID:93802-1751626800-1751637600@thetulsaartsdistrict.org
SUMMARY:Lunch Specials at Elgin Park
DESCRIPTION:
URL:https://thetulsaartsdistrict.org/event/lunch-specials-at-elgin-park-2/2025-07-04/
LOCATION:Elgin Park Brewery\, 325 E Reconciliation Way\, Tulsa\, OK\, 74103\, United States
END:VEVENT
BEGIN:VEVENT
DTSTART;TZID=America/Chicago:20250703T160000
DTEND;TZID=America/Chicago:20250703T230000
DTSTAMP:20260421T065408
CREATED:20250621T163040Z
LAST-MODIFIED:20250621T163043Z
UID:93927-1751558400-1751583600@thetulsaartsdistrict.org
SUMMARY:Thirsty Thursdays at Elgin Park – $3.50 house brewed beer
DESCRIPTION:
URL:https://thetulsaartsdistrict.org/event/thirsty-thursdays-at-elgin-park-3-50-house-brewed-beer-2/2025-07-03/
LOCATION:Elgin Park Brewery\, 325 E Reconciliation Way\, Tulsa\, OK\, 74103\, United States
END:VEVENT
BEGIN:VEVENT
DTSTART;TZID=America/Chicago:20250703T110000
DTEND;TZID=America/Chicago:20250703T140000
DTSTAMP:20260421T065408
CREATED:20250621T162437Z
LAST-MODIFIED:20250621T162437Z
UID:93801-1751540400-1751551200@thetulsaartsdistrict.org
SUMMARY:Lunch Specials at Elgin Park
DESCRIPTION:
URL:https://thetulsaartsdistrict.org/event/lunch-specials-at-elgin-park-2/2025-07-03/
LOCATION:Elgin Park Brewery\, 325 E Reconciliation Way\, Tulsa\, OK\, 74103\, United States
END:VEVENT
BEGIN:VEVENT
DTSTART;TZID=America/Chicago:20250702T170000
DTEND;TZID=America/Chicago:20250702T210000
DTSTAMP:20260421T065408
CREATED:20250621T163955Z
LAST-MODIFIED:20250621T163958Z
UID:93953-1751475600-1751490000@thetulsaartsdistrict.org
SUMMARY:Wing Wednesday – Half Price Traditional Wings at Elgin Park
DESCRIPTION:
URL:https://thetulsaartsdistrict.org/event/wing-wednesday-half-price-traditional-wings-at-elgin-park/2025-07-02/
LOCATION:Elgin Park Brewery\, 325 E Reconciliation Way\, Tulsa\, OK\, 74103\, United States
END:VEVENT
BEGIN:VEVENT
DTSTART;TZID=America/Chicago:20250702T110000
DTEND;TZID=America/Chicago:20250702T140000
DTSTAMP:20260421T065408
CREATED:20250621T162437Z
LAST-MODIFIED:20250621T162437Z
UID:93800-1751454000-1751464800@thetulsaartsdistrict.org
SUMMARY:Lunch Specials at Elgin Park
DESCRIPTION:
URL:https://thetulsaartsdistrict.org/event/lunch-specials-at-elgin-park-2/2025-07-02/
LOCATION:Elgin Park Brewery\, 325 E Reconciliation Way\, Tulsa\, OK\, 74103\, United States
END:VEVENT
BEGIN:VEVENT
DTSTART;TZID=America/Chicago:20250701T110000
DTEND;TZID=America/Chicago:20250701T140000
DTSTAMP:20260421T065408
CREATED:20250621T162437Z
LAST-MODIFIED:20250621T162440Z
UID:93797-1751367600-1751378400@thetulsaartsdistrict.org
SUMMARY:Lunch Specials at Elgin Park
DESCRIPTION:
URL:https://thetulsaartsdistrict.org/event/lunch-specials-at-elgin-park-2/2025-07-01/
LOCATION:Elgin Park Brewery\, 325 E Reconciliation Way\, Tulsa\, OK\, 74103\, United States
END:VEVENT
BEGIN:VEVENT
DTSTART;TZID=America/Chicago:20250630T110000
DTEND;TZID=America/Chicago:20250630T140000
DTSTAMP:20260421T065408
CREATED:20211201T150514Z
LAST-MODIFIED:20211201T150514Z
UID:86256-1751281200-1751292000@thetulsaartsdistrict.org
SUMMARY:Lunch Specials at Elgin Park
DESCRIPTION:
URL:https://thetulsaartsdistrict.org/event/lunch-specials-at-elgin-park-2023-06-30-2024-12-27/2025-06-30/
LOCATION:Elgin Park Brewery\, 325 E Reconciliation Way\, Tulsa\, OK\, 74103\, United States
END:VEVENT
BEGIN:VEVENT
DTSTART;TZID=America/Chicago:20250627T110000
DTEND;TZID=America/Chicago:20250627T140000
DTSTAMP:20260421T065408
CREATED:20211201T150514Z
LAST-MODIFIED:20211201T150514Z
UID:86255-1751022000-1751032800@thetulsaartsdistrict.org
SUMMARY:Lunch Specials at Elgin Park
DESCRIPTION:
URL:https://thetulsaartsdistrict.org/event/lunch-specials-at-elgin-park-2023-06-30-2024-12-27/2025-06-27/
LOCATION:Elgin Park Brewery\, 325 E Reconciliation Way\, Tulsa\, OK\, 74103\, United States
END:VEVENT
BEGIN:VEVENT
DTSTART;TZID=America/Chicago:20250626T160000
DTEND;TZID=America/Chicago:20250626T230000
DTSTAMP:20260421T065408
CREATED:20241229T175425Z
LAST-MODIFIED:20241229T175425Z
UID:85201-1750953600-1750978800@thetulsaartsdistrict.org
SUMMARY:Thirsty Thursdays at Elgin Park - $3.50 house brewed beer
DESCRIPTION:
URL:https://thetulsaartsdistrict.org/event/thirsty-thursdays-at-elgin-park-3-50-house-brewed-beer/2025-06-26/
LOCATION:Elgin Park Brewery\, 325 E Reconciliation Way\, Tulsa\, OK\, 74103\, United States
END:VEVENT
BEGIN:VEVENT
DTSTART;TZID=America/Chicago:20250626T110000
DTEND;TZID=America/Chicago:20250626T140000
DTSTAMP:20260421T065408
CREATED:20211201T150514Z
LAST-MODIFIED:20211201T150514Z
UID:86254-1750935600-1750946400@thetulsaartsdistrict.org
SUMMARY:Lunch Specials at Elgin Park
DESCRIPTION:
URL:https://thetulsaartsdistrict.org/event/lunch-specials-at-elgin-park-2023-06-30-2024-12-27/2025-06-26/
LOCATION:Elgin Park Brewery\, 325 E Reconciliation Way\, Tulsa\, OK\, 74103\, United States
END:VEVENT
BEGIN:VEVENT
DTSTART;TZID=America/Chicago:20250625T170000
DTEND;TZID=America/Chicago:20250625T210000
DTSTAMP:20260421T065408
CREATED:20230118T155950Z
LAST-MODIFIED:20230118T155950Z
UID:85831-1750870800-1750885200@thetulsaartsdistrict.org
SUMMARY:Wing Wednesday - Half Price Traditional Wings at Elgin Park
DESCRIPTION:
URL:https://thetulsaartsdistrict.org/event/half-price-wings-at-elgin-park-2024-05-29-2024-12-18/2025-06-25/
LOCATION:Elgin Park Brewery\, 325 E Reconciliation Way\, Tulsa\, OK\, 74103\, United States
END:VEVENT
BEGIN:VEVENT
DTSTART;TZID=America/Chicago:20250625T110000
DTEND;TZID=America/Chicago:20250625T140000
DTSTAMP:20260421T065408
CREATED:20211201T150514Z
LAST-MODIFIED:20211201T150514Z
UID:86253-1750849200-1750860000@thetulsaartsdistrict.org
SUMMARY:Lunch Specials at Elgin Park
DESCRIPTION:
URL:https://thetulsaartsdistrict.org/event/lunch-specials-at-elgin-park-2023-06-30-2024-12-27/2025-06-25/
LOCATION:Elgin Park Brewery\, 325 E Reconciliation Way\, Tulsa\, OK\, 74103\, United States
END:VEVENT
BEGIN:VEVENT
DTSTART;TZID=America/Chicago:20250624T110000
DTEND;TZID=America/Chicago:20250624T140000
DTSTAMP:20260421T065408
CREATED:20211201T150514Z
LAST-MODIFIED:20211201T150514Z
UID:86252-1750762800-1750773600@thetulsaartsdistrict.org
SUMMARY:Lunch Specials at Elgin Park
DESCRIPTION:
URL:https://thetulsaartsdistrict.org/event/lunch-specials-at-elgin-park-2023-06-30-2024-12-27/2025-06-24/
LOCATION:Elgin Park Brewery\, 325 E Reconciliation Way\, Tulsa\, OK\, 74103\, United States
END:VEVENT
BEGIN:VEVENT
DTSTART;TZID=America/Chicago:20250623T110000
DTEND;TZID=America/Chicago:20250623T140000
DTSTAMP:20260421T065408
CREATED:20211201T150514Z
LAST-MODIFIED:20211201T150514Z
UID:86251-1750676400-1750687200@thetulsaartsdistrict.org
SUMMARY:Lunch Specials at Elgin Park
DESCRIPTION:
URL:https://thetulsaartsdistrict.org/event/lunch-specials-at-elgin-park-2023-06-30-2024-12-27/2025-06-23/
LOCATION:Elgin Park Brewery\, 325 E Reconciliation Way\, Tulsa\, OK\, 74103\, United States
END:VEVENT
BEGIN:VEVENT
DTSTART;TZID=America/Chicago:20250622T180000
DTEND;TZID=America/Chicago:20250622T210000
DTSTAMP:20260421T065408
CREATED:20250622T122430Z
LAST-MODIFIED:20250622T122433Z
UID:94641-1750615200-1750626000@thetulsaartsdistrict.org
SUMMARY:NBA Championship Game 7 Watch Party at Elgin Park - Tip-off at 7 pm
DESCRIPTION:
URL:https://thetulsaartsdistrict.org/event/nba-championship-game-7-watch-party-at-elgin-park-tip-off-at-7-pm/
LOCATION:Elgin Park Brewery\, 325 E Reconciliation Way\, Tulsa\, OK\, 74103\, United States
END:VEVENT
BEGIN:VEVENT
DTSTART;TZID=America/Chicago:20250620T110000
DTEND;TZID=America/Chicago:20250620T140000
DTSTAMP:20260421T065408
CREATED:20211201T150514Z
LAST-MODIFIED:20211201T150514Z
UID:86250-1750417200-1750428000@thetulsaartsdistrict.org
SUMMARY:Lunch Specials at Elgin Park
DESCRIPTION:
URL:https://thetulsaartsdistrict.org/event/lunch-specials-at-elgin-park-2023-06-30-2024-12-27/2025-06-20/
LOCATION:Elgin Park Brewery\, 325 E Reconciliation Way\, Tulsa\, OK\, 74103\, United States
END:VEVENT
BEGIN:VEVENT
DTSTART;TZID=America/Chicago:20250619T160000
DTEND;TZID=America/Chicago:20250619T230000
DTSTAMP:20260421T065408
CREATED:20241229T175425Z
LAST-MODIFIED:20241229T175425Z
UID:85200-1750348800-1750374000@thetulsaartsdistrict.org
SUMMARY:Thirsty Thursdays at Elgin Park - $3.50 house brewed beer
DESCRIPTION:
URL:https://thetulsaartsdistrict.org/event/thirsty-thursdays-at-elgin-park-3-50-house-brewed-beer/2025-06-19/
LOCATION:Elgin Park Brewery\, 325 E Reconciliation Way\, Tulsa\, OK\, 74103\, United States
END:VEVENT
BEGIN:VEVENT
DTSTART;TZID=America/Chicago:20250619T110000
DTEND;TZID=America/Chicago:20250619T140000
DTSTAMP:20260421T065408
CREATED:20211201T150514Z
LAST-MODIFIED:20211201T150514Z
UID:86249-1750330800-1750341600@thetulsaartsdistrict.org
SUMMARY:Lunch Specials at Elgin Park
DESCRIPTION:
URL:https://thetulsaartsdistrict.org/event/lunch-specials-at-elgin-park-2023-06-30-2024-12-27/2025-06-19/
LOCATION:Elgin Park Brewery\, 325 E Reconciliation Way\, Tulsa\, OK\, 74103\, United States
END:VEVENT
BEGIN:VEVENT
DTSTART;TZID=America/Chicago:20250618T170000
DTEND;TZID=America/Chicago:20250618T210000
DTSTAMP:20260421T065408
CREATED:20230118T155950Z
LAST-MODIFIED:20230118T155950Z
UID:85830-1750266000-1750280400@thetulsaartsdistrict.org
SUMMARY:Wing Wednesday - Half Price Traditional Wings at Elgin Park
DESCRIPTION:
URL:https://thetulsaartsdistrict.org/event/half-price-wings-at-elgin-park-2024-05-29-2024-12-18/2025-06-18/
LOCATION:Elgin Park Brewery\, 325 E Reconciliation Way\, Tulsa\, OK\, 74103\, United States
END:VEVENT
BEGIN:VEVENT
DTSTART;TZID=America/Chicago:20250618T110000
DTEND;TZID=America/Chicago:20250618T140000
DTSTAMP:20260421T065408
CREATED:20211201T150514Z
LAST-MODIFIED:20211201T150514Z
UID:86248-1750244400-1750255200@thetulsaartsdistrict.org
SUMMARY:Lunch Specials at Elgin Park
DESCRIPTION:
URL:https://thetulsaartsdistrict.org/event/lunch-specials-at-elgin-park-2023-06-30-2024-12-27/2025-06-18/
LOCATION:Elgin Park Brewery\, 325 E Reconciliation Way\, Tulsa\, OK\, 74103\, United States
END:VEVENT
BEGIN:VEVENT
DTSTART;TZID=America/Chicago:20250617T110000
DTEND;TZID=America/Chicago:20250617T140000
DTSTAMP:20260421T065408
CREATED:20211201T150514Z
LAST-MODIFIED:20211201T150514Z
UID:86247-1750158000-1750168800@thetulsaartsdistrict.org
SUMMARY:Lunch Specials at Elgin Park
DESCRIPTION:
URL:https://thetulsaartsdistrict.org/event/lunch-specials-at-elgin-park-2023-06-30-2024-12-27/2025-06-17/
LOCATION:Elgin Park Brewery\, 325 E Reconciliation Way\, Tulsa\, OK\, 74103\, United States
END:VEVENT
BEGIN:VEVENT
DTSTART;TZID=America/Chicago:20250616T110000
DTEND;TZID=America/Chicago:20250616T140000
DTSTAMP:20260421T065408
CREATED:20211201T150514Z
LAST-MODIFIED:20211201T150514Z
UID:86246-1750071600-1750082400@thetulsaartsdistrict.org
SUMMARY:Lunch Specials at Elgin Park
DESCRIPTION:
URL:https://thetulsaartsdistrict.org/event/lunch-specials-at-elgin-park-2023-06-30-2024-12-27/2025-06-16/
LOCATION:Elgin Park Brewery\, 325 E Reconciliation Way\, Tulsa\, OK\, 74103\, United States
END:VEVENT
BEGIN:VEVENT
DTSTART;TZID=America/Chicago:20250613T110000
DTEND;TZID=America/Chicago:20250613T140000
DTSTAMP:20260421T065408
CREATED:20211201T150514Z
LAST-MODIFIED:20211201T150514Z
UID:86245-1749812400-1749823200@thetulsaartsdistrict.org
SUMMARY:Lunch Specials at Elgin Park
DESCRIPTION:
URL:https://thetulsaartsdistrict.org/event/lunch-specials-at-elgin-park-2023-06-30-2024-12-27/2025-06-13/
LOCATION:Elgin Park Brewery\, 325 E Reconciliation Way\, Tulsa\, OK\, 74103\, United States
END:VEVENT
BEGIN:VEVENT
DTSTART;TZID=America/Chicago:20250612T160000
DTEND;TZID=America/Chicago:20250612T230000
DTSTAMP:20260421T065408
CREATED:20241229T175425Z
LAST-MODIFIED:20241229T175425Z
UID:85199-1749744000-1749769200@thetulsaartsdistrict.org
SUMMARY:Thirsty Thursdays at Elgin Park - $3.50 house brewed beer
DESCRIPTION:
URL:https://thetulsaartsdistrict.org/event/thirsty-thursdays-at-elgin-park-3-50-house-brewed-beer/2025-06-12/
LOCATION:Elgin Park Brewery\, 325 E Reconciliation Way\, Tulsa\, OK\, 74103\, United States
END:VEVENT
BEGIN:VEVENT
DTSTART;TZID=America/Chicago:20250612T110000
DTEND;TZID=America/Chicago:20250612T140000
DTSTAMP:20260421T065408
CREATED:20211201T150514Z
LAST-MODIFIED:20211201T150514Z
UID:86244-1749726000-1749736800@thetulsaartsdistrict.org
SUMMARY:Lunch Specials at Elgin Park
DESCRIPTION:
URL:https://thetulsaartsdistrict.org/event/lunch-specials-at-elgin-park-2023-06-30-2024-12-27/2025-06-12/
LOCATION:Elgin Park Brewery\, 325 E Reconciliation Way\, Tulsa\, OK\, 74103\, United States
END:VEVENT
END:VCALENDAR