BEGIN:VCALENDAR
VERSION:2.0
PRODID:-//Tulsa Arts District - ECPv6.15.20//NONSGML v1.0//EN
CALSCALE:GREGORIAN
METHOD:PUBLISH
X-WR-CALNAME:Tulsa Arts District
X-ORIGINAL-URL:https://thetulsaartsdistrict.org
X-WR-CALDESC:Events for Tulsa Arts District
REFRESH-INTERVAL;VALUE=DURATION:PT1H
X-Robots-Tag:noindex
X-PUBLISHED-TTL:PT1H
BEGIN:VTIMEZONE
TZID:America/Chicago
BEGIN:DAYLIGHT
TZOFFSETFROM:-0600
TZOFFSETTO:-0500
TZNAME:CDT
DTSTART:20180311T080000
END:DAYLIGHT
BEGIN:STANDARD
TZOFFSETFROM:-0500
TZOFFSETTO:-0600
TZNAME:CST
DTSTART:20181104T070000
END:STANDARD
BEGIN:DAYLIGHT
TZOFFSETFROM:-0600
TZOFFSETTO:-0500
TZNAME:CDT
DTSTART:20190310T080000
END:DAYLIGHT
BEGIN:STANDARD
TZOFFSETFROM:-0500
TZOFFSETTO:-0600
TZNAME:CST
DTSTART:20191103T070000
END:STANDARD
BEGIN:DAYLIGHT
TZOFFSETFROM:-0600
TZOFFSETTO:-0500
TZNAME:CDT
DTSTART:20200308T080000
END:DAYLIGHT
BEGIN:STANDARD
TZOFFSETFROM:-0500
TZOFFSETTO:-0600
TZNAME:CST
DTSTART:20201101T070000
END:STANDARD
BEGIN:DAYLIGHT
TZOFFSETFROM:-0600
TZOFFSETTO:-0500
TZNAME:CDT
DTSTART:20210314T080000
END:DAYLIGHT
BEGIN:STANDARD
TZOFFSETFROM:-0500
TZOFFSETTO:-0600
TZNAME:CST
DTSTART:20211107T070000
END:STANDARD
BEGIN:DAYLIGHT
TZOFFSETFROM:-0600
TZOFFSETTO:-0500
TZNAME:CDT
DTSTART:20220313T080000
END:DAYLIGHT
BEGIN:STANDARD
TZOFFSETFROM:-0500
TZOFFSETTO:-0600
TZNAME:CST
DTSTART:20221106T070000
END:STANDARD
END:VTIMEZONE
BEGIN:VEVENT
DTSTART;TZID=America/Chicago:20210904T110000
DTEND;TZID=America/Chicago:20210904T133000
DTSTAMP:20260419T071532
CREATED:20210901T214251Z
LAST-MODIFIED:20210901T214253Z
UID:28600-1630753200-1630762200@thetulsaartsdistrict.org
SUMMARY:College Football OU vs Tulane on the big screens at Elgin Park
DESCRIPTION:
URL:https://thetulsaartsdistrict.org/event/college-football-ou-vs-tulane-on-the-big-screens-at-elgin-park/
LOCATION:Elgin Park Brewery\, 325 E Reconciliation Way\, Tulsa\, OK\, 74103\, United States
END:VEVENT
BEGIN:VEVENT
DTSTART;TZID=America/Chicago:20210902T183000
DTEND;TZID=America/Chicago:20210902T203000
DTSTAMP:20260419T071532
CREATED:20210901T214122Z
LAST-MODIFIED:20210901T214123Z
UID:28597-1630607400-1630614600@thetulsaartsdistrict.org
SUMMARY:College Football Tulsa vs UC Davis on the big screens at Elgin Park
DESCRIPTION:
URL:https://thetulsaartsdistrict.org/event/college-football-tulsa-vs-uc-davis-on-the-big-screens-at-elgin-park/
LOCATION:Elgin Park Brewery\, 325 E Reconciliation Way\, Tulsa\, OK\, 74103\, United States
END:VEVENT
BEGIN:VEVENT
DTSTART;TZID=America/Chicago:20210805T160000
DTEND;TZID=America/Chicago:20210805T230000
DTSTAMP:20260419T071532
CREATED:20210805T210111Z
LAST-MODIFIED:20221231T211536Z
UID:28091-1628179200-1628204400@thetulsaartsdistrict.org
SUMMARY:Thirsty Thursday - $3 drafts at Elgin Park
DESCRIPTION:
URL:https://thetulsaartsdistrict.org/event/thirsty-thursday-at-elgin-park-2/2021-08-05/
LOCATION:Elgin Park Brewery\, 325 E Reconciliation Way\, Tulsa\, OK\, 74103\, United States
END:VEVENT
BEGIN:VEVENT
DTSTART;TZID=America/Chicago:20210123T190000
DTEND;TZID=America/Chicago:20210124T020000
DTSTAMP:20260419T071532
CREATED:20210121T194825Z
LAST-MODIFIED:20210121T194826Z
UID:20716-1611428400-1611453600@thetulsaartsdistrict.org
SUMMARY:UFC 257: McGregor vs Poirier Watch Party at Elgin Park
DESCRIPTION:
URL:https://thetulsaartsdistrict.org/event/ufc-257-mcgregor-vs-poirier-watch-party-at-elgin-park/
LOCATION:Elgin Park Brewery\, 325 E Reconciliation Way\, Tulsa\, OK\, 74103\, United States
END:VEVENT
BEGIN:VEVENT
DTSTART;TZID=America/Chicago:20210114T160000
DTEND;TZID=America/Chicago:20210114T210000
DTSTAMP:20260419T071532
CREATED:20260309T221036Z
LAST-MODIFIED:20260309T221036Z
UID:113566-1610640000-1610658000@thetulsaartsdistrict.org
SUMMARY:$2 Happy Hour Beers at Elgin Park
DESCRIPTION:
URL:https://thetulsaartsdistrict.org/event/2-happy-hour-beers-at-elgin-park/2021-01-14/
LOCATION:Elgin Park Brewery\, 325 E Reconciliation Way\, Tulsa\, OK\, 74103\, United States
END:VEVENT
BEGIN:VEVENT
DTSTART;TZID=America/Chicago:20210114T160000
DTEND;TZID=America/Chicago:20210114T210000
DTSTAMP:20260419T071532
CREATED:20260223T030350Z
LAST-MODIFIED:20260223T030350Z
UID:107772-1610640000-1610658000@thetulsaartsdistrict.org
SUMMARY:$2 Happy Hour Beers at Elgin Park
DESCRIPTION:
URL:https://thetulsaartsdistrict.org/event/2-happy-hour-beers-at-elgin-park/2021-01-14/
LOCATION:Elgin Park Brewery\, 325 E Reconciliation Way\, Tulsa\, OK\, 74103\, United States
END:VEVENT
BEGIN:VEVENT
DTSTART;TZID=America/Chicago:20210113T170000
DTEND;TZID=America/Chicago:20210113T210000
DTSTAMP:20260419T071532
CREATED:20210110T173744Z
LAST-MODIFIED:20211031T195223Z
UID:20397-1610557200-1610571600@thetulsaartsdistrict.org
SUMMARY:$10 small pizzas with $10 pitchers at Elgin Park
DESCRIPTION:
URL:https://thetulsaartsdistrict.org/event/10-small-pizzas-with-10-pitchers-at-elgin-park/2021-01-13/
LOCATION:Elgin Park Brewery\, 325 E Reconciliation Way\, Tulsa\, OK\, 74103\, United States
END:VEVENT
BEGIN:VEVENT
DTSTART;TZID=America/Chicago:20210111T160000
DTEND;TZID=America/Chicago:20210111T180000
DTSTAMP:20260419T071532
CREATED:20210110T173529Z
LAST-MODIFIED:20210930T193927Z
UID:20334-1610380800-1610388000@thetulsaartsdistrict.org
SUMMARY:$2 Happy Hour Beers at Elgin Park
DESCRIPTION:
URL:https://thetulsaartsdistrict.org/event/2-happy-hour-beers-at-elgin-park/2021-01-11/
LOCATION:Elgin Park Brewery\, 325 E Reconciliation Way\, Tulsa\, OK\, 74103\, United States
END:VEVENT
BEGIN:VEVENT
DTSTART;TZID=America/Chicago:20210107T160000
DTEND;TZID=America/Chicago:20210107T210000
DTSTAMP:20260419T071532
CREATED:20210107T201255Z
LAST-MODIFIED:20210107T201258Z
UID:20142-1610035200-1610053200@thetulsaartsdistrict.org
SUMMARY:Thirsty Thursday at Elgin Park
DESCRIPTION:
URL:https://thetulsaartsdistrict.org/event/thirsty-thursday-at-elgin-park/2021-01-07/
LOCATION:Elgin Park Brewery\, 325 E Reconciliation Way\, Tulsa\, OK\, 74103\, United States
END:VEVENT
BEGIN:VEVENT
DTSTART;TZID=America/Chicago:20201030T200000
DTEND;TZID=America/Chicago:20201030T220000
DTSTAMP:20260419T071532
CREATED:20201029T222520Z
LAST-MODIFIED:20201029T222522Z
UID:18667-1604088000-1604095200@thetulsaartsdistrict.org
SUMMARY:College Game Day at Elgin Park
DESCRIPTION:
URL:https://thetulsaartsdistrict.org/event/college-game-day-at-elgin-park/2020-10-30/
LOCATION:Elgin Park Brewery\, 325 E Reconciliation Way\, Tulsa\, OK\, 74103\, United States
END:VEVENT
BEGIN:VEVENT
DTSTART;TZID=America/Chicago:20201030T110000
DTEND;TZID=America/Chicago:20201030T150000
DTSTAMP:20260419T071532
CREATED:20201015T201912Z
LAST-MODIFIED:20201015T201913Z
UID:18483-1604055600-1604070000@thetulsaartsdistrict.org
SUMMARY:TYPROS Early Voting Block Party at Elgin Park
DESCRIPTION:Elgin Park
URL:https://thetulsaartsdistrict.org/event/typros-early-voting-block-party-at-elgin-park/
LOCATION:Elgin Park Brewery\, 325 E Reconciliation Way\, Tulsa\, OK\, 74103\, United States
END:VEVENT
BEGIN:VEVENT
DTSTART;TZID=America/Chicago:20200202T110000
DTEND;TZID=America/Chicago:20200202T163000
DTSTAMP:20260419T071532
CREATED:20200112T141938Z
LAST-MODIFIED:20200112T141938Z
UID:14348-1580641200-1580661000@thetulsaartsdistrict.org
SUMMARY:Hasty Bake Bowl at Elgin Park
DESCRIPTION:
URL:https://thetulsaartsdistrict.org/event/hasty-bake-bowl-at-elgin-park/
LOCATION:Elgin Park Brewery\, 325 E Reconciliation Way\, Tulsa\, OK\, 74103\, United States
END:VEVENT
BEGIN:VEVENT
DTSTART;TZID=America/Chicago:20200118T170000
DTEND;TZID=America/Chicago:20200118T230000
DTSTAMP:20260419T071532
CREATED:20200113T141053Z
LAST-MODIFIED:20200113T141054Z
UID:14396-1579366800-1579388400@thetulsaartsdistrict.org
SUMMARY:UFC 246: McGregor vs. Cowboy Watch Party at Elgin Park
DESCRIPTION:
URL:https://thetulsaartsdistrict.org/event/ufc-246-mcgregor-vs-cowboy-watch-party-at-elgin-park/
LOCATION:Elgin Park Brewery\, 325 E Reconciliation Way\, Tulsa\, OK\, 74103\, United States
END:VEVENT
BEGIN:VEVENT
DTSTART;TZID=America/Chicago:20200113T190000
DTEND;TZID=America/Chicago:20200113T230000
DTSTAMP:20260419T071532
CREATED:20200109T195414Z
LAST-MODIFIED:20200109T195415Z
UID:14003-1578942000-1578956400@thetulsaartsdistrict.org
SUMMARY:College Football National Championship Watch Party at Elgin Park
DESCRIPTION:
URL:https://thetulsaartsdistrict.org/event/college-football-national-championship-watch-party-at-elgin-park/
LOCATION:Elgin Park Brewery\, 325 E Reconciliation Way\, Tulsa\, OK\, 74103\, United States
END:VEVENT
BEGIN:VEVENT
DTSTART;TZID=America/Chicago:20200108T170000
DTEND;TZID=America/Chicago:20200108T220000
DTSTAMP:20260419T071532
CREATED:20190603T202324Z
LAST-MODIFIED:20191229T144437Z
UID:5311-1578502800-1578520800@thetulsaartsdistrict.org
SUMMARY:Wingsday! at Elgin Park
DESCRIPTION:
URL:https://thetulsaartsdistrict.org/event/wingsday-2019-11-06/2020-01-08/
LOCATION:Elgin Park Brewery\, 325 E Reconciliation Way\, Tulsa\, OK\, 74103\, United States
END:VEVENT
BEGIN:VEVENT
DTSTART;TZID=America/Chicago:20191207T110000
DTEND;TZID=America/Chicago:20191207T153000
DTSTAMP:20260419T071532
CREATED:20191205T144008Z
LAST-MODIFIED:20191205T144009Z
UID:12125-1575716400-1575732600@thetulsaartsdistrict.org
SUMMARY:Big 12 Championship: OU vs Baylor at Elgin Park
DESCRIPTION:
URL:https://thetulsaartsdistrict.org/event/big-12-championship-ou-vs-baylor-at-elgin-park/
LOCATION:Elgin Park Brewery\, 325 E Reconciliation Way\, Tulsa\, OK\, 74103\, United States
END:VEVENT
BEGIN:VEVENT
DTSTART;TZID=America/Chicago:20190729T110000
DTEND;TZID=America/Chicago:20190729T210000
DTSTAMP:20260419T071532
CREATED:20190726T213733Z
LAST-MODIFIED:20190726T213733Z
UID:7316-1564398000-1564434000@thetulsaartsdistrict.org
SUMMARY:National Wing Day!  1/2 price wings at Elgin Park
DESCRIPTION:
URL:https://thetulsaartsdistrict.org/event/national-wing-day-1-2-price-wings-at-elgin-park/
LOCATION:Elgin Park Brewery\, 325 E Reconciliation Way\, Tulsa\, OK\, 74103\, United States
END:VEVENT
BEGIN:VEVENT
DTSTART;TZID=America/Chicago:20190726T190000
DTEND;TZID=America/Chicago:20190726T220000
DTSTAMP:20260419T071532
CREATED:20190620T141038Z
LAST-MODIFIED:20190620T141039Z
UID:5080-1564167600-1564178400@thetulsaartsdistrict.org
SUMMARY:Bond Collaborative: Tap to Table w/ McNellie's at The Bond Tulsa
DESCRIPTION:
URL:https://thetulsaartsdistrict.org/event/bond-collaborative-tap-to-table-w-mcnellies-at-the-bond-tulsa/
LOCATION:Elgin Park Brewery\, 325 E Reconciliation Way\, Tulsa\, OK\, 74103\, United States
END:VEVENT
BEGIN:VEVENT
DTSTART;TZID=America/Chicago:20190707T200000
DTEND;TZID=America/Chicago:20190707T223000
DTSTAMP:20260419T071532
CREATED:20190706T200156Z
LAST-MODIFIED:20190706T205549Z
UID:6446-1562529600-1562538600@thetulsaartsdistrict.org
SUMMARY:US Men challenge Mexico for the Gold Cup - Elgin Park
DESCRIPTION:
URL:https://thetulsaartsdistrict.org/event/us-men-will-challenge-mexico-for-the-gold-cup-elgin-park/
LOCATION:Elgin Park Brewery\, 325 E Reconciliation Way\, Tulsa\, OK\, 74103\, United States
END:VEVENT
BEGIN:VEVENT
DTSTART;TZID=America/Chicago:20190707T090000
DTEND;TZID=America/Chicago:20190707T130000
DTSTAMP:20260419T071532
CREATED:20190706T195907Z
LAST-MODIFIED:20190706T195938Z
UID:6444-1562490000-1562504400@thetulsaartsdistrict.org
SUMMARY:US Women's Soccer World Cup Finals at Elgin Park - Doors Open at 9:00 AM (Kitchen at 9:30 AM)
DESCRIPTION:
URL:https://thetulsaartsdistrict.org/event/us-womens-soccer-world-cup-finals-at-elgin-park-doors-open-at-900-am-kitchen-at-930-am/
LOCATION:Elgin Park Brewery\, 325 E Reconciliation Way\, Tulsa\, OK\, 74103\, United States
END:VEVENT
BEGIN:VEVENT
DTSTART;TZID=America/Chicago:20190607T170000
DTEND;TZID=America/Chicago:20190607T210000
DTSTAMP:20260419T071532
CREATED:20190602T205140Z
LAST-MODIFIED:20190602T205233Z
UID:3626-1559926800-1559941200@thetulsaartsdistrict.org
SUMMARY:Knock Out Violence Happy Hour
DESCRIPTION:
URL:https://thetulsaartsdistrict.org/event/knock-out-violence-happy-hour/
LOCATION:Elgin Park Brewery\, 325 E Reconciliation Way\, Tulsa\, OK\, 74103\, United States
END:VEVENT
BEGIN:VEVENT
DTSTART;TZID=America/Chicago:20190606T160000
DTEND;TZID=America/Chicago:20190606T230000
DTSTAMP:20260419T071532
CREATED:20190603T202452Z
LAST-MODIFIED:20191229T160635Z
UID:4023-1559836800-1559862000@thetulsaartsdistrict.org
SUMMARY:Thirsty Thursday at Elgin Park
DESCRIPTION:
URL:https://thetulsaartsdistrict.org/event/thirsty-thursday-2/2019-06-06/
LOCATION:Elgin Park Brewery\, 325 E Reconciliation Way\, Tulsa\, OK\, 74103\, United States
END:VEVENT
BEGIN:VEVENT
DTSTART;TZID=America/Chicago:20190605T170000
DTEND;TZID=America/Chicago:20190605T220000
DTSTAMP:20260419T071532
CREATED:20190603T202324Z
LAST-MODIFIED:20190626T132324Z
UID:3993-1559754000-1559772000@thetulsaartsdistrict.org
SUMMARY:Wingsday! at Elgin Park
DESCRIPTION:
URL:https://thetulsaartsdistrict.org/event/wingsday/2019-06-05/
LOCATION:Elgin Park Brewery\, 325 E Reconciliation Way\, Tulsa\, OK\, 74103\, United States
END:VEVENT
BEGIN:VEVENT
DTSTART;TZID=America/Chicago:20190602T120000
DTEND;TZID=America/Chicago:20190602T140000
DTSTAMP:20260419T071532
CREATED:20190602T205340Z
LAST-MODIFIED:20190602T210817Z
UID:3628-1559476800-1559484000@thetulsaartsdistrict.org
SUMMARY:LGBT Women's Network June Happy Hour - Sunday Edition
DESCRIPTION:
URL:https://thetulsaartsdistrict.org/event/lgbt-womens-network-june-happy-hour-sunday-edition/
LOCATION:Elgin Park Brewery\, 325 E Reconciliation Way\, Tulsa\, OK\, 74103\, United States
END:VEVENT
END:VCALENDAR