BEGIN:VCALENDAR
VERSION:2.0
PRODID:-//Tulsa Arts District - ECPv6.15.20//NONSGML v1.0//EN
CALSCALE:GREGORIAN
METHOD:PUBLISH
X-WR-CALNAME:Tulsa Arts District
X-ORIGINAL-URL:https://thetulsaartsdistrict.org
X-WR-CALDESC:Events for Tulsa Arts District
REFRESH-INTERVAL;VALUE=DURATION:PT1H
X-Robots-Tag:noindex
X-PUBLISHED-TTL:PT1H
BEGIN:VTIMEZONE
TZID:America/Chicago
BEGIN:DAYLIGHT
TZOFFSETFROM:-0600
TZOFFSETTO:-0500
TZNAME:CDT
DTSTART:20210314T080000
END:DAYLIGHT
BEGIN:STANDARD
TZOFFSETFROM:-0500
TZOFFSETTO:-0600
TZNAME:CST
DTSTART:20211107T070000
END:STANDARD
BEGIN:DAYLIGHT
TZOFFSETFROM:-0600
TZOFFSETTO:-0500
TZNAME:CDT
DTSTART:20220313T080000
END:DAYLIGHT
BEGIN:STANDARD
TZOFFSETFROM:-0500
TZOFFSETTO:-0600
TZNAME:CST
DTSTART:20221106T070000
END:STANDARD
BEGIN:DAYLIGHT
TZOFFSETFROM:-0600
TZOFFSETTO:-0500
TZNAME:CDT
DTSTART:20230312T080000
END:DAYLIGHT
BEGIN:STANDARD
TZOFFSETFROM:-0500
TZOFFSETTO:-0600
TZNAME:CST
DTSTART:20231105T070000
END:STANDARD
BEGIN:DAYLIGHT
TZOFFSETFROM:-0600
TZOFFSETTO:-0500
TZNAME:CDT
DTSTART:20240310T080000
END:DAYLIGHT
BEGIN:STANDARD
TZOFFSETFROM:-0500
TZOFFSETTO:-0600
TZNAME:CST
DTSTART:20241103T070000
END:STANDARD
END:VTIMEZONE
BEGIN:VEVENT
DTSTART;TZID=America/Chicago:20230602T180000
DTEND;TZID=America/Chicago:20230602T210000
DTSTAMP:20260419T101411
CREATED:20230518T184231Z
LAST-MODIFIED:20230521T165552Z
UID:55018-1685728800-1685739600@thetulsaartsdistrict.org
SUMMARY:OPENING: sunodos: act of attention x Flagship hosted by Tulsa Artist Fellowship
DESCRIPTION:
URL:https://thetulsaartsdistrict.org/event/sunodos-act-of-attention-x-flagship-hosted-by-tulsa-artist-fellowship/
LOCATION:Flagship – Tulsa Artist Fellowship\, 112 N Boston\, Tulsa\, OK\, 74103
END:VEVENT
BEGIN:VEVENT
DTSTART;TZID=America/Chicago:20230505T180000
DTEND;TZID=America/Chicago:20230505T210000
DTSTAMP:20260419T101411
CREATED:20230316T193822Z
LAST-MODIFIED:20230408T135519Z
UID:52655-1683309600-1683320400@thetulsaartsdistrict.org
SUMMARY:Center for Queer Prairie Studies Exhibition at FLAGSHIP - Free admission
DESCRIPTION:
URL:https://thetulsaartsdistrict.org/event/center-for-queer-prairie-studies-exhibition-at-flagship-2023-05-05-2/
LOCATION:Flagship – Tulsa Artist Fellowship\, 112 N Boston\, Tulsa\, OK\, 74103
END:VEVENT
BEGIN:VEVENT
DTSTART;TZID=America/Chicago:20230427T180000
DTEND;TZID=America/Chicago:20230427T200000
DTSTAMP:20260419T101411
CREATED:20230425T182154Z
LAST-MODIFIED:20230425T182331Z
UID:54216-1682618400-1682625600@thetulsaartsdistrict.org
SUMMARY:QUEER IN KANSAS: FILM SCREENING & ARTIST TALK Featuring Artist Peter Max Lawrence Presented by Queen Rose Art House\, Studio 66\, and Tulsa Artist Fellowship - Free admission.
DESCRIPTION:Queen Rose Art House\, Studio 66\, and Tulsa Artist Fellowship present a film screening and artist talk featuring multidisciplinary artist Peter Max Lawrence. Lawrence is the 2023 Queen Rose Art House artist in residence. \n\n\n\nAudience members will screen Lawrence’s autobiographical film Queer in Kansas (2008) which touches on the struggles of a young closeted Midwestern artist in the 1990s. The film uses elements from traditional narrative\, experimental cinema\, and performance art documentation to create a unique and powerful portrayal of Lawrence’s life. Through his art\, Lawrence explores the challenges and obstacles faced by those who dare to be different and embrace their true selves. \n\n\n\nThis thought-provoking event will provide a deeper understanding of the complexities of identity\, art\, and the human experience. 
URL:https://thetulsaartsdistrict.org/event/queer-in-kansas-film-screening-artist-talk-featuring-artist-peter-max-lawrence-presented-by-queen-rose-art-house-studio-66-and-tulsa-artist-fellowship/
LOCATION:Flagship – Tulsa Artist Fellowship\, 112 N Boston\, Tulsa\, OK\, 74103
END:VEVENT
BEGIN:VEVENT
DTSTART;TZID=America/Chicago:20230408T120000
DTEND;TZID=America/Chicago:20230408T180000
DTSTAMP:20260419T101411
CREATED:20230316T193822Z
LAST-MODIFIED:20230408T135649Z
UID:52643-1680955200-1680976800@thetulsaartsdistrict.org
SUMMARY:Center for Queer Prairie Studies Exhibition at FLAGSHIP  - Free admission
DESCRIPTION:
URL:https://thetulsaartsdistrict.org/event/center-for-queer-prairie-studies-exhibition-at-flagship-2023-04-08/2023-04-08/
LOCATION:Flagship – Tulsa Artist Fellowship\, 112 N Boston\, Tulsa\, OK\, 74103
END:VEVENT
BEGIN:VEVENT
DTSTART;TZID=America/Chicago:20230325T150000
DTEND;TZID=America/Chicago:20230325T160000
DTSTAMP:20260419T101411
CREATED:20230316T193530Z
LAST-MODIFIED:20230316T193531Z
UID:52619-1679756400-1679760000@thetulsaartsdistrict.org
SUMMARY:Music Performance by ENSEMBLE PAMPLEMOUSSE at FLAGSHIP
DESCRIPTION:
URL:https://thetulsaartsdistrict.org/event/music-performance-by-ensemble-pamplemousse-at-flagship/
LOCATION:Flagship – Tulsa Artist Fellowship\, 112 N Boston\, Tulsa\, OK\, 74103
END:VEVENT
BEGIN:VEVENT
DTSTART;TZID=America/Chicago:20230316T120000
DTEND;TZID=America/Chicago:20230316T180000
DTSTAMP:20260419T101411
CREATED:20230316T193822Z
LAST-MODIFIED:20230324T202223Z
UID:52622-1678968000-1678989600@thetulsaartsdistrict.org
SUMMARY:Center for Queer Prairie Studies Exhibition at FLAGSHIP
DESCRIPTION:
URL:https://thetulsaartsdistrict.org/event/center-for-queer-prairie-studies-exhibition-at-flagship/2023-03-16/
LOCATION:Flagship – Tulsa Artist Fellowship\, 112 N Boston\, Tulsa\, OK\, 74103
END:VEVENT
BEGIN:VEVENT
DTSTART;TZID=America/Chicago:20230311T120000
DTEND;TZID=America/Chicago:20230311T170000
DTSTAMP:20260419T101411
CREATED:20230311T144152Z
LAST-MODIFIED:20230311T144154Z
UID:52500-1678536000-1678554000@thetulsaartsdistrict.org
SUMMARY:FLAGSHIP Exhibition - Center for Queer Prairie Studies
DESCRIPTION:We are thrilled to announce that our latest exhibition\, Center for Queer Prairie Studies\, is now on view at Flagship through May First Friday! Featuring works and objects from prominent artists and queer community members including Pat Gordon\, Lynn Riggs\, Charles Bell\, Lydia Cheshewalla\, and more\, this exhibition explores the intersections of art\, queerness\, and prairie culture. \n\n\n\nBut that’s not all! C.Q.P.S. also presents a lineup of exciting events\, including fashion shows\, film screenings\, lectures\, and performance art presentations\, where visitors are invited to engage with each other and the community through artistic collaboration. Don’t miss out on this one-of-a-kind experience that celebrates diversity and creativity! Come visit us today and be a part of the vibrant art scene at Flagship. \n\n\n\nWe are open Thursday-Saturday from 12-6pm. \n\n\n\n#CenterForQueerPrairieStudies#FlagshipArtExhibition#2SLGBTQ+ #ArtCommunity#CreativeCollaboration
URL:https://thetulsaartsdistrict.org/event/flagship-exhibition-center-for-queer-prairie-studies/2023-03-11/
LOCATION:Flagship – Tulsa Artist Fellowship\, 112 N Boston\, Tulsa\, OK\, 74103
END:VEVENT
BEGIN:VEVENT
DTSTART;TZID=America/Chicago:20230303T180000
DTEND;TZID=America/Chicago:20230303T210000
DTSTAMP:20260419T101411
CREATED:20230227T135651Z
LAST-MODIFIED:20230227T135737Z
UID:52157-1677866400-1677877200@thetulsaartsdistrict.org
SUMMARY:March First Friday x Tulsa Artist Fellowship at FLAGSHIP - Exhibition Opening - Center for Queer Prairie Studies
DESCRIPTION:
URL:https://thetulsaartsdistrict.org/event/march-first-friday-x-tulsa-artist-fellowship-at-flagship-exhibition-opening-center-for-queer-prairie-studies/
LOCATION:Flagship – Tulsa Artist Fellowship\, 112 N Boston\, Tulsa\, OK\, 74103
END:VEVENT
BEGIN:VEVENT
DTSTART;TZID=America/Chicago:20230203T180000
DTEND;TZID=America/Chicago:20230203T210000
DTSTAMP:20260419T101411
CREATED:20230121T225329Z
LAST-MODIFIED:20230121T225331Z
UID:51188-1675447200-1675458000@thetulsaartsdistrict.org
SUMMARY:February First Friday x Tulsa Artist Fellowship - Flagship Exhibition On View 
DESCRIPTION:
URL:https://thetulsaartsdistrict.org/event/february-first-friday-x-tulsa-artist-fellowship-flagship-exhibition-on-view/
LOCATION:Flagship – Tulsa Artist Fellowship\, 112 N Boston\, Tulsa\, OK\, 74103
END:VEVENT
BEGIN:VEVENT
DTSTART;TZID=America/Chicago:20230112T183000
DTEND;TZID=America/Chicago:20230112T193000
DTSTAMP:20260419T101411
CREATED:20230111T181843Z
LAST-MODIFIED:20230111T181845Z
UID:51056-1673548200-1673551800@thetulsaartsdistrict.org
SUMMARY: “Three Session Community Yoga and Inner-listening Series”\, at Flagship
DESCRIPTION:
URL:https://thetulsaartsdistrict.org/event/three-session-community-yoga-and-inner-listening-series-at-flagship/2023-01-12/
LOCATION:Flagship – Tulsa Artist Fellowship\, 112 N Boston\, Tulsa\, OK\, 74103
END:VEVENT
BEGIN:VEVENT
DTSTART;TZID=America/Chicago:20230106T180000
DTEND;TZID=America/Chicago:20230106T210000
DTSTAMP:20260419T101411
CREATED:20230106T193803Z
LAST-MODIFIED:20230106T193805Z
UID:50625-1673028000-1673038800@thetulsaartsdistrict.org
SUMMARY:January First Friday x Goff Exhibition On View at Flagship
DESCRIPTION:
URL:https://thetulsaartsdistrict.org/event/january-first-friday-x-goff-exhibition-on-view-at-flagship/
LOCATION:Flagship – Tulsa Artist Fellowship\, 112 N Boston\, Tulsa\, OK\, 74103
END:VEVENT
BEGIN:VEVENT
DTSTART;TZID=America/Chicago:20221214T120000
DTEND;TZID=America/Chicago:20221214T150000
DTSTAMP:20260419T101411
CREATED:20221206T232028Z
LAST-MODIFIED:20221206T232030Z
UID:48835-1671019200-1671030000@thetulsaartsdistrict.org
SUMMARY:YALDA NIGHT (Shab-e Yalda): An Evening of Persian Food\, Music\, and Poetry at FLAGSHIP
DESCRIPTION:
URL:https://thetulsaartsdistrict.org/event/yalda-night-shab-e-yalda-an-evening-of-persian-food-music-and-poetry-at-flagship/
LOCATION:Flagship – Tulsa Artist Fellowship\, 112 N Boston\, Tulsa\, OK\, 74103
END:VEVENT
BEGIN:VEVENT
DTSTART;TZID=America/Chicago:20221202T170000
DTEND;TZID=America/Chicago:20221202T170000
DTSTAMP:20260419T101411
CREATED:20221122T190631Z
LAST-MODIFIED:20221122T190633Z
UID:48333-1670000400-1670000400@thetulsaartsdistrict.org
SUMMARY:December First Friday x Exhibition Opening & Live Podcast “Little Goff on the Prairie” - Bruce Goff: The Art of the Continuous Present at Flagship
DESCRIPTION:Exhibition Opening & Live PodcastFlagship | 5-9pm112 N. Boston Ave. Tulsa\, OK 74103Live Podcast “Little Goff on the Prairie”Bruce Goff: The Art of the Continuous Present \n\n\n\nTulsa Artist Fellowship programming is free and open to all 
URL:https://thetulsaartsdistrict.org/event/december-first-friday-x-exhibition-opening-live-podcast-little-goff-on-the-prairie-bruce-goff-the-art-of-the-continuous-present-at-flagship/
LOCATION:Flagship – Tulsa Artist Fellowship\, 112 N Boston\, Tulsa\, OK\, 74103
END:VEVENT
BEGIN:VEVENT
DTSTART;TZID=America/Chicago:20221104T180000
DTEND;TZID=America/Chicago:20221104T210000
DTSTAMP:20260419T101411
CREATED:20221012T192851Z
LAST-MODIFIED:20221012T192853Z
UID:45788-1667584800-1667595600@thetulsaartsdistrict.org
SUMMARY:Flagship Exhibition On View 
DESCRIPTION:
URL:https://thetulsaartsdistrict.org/event/flagship-exhibition-on-view/
LOCATION:Flagship – Tulsa Artist Fellowship\, 112 N Boston\, Tulsa\, OK\, 74103
END:VEVENT
BEGIN:VEVENT
DTSTART;TZID=America/Chicago:20221018T190000
DTEND;TZID=America/Chicago:20221018T203000
DTSTAMP:20260419T101411
CREATED:20221012T191137Z
LAST-MODIFIED:20221012T193434Z
UID:45776-1666119600-1666125000@thetulsaartsdistrict.org
SUMMARY:Reading x Discussion  TALKING 'BOUT A (QUEER) REVOLUTION - Hosted by Tulsa Artist Fellows George Henson and Arthur Malcolm Dixon Featuring Poet\, Playwright\, and Critic Norge Espinosa at Flagship
DESCRIPTION:
URL:https://thetulsaartsdistrict.org/event/reading-x-discussion-talking-bout-a-queer-revolution-hosted-by-tulsa-artist-fellows-george-henson-and-arthur-malcolm-dixon-featuring-poet-playwright-and-critic-norge-espinosa/
LOCATION:Flagship – Tulsa Artist Fellowship\, 112 N Boston\, Tulsa\, OK\, 74103
END:VEVENT
BEGIN:VEVENT
DTSTART;TZID=America/Chicago:20221012T190000
DTEND;TZID=America/Chicago:20221012T210000
DTSTAMP:20260419T101411
CREATED:20221012T191711Z
LAST-MODIFIED:20221012T191712Z
UID:45779-1665601200-1665608400@thetulsaartsdistrict.org
SUMMARY:ODES(S)A: LINES FROM THE MARGINS hosted by Tulsa Artist Fellowship at Flagship
DESCRIPTION:
URL:https://thetulsaartsdistrict.org/event/odessa-lines-from-the-margins-hosted-by-tulsa-artist-fellowship-at-flagship/
LOCATION:Flagship – Tulsa Artist Fellowship\, 112 N Boston\, Tulsa\, OK\, 74103
END:VEVENT
BEGIN:VEVENT
DTSTART;TZID=America/Chicago:20221005T190000
DTEND;TZID=America/Chicago:20221005T200000
DTSTAMP:20260419T101411
CREATED:20220927T134842Z
LAST-MODIFIED:20220927T134844Z
UID:45214-1664996400-1665000000@thetulsaartsdistrict.org
SUMMARY:Cognate Territories: Translating Latin America from Oklahoma hosted by Tulsa Artist Fellowship and Latin American Literature Today
DESCRIPTION:
URL:https://thetulsaartsdistrict.org/event/cognate-territories-translating-latin-america-from-oklahoma-hosted-by-tulsa-artist-fellowship-and-latin-american-literature-today/
LOCATION:Flagship – Tulsa Artist Fellowship\, 112 N Boston\, Tulsa\, OK\, 74103
END:VEVENT
BEGIN:VEVENT
DTSTART;TZID=America/Chicago:20221001T180000
DTEND;TZID=America/Chicago:20221001T193000
DTSTAMP:20260419T101411
CREATED:20220928T222722Z
LAST-MODIFIED:20220928T222724Z
UID:45412-1664647200-1664652600@thetulsaartsdistrict.org
SUMMARY:Exhibition On View x Performances ENCODING: A FUTURE SETTING at FLAGSHIP
DESCRIPTION:6pm | Performance by Crack Rodriguez6:45pm | Performance by Benvenuto Chavajay
URL:https://thetulsaartsdistrict.org/event/exhibition-on-view-x-performances-encoding-a-future-setting-at-flagship-2/
LOCATION:Flagship – Tulsa Artist Fellowship\, 112 N Boston\, Tulsa\, OK\, 74103
END:VEVENT
BEGIN:VEVENT
DTSTART;TZID=America/Chicago:20220930T180000
DTEND;TZID=America/Chicago:20220930T210000
DTSTAMP:20260419T101411
CREATED:20220923T205752Z
LAST-MODIFIED:20220928T222513Z
UID:45124-1664560800-1664571600@thetulsaartsdistrict.org
SUMMARY:Exhibition On View x Performances ENCODING: A FUTURE SETTING at FLAGSHIP
DESCRIPTION:6pm | Curator Walkthrough 7pm | Performance by Szu Han Ho8pm | Performance by Warren Realrider 
URL:https://thetulsaartsdistrict.org/event/exhibition-on-view-x-performances-encoding-a-future-setting-at-flagship/
LOCATION:Flagship – Tulsa Artist Fellowship\, 112 N Boston\, Tulsa\, OK\, 74103
END:VEVENT
BEGIN:VEVENT
DTSTART;TZID=America/Chicago:20220828T190000
DTEND;TZID=America/Chicago:20220828T200000
DTSTAMP:20260419T101411
CREATED:20220822T224927Z
LAST-MODIFIED:20220822T224929Z
UID:44099-1661713200-1661716800@thetulsaartsdistrict.org
SUMMARY:Tulsa Glitterary: Reading and Conversation with Karl Jones at FLAGSHIP
DESCRIPTION:
URL:https://thetulsaartsdistrict.org/event/tulsa-glitterary-reading-and-conversation-with-karl-jones-at-flagship/
LOCATION:Flagship – Tulsa Artist Fellowship\, 112 N Boston\, Tulsa\, OK\, 74103
END:VEVENT
BEGIN:VEVENT
DTSTART;TZID=America/Chicago:20220723T143000
DTEND;TZID=America/Chicago:20220723T153000
DTSTAMP:20260419T101411
CREATED:20220719T132505Z
LAST-MODIFIED:20220719T132506Z
UID:42625-1658586600-1658590200@thetulsaartsdistrict.org
SUMMARY:Lea Bertucci and Ben Vida will perform tracks from their latest collaboration album Murmurations at Flagship
DESCRIPTION:
URL:https://thetulsaartsdistrict.org/event/lea-bertucci-and-ben-vida-will-perform-tracks-from-their-latest-collaboration-album-murmurations-at-flagship/
LOCATION:Flagship – Tulsa Artist Fellowship\, 112 N Boston\, Tulsa\, OK\, 74103
END:VEVENT
BEGIN:VEVENT
DTSTART;TZID=America/Chicago:20220723T140000
DTEND;TZID=America/Chicago:20220723T150000
DTSTAMP:20260419T101411
CREATED:20220720T143210Z
LAST-MODIFIED:20220723T153640Z
UID:42628-1658584800-1658588400@thetulsaartsdistrict.org
SUMMARY:Kalup Linzy Presents\, Not Ready to Say Goodbye (Green Country Edition) Pt. II Artist Discussion with Curator\, Dan Cameron at FLAGSHIP
DESCRIPTION:
URL:https://thetulsaartsdistrict.org/event/kalup-linzy-presents-not-ready-to-say-goodbye-green-country-edition-pt-ii-at-flagship/
LOCATION:Flagship – Tulsa Artist Fellowship\, 112 N Boston\, Tulsa\, OK\, 74103
END:VEVENT
BEGIN:VEVENT
DTSTART;TZID=America/Chicago:20220623T180000
DTEND;TZID=America/Chicago:20220623T210000
DTSTAMP:20260419T101411
CREATED:20220618T134924Z
LAST-MODIFIED:20220618T134925Z
UID:40954-1656007200-1656018000@thetulsaartsdistrict.org
SUMMARY:Poetic Justice\, Tulsa: A Collaborative Reading hosted by Tulsa Artist Fellowship at FLAGSHIP
DESCRIPTION:
URL:https://thetulsaartsdistrict.org/event/poetic-justice-tulsa-a-collaborative-reading-hosted-by-tulsa-artist-fellowship-at-flagship/
LOCATION:Flagship – Tulsa Artist Fellowship\, 112 N Boston\, Tulsa\, OK\, 74103
END:VEVENT
BEGIN:VEVENT
DTSTART;TZID=America/Chicago:20220608T190000
DTEND;TZID=America/Chicago:20220608T210000
DTSTAMP:20260419T101411
CREATED:20220526T193830Z
LAST-MODIFIED:20220526T193831Z
UID:39934-1654714800-1654722000@thetulsaartsdistrict.org
SUMMARY:TVLSE: Converging Indigenous Art at FLAGSHIP
DESCRIPTION:
URL:https://thetulsaartsdistrict.org/event/tvlse-converging-indigenous-art-at-flagship/
LOCATION:Flagship – Tulsa Artist Fellowship\, 112 N Boston\, Tulsa\, OK\, 74103
END:VEVENT
BEGIN:VEVENT
DTSTART;TZID=America/Chicago:20220608T180000
DTEND;TZID=America/Chicago:20220608T210000
DTSTAMP:20260419T101411
CREATED:20220604T125706Z
LAST-MODIFIED:20220604T125707Z
UID:40325-1654711200-1654722000@thetulsaartsdistrict.org
SUMMARY:Panel and Closing Reception TVLSE: CONVERGING INDIGENOUS ART hosted by Tulsa Artist Fellowship at FLAGSHIP
DESCRIPTION:Music by Marca Cassity | 6-6:30pm & 8:30-9pmCurator Led Panel Conversation | 7-8:30pmCatering by Chef Nico Albert (ᏣᎳᎩᎯ ᎠᏰᎵ Cherokee Nation) Burning Cedar Indigenous Foods
URL:https://thetulsaartsdistrict.org/event/panel-and-closing-reception-tvlse-converging-indigenous-art-hosted-by-tulsa-artist-fellowship-at-flagship/
LOCATION:Flagship – Tulsa Artist Fellowship\, 112 N Boston\, Tulsa\, OK\, 74103
END:VEVENT
BEGIN:VEVENT
DTSTART;TZID=America/Chicago:20220517T190000
DTEND;TZID=America/Chicago:20220517T210000
DTSTAMP:20260419T101411
CREATED:20220503T184207Z
LAST-MODIFIED:20220503T184211Z
UID:38348-1652814000-1652821200@thetulsaartsdistrict.org
SUMMARY:HOMES + friends: A debut poetry collection reading & release event presented by Tulsa Artist Fellowship at Flagship
DESCRIPTION:
URL:https://thetulsaartsdistrict.org/event/homes-friends-a-debut-poetry-collection-reading-release-event-presented-by-tulsa-artist-fellowship-at-flagship/
LOCATION:Flagship – Tulsa Artist Fellowship\, 112 N Boston\, Tulsa\, OK\, 74103
END:VEVENT
BEGIN:VEVENT
DTSTART;TZID=America/Chicago:20220517T190000
DTEND;TZID=America/Chicago:20220517T200000
DTSTAMP:20260419T101411
CREATED:20220510T183756Z
LAST-MODIFIED:20220510T184143Z
UID:38531-1652814000-1652817600@thetulsaartsdistrict.org
SUMMARY:HOMES + Friends: a 3-headed reading with multimedia art & songs hosted by Magic City Books at FLAGSHIP
DESCRIPTION:
URL:https://thetulsaartsdistrict.org/event/homes-friends-a-3-headed-reading-with-multimedia-art-songs-at-magic-city-books/
LOCATION:Flagship – Tulsa Artist Fellowship\, 112 N Boston\, Tulsa\, OK\, 74103
END:VEVENT
BEGIN:VEVENT
DTSTART;TZID=America/Chicago:20220513T190000
DTEND;TZID=America/Chicago:20220513T220000
DTSTAMP:20260419T101411
CREATED:20220503T183601Z
LAST-MODIFIED:20220503T183604Z
UID:38342-1652468400-1652479200@thetulsaartsdistrict.org
SUMMARY:Telling Our Stories\, Events Based on the 1921 Race Massecre\, Story 7 "Boonie" at presented by Tulsa Artist Fellowship at Flagship
DESCRIPTION:
URL:https://thetulsaartsdistrict.org/event/telling-our-stories-events-based-on-the-1921-race-massecre-story-7-boonie-at-presented-by-tulsa-artist-fellowship-at-flagship/
LOCATION:Flagship – Tulsa Artist Fellowship\, 112 N Boston\, Tulsa\, OK\, 74103
END:VEVENT
BEGIN:VEVENT
DTSTART;TZID=America/Chicago:20220506T180000
DTEND;TZID=America/Chicago:20220506T210000
DTSTAMP:20260419T101411
CREATED:20220503T220236Z
LAST-MODIFIED:20220503T233714Z
UID:38351-1651860000-1651870800@thetulsaartsdistrict.org
SUMMARY:TVLSE: Converging Indigenous Art presented by Tulsa Artist Fellowship at Flagship
DESCRIPTION:The city of ‘Tvlv’hasse (“Old town”) / Tvlse-Locvpokv / Tvlse (also known as Tulsa) is located at the intersections of the Muscogee Nation\, Cherokee Nation and Osage Nation reservations. Tvlse and the greater land base of Indian Territory have served as a place of convergence and gathering for Indigenous Nations since time immemorial. TVLSE: Converging Indigenous Art\, ties together threads of Indigenous story and experience by presenting diverse contemporary artworks. These works coalesce around this city and its histories. TVLSE is collectively curated by Jordan Poorman Cocker ([Gáuigú [Kiowa]) and Lois Taylor Biggs (White Earth Ojibwe and Cherokee Nation)\, in collaboration with Yatika Starr Fields (Osage\, Cherokee\, and Muscogee). \n\n\n\nTVLSE: Converging Indigenous Art\, is one step in the footpath of many toward the development of a gallery space and cafe in Tvlse that holds space for and led by Urban Indigenous communities\, voices\, and stories. @terigreevesbeadwork @nativefields @redcorn @leahapalmer @sterlinharjo @moiraredcorn @tsalanaabe @joyharjoforreal @bobbycartist \n\n\n\n////////// Image Credits (Slide 1): 𐓡𐓘𐓬𐓘𐓻𐓶𐓲𐓟 𐓇𐓣͘𐓨𐓣͘𐓻𐓣͘ (RedCorn Girl)\, 2018\, Ryan RedCorn(Slide 2): Tvlse flier\, Hayley Nichols
URL:https://thetulsaartsdistrict.org/event/tvlse-converging-indigenous-art-presented-by-tulsa-artist-fellowship-at-flagship/
LOCATION:Flagship – Tulsa Artist Fellowship\, 112 N Boston\, Tulsa\, OK\, 74103
END:VEVENT
BEGIN:VEVENT
DTSTART;TZID=America/Chicago:20220416T180000
DTEND;TZID=America/Chicago:20220416T203000
DTSTAMP:20260419T101411
CREATED:20220409T135120Z
LAST-MODIFIED:20220409T135122Z
UID:37363-1650132000-1650141000@thetulsaartsdistrict.org
SUMMARY:We Only Answer Our Own Land Line: Film Screening and Discussion with Olivia Camfield & Woodrow Hunt hosted by Tulsa Artist Fellowship at Flagship
DESCRIPTION:WE ONLY ANSWER OUR LAND LINE: FILM SCREENING AND DISCUSSION WITH OLIVIA CAMFIELD & WOODROW HUNTOrganized by Tulsa Artist Fellow Suzanne Kite \n\n\n\nSaturday\, April 16\, 2022 // 6-8:30pm CTTulsa Artist Fellowship Flagship Space112 N. Boston Ave. Tulsa\, OKThis program is free and open to all. \n\n\n\nTulsa Artist Fellowship welcomes our community to a screening of the short film “We Only Answer Our Land Line” by Woodrow Hunt and Olivia Camfield\, followed by a discussion with Tulsa Artist Fellow Suzanne Kite. “We Only Answer Our Land Line” is a spectacular experimental essay film exploring the character of the alien\, nonlinear Indigenous experience\, and material specificity of digital video to resist colonialism. \n\n\n\nOlivia Camfield and Woodrow Hunt have been creative collaborators for the past two years. Separately\, Olivia Camfield is a multimedia movement artist from the Mvskoke nation. Olivia’s work focuses on the intricacies of mixed-Indigenous identities\, promoting Indigenous futurism\, and the continued education of all settlers on the systematic erasing of Indigenous People\, languages\, sacred sites\, and ancestral life ways. Olivia is currently a member of Dancing Earth Creations. Woodrow Hunt is a Klamath\, Modoc and Cherokee artist. His work focuses on experimental films which explore the functions and relationship between digital video and memory. His production company Tule Films works within the Indigenous community of Portland\, Oregon specifically in education. \n\n\n\nKite aka Suzanne Kite is an Oglala Lakota performance artist\, visual artist\, and composer raised in Southern California\, with an MFA from Bard College’s Milton Avery Graduate School\, and is a PhD candidate at Concordia University\, Research Assistant for the Initiative for Indigenous Futures\, and a 2019 Trudeau Scholar. Her research is concerned with contemporary Lakota ontologies through research-creation\, computational media\, and performance practice. Recently\, Kite has been developing a body interface for movement performances\, carbon fiber sculptures\, immersive video & sound installations. Currently\, she is a 2019 Pierre Elliott Trudeau Foundation Scholar and 2020-2021 Tulsa Artist Fellow.
URL:https://thetulsaartsdistrict.org/event/we-only-answer-our-own-land-line-film-screening-and-discussion-with-olivia-camfield-woodrow-hunt-hosted-by-tulsa-artist-fellowship-at-flagship/
LOCATION:Flagship – Tulsa Artist Fellowship\, 112 N Boston\, Tulsa\, OK\, 74103
END:VEVENT
END:VCALENDAR