BEGIN:VCALENDAR
VERSION:2.0
PRODID:-//Tulsa Arts District - ECPv6.15.20//NONSGML v1.0//EN
CALSCALE:GREGORIAN
METHOD:PUBLISH
X-WR-CALNAME:Tulsa Arts District
X-ORIGINAL-URL:https://thetulsaartsdistrict.org
X-WR-CALDESC:Events for Tulsa Arts District
REFRESH-INTERVAL;VALUE=DURATION:PT1H
X-Robots-Tag:noindex
X-PUBLISHED-TTL:PT1H
BEGIN:VTIMEZONE
TZID:America/Chicago
BEGIN:DAYLIGHT
TZOFFSETFROM:-0600
TZOFFSETTO:-0500
TZNAME:CDT
DTSTART:20240310T080000
END:DAYLIGHT
BEGIN:STANDARD
TZOFFSETFROM:-0500
TZOFFSETTO:-0600
TZNAME:CST
DTSTART:20241103T070000
END:STANDARD
BEGIN:DAYLIGHT
TZOFFSETFROM:-0600
TZOFFSETTO:-0500
TZNAME:CDT
DTSTART:20250309T080000
END:DAYLIGHT
BEGIN:STANDARD
TZOFFSETFROM:-0500
TZOFFSETTO:-0600
TZNAME:CST
DTSTART:20251102T070000
END:STANDARD
BEGIN:DAYLIGHT
TZOFFSETFROM:-0600
TZOFFSETTO:-0500
TZNAME:CDT
DTSTART:20260308T080000
END:DAYLIGHT
BEGIN:STANDARD
TZOFFSETFROM:-0500
TZOFFSETTO:-0600
TZNAME:CST
DTSTART:20261101T070000
END:STANDARD
END:VTIMEZONE
BEGIN:VEVENT
DTSTART;TZID=America/Chicago:20250523T180000
DTEND;TZID=America/Chicago:20250523T190000
DTSTAMP:20260424T023848
CREATED:20250505T221421Z
LAST-MODIFIED:20250515T170050Z
UID:91596-1748023200-1748026800@thetulsaartsdistrict.org
SUMMARY:Curated by Boris Dralyuk\,  FORBIDDEN LOVE IN DARK TIMES: A READING BY POET DEREK MONG & TRANSLATOR ANNE O. FISHER. They will discuss their collaboration\, and touch on the state of poetry and translation in the US\, Ukraine\, and Russia. Co-presented by Tulsa Artist Fellowship and Magic City Books at Gitwit.
DESCRIPTION:
URL:https://thetulsaartsdistrict.org/event/curated-by-boris-dralyuk-fisher-and-mong-will-read-from-their-work-discuss-their-collaboration-and-touch-on-the-state-of-poetry-and-translation-in-the-us-ukraine-and-russia-co-presented-by/
LOCATION:Gitwit\, 301 E Archer\, Tulsa\, OK\, 74103\, United States
END:VEVENT
END:VCALENDAR