BEGIN:VCALENDAR
VERSION:2.0
PRODID:-//Tulsa Arts District - ECPv6.15.20//NONSGML v1.0//EN
CALSCALE:GREGORIAN
METHOD:PUBLISH
X-ORIGINAL-URL:https://thetulsaartsdistrict.org
X-WR-CALDESC:Events for Tulsa Arts District
REFRESH-INTERVAL;VALUE=DURATION:PT1H
X-Robots-Tag:noindex
X-PUBLISHED-TTL:PT1H
BEGIN:VTIMEZONE
TZID:America/Chicago
BEGIN:DAYLIGHT
TZOFFSETFROM:-0600
TZOFFSETTO:-0500
TZNAME:CDT
DTSTART:20240310T080000
END:DAYLIGHT
BEGIN:STANDARD
TZOFFSETFROM:-0500
TZOFFSETTO:-0600
TZNAME:CST
DTSTART:20241103T070000
END:STANDARD
BEGIN:DAYLIGHT
TZOFFSETFROM:-0600
TZOFFSETTO:-0500
TZNAME:CDT
DTSTART:20250309T080000
END:DAYLIGHT
BEGIN:STANDARD
TZOFFSETFROM:-0500
TZOFFSETTO:-0600
TZNAME:CST
DTSTART:20251102T070000
END:STANDARD
BEGIN:DAYLIGHT
TZOFFSETFROM:-0600
TZOFFSETTO:-0500
TZNAME:CDT
DTSTART:20260308T080000
END:DAYLIGHT
BEGIN:STANDARD
TZOFFSETFROM:-0500
TZOFFSETTO:-0600
TZNAME:CST
DTSTART:20261101T070000
END:STANDARD
END:VTIMEZONE
BEGIN:VEVENT
DTSTART;TZID=America/Chicago:20251123T080000
DTEND;TZID=America/Chicago:20251123T160000
DTSTAMP:20260421T071756
CREATED:20251029T205857Z
LAST-MODIFIED:20251029T210744Z
UID:100303-1763884800-1763913600@thetulsaartsdistrict.org
SUMMARY:Route 66 Marathon Finish Line at Guthrie Green - Marathon\, Half Marathon & Marathon Relay
DESCRIPTION:
URL:https://thetulsaartsdistrict.org/event/route-66-marathon-at-guthrie-green-2025-11-23/
LOCATION:Guthrie Green\, 111 E Reconciliation Way\, Tulsa\, OK\, 74103\, United States
END:VEVENT
BEGIN:VEVENT
DTSTART;TZID=America/Chicago:20251122T070000
DTEND;TZID=America/Chicago:20251122T120000
DTSTAMP:20260421T071756
CREATED:20251029T205857Z
LAST-MODIFIED:20251029T215344Z
UID:100300-1763794800-1763812800@thetulsaartsdistrict.org
SUMMARY:Route 66 Marathon 5K and Fun Run Start & Finish Line at Guthrie Green
DESCRIPTION:
URL:https://thetulsaartsdistrict.org/event/route-66-marathon-at-guthrie-green/
LOCATION:Guthrie Green\, 111 E Reconciliation Way\, Tulsa\, OK\, 74103\, United States
END:VEVENT
BEGIN:VEVENT
DTSTART;TZID=America/Chicago:20251030T180000
DTEND;TZID=America/Chicago:20251030T203000
DTSTAMP:20260421T071756
CREATED:20250923T200559Z
LAST-MODIFIED:20250923T200602Z
UID:98890-1761847200-1761856200@thetulsaartsdistrict.org
SUMMARY:Movie in the Park: "Twilight"
DESCRIPTION:
URL:https://thetulsaartsdistrict.org/event/movie-in-the-park-twilight/
LOCATION:Guthrie Green\, 111 E Reconciliation Way\, Tulsa\, OK\, 74103\, United States
END:VEVENT
BEGIN:VEVENT
DTSTART;TZID=America/Chicago:20251029T173000
DTEND;TZID=America/Chicago:20251029T183000
DTSTAMP:20260421T071756
CREATED:20250425T193753Z
LAST-MODIFIED:20250425T193753Z
UID:91022-1761759000-1761762600@thetulsaartsdistrict.org
SUMMARY:Yoga - Fitness on the Green
DESCRIPTION:
URL:https://thetulsaartsdistrict.org/event/yoga-fitness-on-the-green-5/2025-10-29/
LOCATION:Guthrie Green\, 111 E Reconciliation Way\, Tulsa\, OK\, 74103\, United States
END:VEVENT
BEGIN:VEVENT
DTSTART;TZID=America/Chicago:20251029T110000
DTEND;TZID=America/Chicago:20251029T140000
DTSTAMP:20260421T071756
CREATED:20250821T215122Z
LAST-MODIFIED:20250821T215122Z
UID:97462-1761735600-1761746400@thetulsaartsdistrict.org
SUMMARY:Food Truck Wednesday at Guthrie Green
DESCRIPTION:
URL:https://thetulsaartsdistrict.org/event/food-truck-wednesday-at-guthrie-green-9/2025-10-29/
LOCATION:Guthrie Green\, 111 E Reconciliation Way\, Tulsa\, OK\, 74103\, United States
END:VEVENT
BEGIN:VEVENT
DTSTART;TZID=America/Chicago:20251027T173000
DTEND;TZID=America/Chicago:20251027T183000
DTSTAMP:20260421T071756
CREATED:20250425T193344Z
LAST-MODIFIED:20250425T193344Z
UID:90994-1761586200-1761589800@thetulsaartsdistrict.org
SUMMARY:Monday Zumba - Fitness on the Green
DESCRIPTION:
URL:https://thetulsaartsdistrict.org/event/monday-zumba-fitness-on-the-green-5/2025-10-27/
LOCATION:Guthrie Green\, 111 E Reconciliation Way\, Tulsa\, OK\, 74103\, United States
END:VEVENT
BEGIN:VEVENT
DTSTART;TZID=America/Chicago:20251026T103000
DTEND;TZID=America/Chicago:20251026T113000
DTSTAMP:20260421T071756
CREATED:20250425T192918Z
LAST-MODIFIED:20250425T192918Z
UID:90967-1761474600-1761478200@thetulsaartsdistrict.org
SUMMARY:Zumba with Ariane - Fitness on the Green
DESCRIPTION:
URL:https://thetulsaartsdistrict.org/event/zumba-with-ariane-fitness-on-the-green-2/2025-10-26/
LOCATION:Guthrie Green\, 111 E Reconciliation Way\, Tulsa\, OK\, 74103\, United States
END:VEVENT
BEGIN:VEVENT
DTSTART;TZID=America/Chicago:20251025T190000
DTEND;TZID=America/Chicago:20251025T220000
DTSTAMP:20260421T071756
CREATED:20250923T194648Z
LAST-MODIFIED:20250923T194650Z
UID:98883-1761418800-1761429600@thetulsaartsdistrict.org
SUMMARY:Hip-Hip 918 featuring Arrested Development at Guthrie Green
DESCRIPTION:The free concert will begin with a Breaking Battle with Let’s Session and a hip-hop cypher with Moffett Music. DJ Doc Free will host the show.
URL:https://thetulsaartsdistrict.org/event/hip-hip-918-featuring-arrested-development-at-guthrie-green/
LOCATION:Guthrie Green\, 111 E Reconciliation Way\, Tulsa\, OK\, 74103\, United States
END:VEVENT
BEGIN:VEVENT
DTSTART;TZID=America/Chicago:20251024T190000
DTEND;TZID=America/Chicago:20251024T220000
DTSTAMP:20260421T071756
CREATED:20250821T204507Z
LAST-MODIFIED:20251024T134756Z
UID:97446-1761332400-1761343200@thetulsaartsdistrict.org
SUMMARY:25 Years of Parachutes: A Coldplay Tribute at Guthrie Green CANCELLED
DESCRIPTION:
URL:https://thetulsaartsdistrict.org/event/25-years-of-parachutes-a-coldplay-tribute-at-guthrie-green/
LOCATION:Guthrie Green\, 111 E Reconciliation Way\, Tulsa\, OK\, 74103\, United States
END:VEVENT
BEGIN:VEVENT
DTSTART;TZID=America/Chicago:20251022T173000
DTEND;TZID=America/Chicago:20251022T183000
DTSTAMP:20260421T071756
CREATED:20250425T193753Z
LAST-MODIFIED:20250425T193753Z
UID:91021-1761154200-1761157800@thetulsaartsdistrict.org
SUMMARY:Yoga - Fitness on the Green
DESCRIPTION:
URL:https://thetulsaartsdistrict.org/event/yoga-fitness-on-the-green-5/2025-10-22/
LOCATION:Guthrie Green\, 111 E Reconciliation Way\, Tulsa\, OK\, 74103\, United States
END:VEVENT
BEGIN:VEVENT
DTSTART;TZID=America/Chicago:20251022T110000
DTEND;TZID=America/Chicago:20251022T140000
DTSTAMP:20260421T071756
CREATED:20250821T215122Z
LAST-MODIFIED:20250821T215122Z
UID:97461-1761130800-1761141600@thetulsaartsdistrict.org
SUMMARY:Food Truck Wednesday at Guthrie Green
DESCRIPTION:
URL:https://thetulsaartsdistrict.org/event/food-truck-wednesday-at-guthrie-green-9/2025-10-22/
LOCATION:Guthrie Green\, 111 E Reconciliation Way\, Tulsa\, OK\, 74103\, United States
END:VEVENT
BEGIN:VEVENT
DTSTART;TZID=America/Chicago:20251020T173000
DTEND;TZID=America/Chicago:20251020T183000
DTSTAMP:20260421T071756
CREATED:20250425T193344Z
LAST-MODIFIED:20250425T193344Z
UID:90993-1760981400-1760985000@thetulsaartsdistrict.org
SUMMARY:Monday Zumba - Fitness on the Green
DESCRIPTION:
URL:https://thetulsaartsdistrict.org/event/monday-zumba-fitness-on-the-green-5/2025-10-20/
LOCATION:Guthrie Green\, 111 E Reconciliation Way\, Tulsa\, OK\, 74103\, United States
END:VEVENT
BEGIN:VEVENT
DTSTART;TZID=America/Chicago:20251019T190000
DTEND;TZID=America/Chicago:20251019T220000
DTSTAMP:20260421T071756
CREATED:20250322T192620Z
LAST-MODIFIED:20250322T192620Z
UID:89885-1760900400-1760911200@thetulsaartsdistrict.org
SUMMARY:Sunday Salsa on the Green
DESCRIPTION:
URL:https://thetulsaartsdistrict.org/event/sunday-salsa-on-the-green/2025-10-19/
LOCATION:Guthrie Green\, 111 E Reconciliation Way\, Tulsa\, OK\, 74103\, United States
END:VEVENT
BEGIN:VEVENT
DTSTART;TZID=America/Chicago:20251019T103000
DTEND;TZID=America/Chicago:20251019T113000
DTSTAMP:20260421T071756
CREATED:20250425T192918Z
LAST-MODIFIED:20250425T192918Z
UID:90966-1760869800-1760873400@thetulsaartsdistrict.org
SUMMARY:Zumba with Ariane - Fitness on the Green
DESCRIPTION:
URL:https://thetulsaartsdistrict.org/event/zumba-with-ariane-fitness-on-the-green-2/2025-10-19/
LOCATION:Guthrie Green\, 111 E Reconciliation Way\, Tulsa\, OK\, 74103\, United States
END:VEVENT
BEGIN:VEVENT
DTSTART;TZID=America/Chicago:20251017T190000
DTEND;TZID=America/Chicago:20251017T220000
DTSTAMP:20260421T071756
CREATED:20250923T194115Z
LAST-MODIFIED:20250923T194117Z
UID:98880-1760727600-1760738400@thetulsaartsdistrict.org
SUMMARY:"LIT: A Concert By Candlelight" Featuring Julianna Barwick & Mary Lattimore at Guthrie Green
DESCRIPTION:
URL:https://thetulsaartsdistrict.org/event/lit-a-concert-by-candlelight-featuring-julianna-barwick-mary-lattimore-at-guthrie-green/
LOCATION:Guthrie Green\, 111 E Reconciliation Way\, Tulsa\, OK\, 74103\, United States
END:VEVENT
BEGIN:VEVENT
DTSTART;TZID=America/Chicago:20251015T183000
DTEND;TZID=America/Chicago:20251015T203000
DTSTAMP:20260421T071756
CREATED:20250330T163206Z
LAST-MODIFIED:20250819T175450Z
UID:90179-1760553000-1760560200@thetulsaartsdistrict.org
SUMMARY:Inspyral Circus Flow Jam at Guthrie Green
DESCRIPTION:
URL:https://thetulsaartsdistrict.org/event/inspyral-circus-jam-at-guthrie-green/2025-10-15/
LOCATION:Guthrie Green\, 111 E Reconciliation Way\, Tulsa\, OK\, 74103\, United States
END:VEVENT
BEGIN:VEVENT
DTSTART;TZID=America/Chicago:20251015T173000
DTEND;TZID=America/Chicago:20251015T183000
DTSTAMP:20260421T071756
CREATED:20250425T193753Z
LAST-MODIFIED:20250425T193753Z
UID:91020-1760549400-1760553000@thetulsaartsdistrict.org
SUMMARY:Yoga - Fitness on the Green
DESCRIPTION:
URL:https://thetulsaartsdistrict.org/event/yoga-fitness-on-the-green-5/2025-10-15/
LOCATION:Guthrie Green\, 111 E Reconciliation Way\, Tulsa\, OK\, 74103\, United States
END:VEVENT
BEGIN:VEVENT
DTSTART;TZID=America/Chicago:20251015T110000
DTEND;TZID=America/Chicago:20251015T140000
DTSTAMP:20260421T071756
CREATED:20250821T215122Z
LAST-MODIFIED:20250821T215122Z
UID:97460-1760526000-1760536800@thetulsaartsdistrict.org
SUMMARY:Food Truck Wednesday at Guthrie Green
DESCRIPTION:
URL:https://thetulsaartsdistrict.org/event/food-truck-wednesday-at-guthrie-green-9/2025-10-15/
LOCATION:Guthrie Green\, 111 E Reconciliation Way\, Tulsa\, OK\, 74103\, United States
END:VEVENT
BEGIN:VEVENT
DTSTART;TZID=America/Chicago:20251013T173000
DTEND;TZID=America/Chicago:20251013T183000
DTSTAMP:20260421T071756
CREATED:20250425T193344Z
LAST-MODIFIED:20250425T193344Z
UID:90992-1760376600-1760380200@thetulsaartsdistrict.org
SUMMARY:Monday Zumba - Fitness on the Green
DESCRIPTION:
URL:https://thetulsaartsdistrict.org/event/monday-zumba-fitness-on-the-green-5/2025-10-13/
LOCATION:Guthrie Green\, 111 E Reconciliation Way\, Tulsa\, OK\, 74103\, United States
END:VEVENT
BEGIN:VEVENT
DTSTART;TZID=America/Chicago:20251012T103000
DTEND;TZID=America/Chicago:20251012T113000
DTSTAMP:20260421T071757
CREATED:20250425T192918Z
LAST-MODIFIED:20250425T192918Z
UID:90965-1760265000-1760268600@thetulsaartsdistrict.org
SUMMARY:Zumba with Ariane - Fitness on the Green
DESCRIPTION:
URL:https://thetulsaartsdistrict.org/event/zumba-with-ariane-fitness-on-the-green-2/2025-10-12/
LOCATION:Guthrie Green\, 111 E Reconciliation Way\, Tulsa\, OK\, 74103\, United States
END:VEVENT
BEGIN:VEVENT
DTSTART;TZID=America/Chicago:20251010T100000
DTEND;TZID=America/Chicago:20251010T110000
DTSTAMP:20260421T071757
CREATED:20251007T204037Z
LAST-MODIFIED:20251007T204039Z
UID:99576-1760090400-1760094000@thetulsaartsdistrict.org
SUMMARY:Watch The Third Hour of The Today Show Live From Guthrie Green!
DESCRIPTION:
URL:https://thetulsaartsdistrict.org/event/watch-the-third-hour-of-the-today-show-live-from-guthrie-green/
LOCATION:Guthrie Green\, 111 E Reconciliation Way\, Tulsa\, OK\, 74103\, United States
END:VEVENT
BEGIN:VEVENT
DTSTART;TZID=America/Chicago:20251006T173000
DTEND;TZID=America/Chicago:20251006T183000
DTSTAMP:20260421T071757
CREATED:20250425T193344Z
LAST-MODIFIED:20250425T193344Z
UID:90991-1759771800-1759775400@thetulsaartsdistrict.org
SUMMARY:Monday Zumba - Fitness on the Green
DESCRIPTION:
URL:https://thetulsaartsdistrict.org/event/monday-zumba-fitness-on-the-green-5/2025-10-06/
LOCATION:Guthrie Green\, 111 E Reconciliation Way\, Tulsa\, OK\, 74103\, United States
END:VEVENT
BEGIN:VEVENT
DTSTART;TZID=America/Chicago:20251005T190000
DTEND;TZID=America/Chicago:20251005T220000
DTSTAMP:20260421T071757
CREATED:20250322T192620Z
LAST-MODIFIED:20250322T192620Z
UID:89884-1759690800-1759701600@thetulsaartsdistrict.org
SUMMARY:Sunday Salsa on the Green
DESCRIPTION:
URL:https://thetulsaartsdistrict.org/event/sunday-salsa-on-the-green/2025-10-05/
LOCATION:Guthrie Green\, 111 E Reconciliation Way\, Tulsa\, OK\, 74103\, United States
END:VEVENT
BEGIN:VEVENT
DTSTART;TZID=America/Chicago:20251005T103000
DTEND;TZID=America/Chicago:20251005T113000
DTSTAMP:20260421T071757
CREATED:20250425T192918Z
LAST-MODIFIED:20250425T192918Z
UID:90964-1759660200-1759663800@thetulsaartsdistrict.org
SUMMARY:Zumba with Ariane - Fitness on the Green
DESCRIPTION:
URL:https://thetulsaartsdistrict.org/event/zumba-with-ariane-fitness-on-the-green-2/2025-10-05/
LOCATION:Guthrie Green\, 111 E Reconciliation Way\, Tulsa\, OK\, 74103\, United States
END:VEVENT
BEGIN:VEVENT
DTSTART;TZID=America/Chicago:20251004T150000
DTEND;TZID=America/Chicago:20251004T210000
DTSTAMP:20260421T071757
CREATED:20250923T195418Z
LAST-MODIFIED:20250927T175917Z
UID:98887-1759590000-1759611600@thetulsaartsdistrict.org
SUMMARY:Festival Americas at Guthrie Green
DESCRIPTION:
URL:https://thetulsaartsdistrict.org/event/festival-americas-at-guthrie-green/
LOCATION:Guthrie Green\, 111 E Reconciliation Way\, Tulsa\, OK\, 74103\, United States
END:VEVENT
BEGIN:VEVENT
DTSTART;TZID=America/Chicago:20251003T180000
DTEND;TZID=America/Chicago:20251003T210000
DTSTAMP:20260421T071757
CREATED:20250923T193642Z
LAST-MODIFIED:20250923T193644Z
UID:98876-1759514400-1759525200@thetulsaartsdistrict.org
SUMMARY:First Friday Art Crawl at Guthrie Green
DESCRIPTION: Enjoy live music by folk country singer Joleen Brown\, and folk\, jazz\, and modern eclectic tunes by Micaela Young. Plus\, shop our art market featuring over 25 local vendors. \n\n\n\n6 p.m. – Joleen Brown8 p.m. – Micaela Young
URL:https://thetulsaartsdistrict.org/event/first-friday-art-crawl-at-guthrie-green-2/
LOCATION:Guthrie Green\, 111 E Reconciliation Way\, Tulsa\, OK\, 74103\, United States
END:VEVENT
BEGIN:VEVENT
DTSTART;TZID=America/Chicago:20251001T183000
DTEND;TZID=America/Chicago:20251001T203000
DTSTAMP:20260421T071757
CREATED:20250330T163206Z
LAST-MODIFIED:20250819T175449Z
UID:90178-1759343400-1759350600@thetulsaartsdistrict.org
SUMMARY:Inspyral Circus Flow Jam at Guthrie Green
DESCRIPTION:
URL:https://thetulsaartsdistrict.org/event/inspyral-circus-jam-at-guthrie-green/2025-10-01/
LOCATION:Guthrie Green\, 111 E Reconciliation Way\, Tulsa\, OK\, 74103\, United States
END:VEVENT
BEGIN:VEVENT
DTSTART;TZID=America/Chicago:20251001T173000
DTEND;TZID=America/Chicago:20251001T183000
DTSTAMP:20260421T071757
CREATED:20250425T193753Z
LAST-MODIFIED:20250425T193753Z
UID:91018-1759339800-1759343400@thetulsaartsdistrict.org
SUMMARY:Yoga - Fitness on the Green
DESCRIPTION:
URL:https://thetulsaartsdistrict.org/event/yoga-fitness-on-the-green-5/2025-10-01/
LOCATION:Guthrie Green\, 111 E Reconciliation Way\, Tulsa\, OK\, 74103\, United States
END:VEVENT
BEGIN:VEVENT
DTSTART;TZID=America/Chicago:20251001T110000
DTEND;TZID=America/Chicago:20251001T140000
DTSTAMP:20260421T071757
CREATED:20250821T215122Z
LAST-MODIFIED:20250821T215122Z
UID:97458-1759316400-1759327200@thetulsaartsdistrict.org
SUMMARY:Food Truck Wednesday at Guthrie Green
DESCRIPTION:
URL:https://thetulsaartsdistrict.org/event/food-truck-wednesday-at-guthrie-green-9/2025-10-01/
LOCATION:Guthrie Green\, 111 E Reconciliation Way\, Tulsa\, OK\, 74103\, United States
END:VEVENT
BEGIN:VEVENT
DTSTART;TZID=America/Chicago:20250929T173000
DTEND;TZID=America/Chicago:20250929T183000
DTSTAMP:20260421T071757
CREATED:20250425T193344Z
LAST-MODIFIED:20250425T193344Z
UID:90990-1759167000-1759170600@thetulsaartsdistrict.org
SUMMARY:Monday Zumba - Fitness on the Green
DESCRIPTION:
URL:https://thetulsaartsdistrict.org/event/monday-zumba-fitness-on-the-green-5/2025-09-29/
LOCATION:Guthrie Green\, 111 E Reconciliation Way\, Tulsa\, OK\, 74103\, United States
END:VEVENT
END:VCALENDAR