BEGIN:VCALENDAR
VERSION:2.0
PRODID:-//Tulsa Arts District - ECPv6.15.20//NONSGML v1.0//EN
CALSCALE:GREGORIAN
METHOD:PUBLISH
X-ORIGINAL-URL:https://thetulsaartsdistrict.org
X-WR-CALDESC:Events for Tulsa Arts District
REFRESH-INTERVAL;VALUE=DURATION:PT1H
X-Robots-Tag:noindex
X-PUBLISHED-TTL:PT1H
BEGIN:VTIMEZONE
TZID:America/Chicago
BEGIN:DAYLIGHT
TZOFFSETFROM:-0600
TZOFFSETTO:-0500
TZNAME:CDT
DTSTART:20240310T080000
END:DAYLIGHT
BEGIN:STANDARD
TZOFFSETFROM:-0500
TZOFFSETTO:-0600
TZNAME:CST
DTSTART:20241103T070000
END:STANDARD
BEGIN:DAYLIGHT
TZOFFSETFROM:-0600
TZOFFSETTO:-0500
TZNAME:CDT
DTSTART:20250309T080000
END:DAYLIGHT
BEGIN:STANDARD
TZOFFSETFROM:-0500
TZOFFSETTO:-0600
TZNAME:CST
DTSTART:20251102T070000
END:STANDARD
BEGIN:DAYLIGHT
TZOFFSETFROM:-0600
TZOFFSETTO:-0500
TZNAME:CDT
DTSTART:20260308T080000
END:DAYLIGHT
BEGIN:STANDARD
TZOFFSETFROM:-0500
TZOFFSETTO:-0600
TZNAME:CST
DTSTART:20261101T070000
END:STANDARD
BEGIN:DAYLIGHT
TZOFFSETFROM:-0600
TZOFFSETTO:-0500
TZNAME:CDT
DTSTART:20270314T080000
END:DAYLIGHT
BEGIN:STANDARD
TZOFFSETFROM:-0500
TZOFFSETTO:-0600
TZNAME:CST
DTSTART:20271107T070000
END:STANDARD
END:VTIMEZONE
BEGIN:VEVENT
DTSTART;TZID=America/Chicago:20260211T120000
DTEND;TZID=America/Chicago:20260211T170000
DTSTAMP:20260423T132951
CREATED:20251217T214556Z
LAST-MODIFIED:20260205T232626Z
UID:101690-1770811200-1770829200@thetulsaartsdistrict.org
SUMMARY:“American Myth” curated by students at the University of Tulsa + "Faces of the Mother Road: The Lost Portraits of S.J. Tyler" presented by Adam Forgash - Oklahoma Center for the Humanities - Free Admission
DESCRIPTION:
URL:https://thetulsaartsdistrict.org/event/faces-of-the-mother-road-the-lost-portraits-of-s-j-tyler-at-oklahoma-center-for-the-humanities-free-admission-2026-01-03-2026-02-07/2026-02-11/
LOCATION:Oklahoma Center for the Humanities – 101 E Archer\, 101 E Archer St\, Tulsa\, OK\, 74103
END:VEVENT
BEGIN:VEVENT
DTSTART;TZID=America/Chicago:20260207T120000
DTEND;TZID=America/Chicago:20260207T170000
DTSTAMP:20260423T132951
CREATED:20251217T214556Z
LAST-MODIFIED:20260205T232625Z
UID:101689-1770465600-1770483600@thetulsaartsdistrict.org
SUMMARY:“American Myth” curated by students at the University of Tulsa + "Faces of the Mother Road: The Lost Portraits of S.J. Tyler" presented by Adam Forgash - Oklahoma Center for the Humanities - Free Admission
DESCRIPTION:
URL:https://thetulsaartsdistrict.org/event/faces-of-the-mother-road-the-lost-portraits-of-s-j-tyler-at-oklahoma-center-for-the-humanities-free-admission-2026-01-03-2026-02-07/2026-02-07/
LOCATION:Oklahoma Center for the Humanities – 101 E Archer\, 101 E Archer St\, Tulsa\, OK\, 74103
END:VEVENT
BEGIN:VEVENT
DTSTART;TZID=America/Chicago:20260206T180000
DTEND;TZID=America/Chicago:20260206T210000
DTSTAMP:20260423T132951
CREATED:20251217T214556Z
LAST-MODIFIED:20260205T231910Z
UID:101688-1770400800-1770411600@thetulsaartsdistrict.org
SUMMARY:“American Myth” curated by students at the University of Tulsa + "Faces of the Mother Road: The Lost Portraits of S.J. Tyler" presented by Adam Forgash - Oklahoma Center for the Humanities + music by Steve Liddell - Free Admission
DESCRIPTION:
URL:https://thetulsaartsdistrict.org/event/faces-of-the-mother-road-the-lost-portraits-of-s-j-tyler-at-oklahoma-center-for-the-humanities-free-admission-2026-01-03-2026-02-06/
LOCATION:Oklahoma Center for the Humanities – 101 E Archer\, 101 E Archer St\, Tulsa\, OK\, 74103
END:VEVENT
BEGIN:VEVENT
DTSTART;TZID=America/Chicago:20260204T120000
DTEND;TZID=America/Chicago:20260204T170000
DTSTAMP:20260423T132951
CREATED:20251217T214556Z
LAST-MODIFIED:20260123T224643Z
UID:101686-1770206400-1770224400@thetulsaartsdistrict.org
SUMMARY:"Faces of the Mother Road: The Lost Portraits of S.J. Tyler." + “Art About Town” at Oklahoma Center for the Humanities - Free Admission
DESCRIPTION:
URL:https://thetulsaartsdistrict.org/event/faces-of-the-mother-road-the-lost-portraits-of-s-j-tyler-at-oklahoma-center-for-the-humanities-free-admission-2026-01-03/2026-02-04/
LOCATION:Oklahoma Center for the Humanities – 101 E Archer\, 101 E Archer St\, Tulsa\, OK\, 74103
END:VEVENT
BEGIN:VEVENT
DTSTART;TZID=America/Chicago:20260131T120000
DTEND;TZID=America/Chicago:20260131T170000
DTSTAMP:20260423T132951
CREATED:20251217T214556Z
LAST-MODIFIED:20260123T224643Z
UID:101685-1769860800-1769878800@thetulsaartsdistrict.org
SUMMARY:"Faces of the Mother Road: The Lost Portraits of S.J. Tyler." + “Art About Town” at Oklahoma Center for the Humanities - Free Admission
DESCRIPTION:
URL:https://thetulsaartsdistrict.org/event/faces-of-the-mother-road-the-lost-portraits-of-s-j-tyler-at-oklahoma-center-for-the-humanities-free-admission-2026-01-03/2026-01-31/
LOCATION:Oklahoma Center for the Humanities – 101 E Archer\, 101 E Archer St\, Tulsa\, OK\, 74103
END:VEVENT
BEGIN:VEVENT
DTSTART;TZID=America/Chicago:20260130T120000
DTEND;TZID=America/Chicago:20260130T170000
DTSTAMP:20260423T132951
CREATED:20251217T214556Z
LAST-MODIFIED:20260123T224642Z
UID:101684-1769774400-1769792400@thetulsaartsdistrict.org
SUMMARY:"Faces of the Mother Road: The Lost Portraits of S.J. Tyler." + “Art About Town” at Oklahoma Center for the Humanities - Free Admission
DESCRIPTION:
URL:https://thetulsaartsdistrict.org/event/faces-of-the-mother-road-the-lost-portraits-of-s-j-tyler-at-oklahoma-center-for-the-humanities-free-admission-2026-01-03/2026-01-30/
LOCATION:Oklahoma Center for the Humanities – 101 E Archer\, 101 E Archer St\, Tulsa\, OK\, 74103
END:VEVENT
BEGIN:VEVENT
DTSTART;TZID=America/Chicago:20260129T120000
DTEND;TZID=America/Chicago:20260129T170000
DTSTAMP:20260423T132951
CREATED:20251217T214556Z
LAST-MODIFIED:20260123T224641Z
UID:101683-1769688000-1769706000@thetulsaartsdistrict.org
SUMMARY:"Faces of the Mother Road: The Lost Portraits of S.J. Tyler." + “Art About Town” at Oklahoma Center for the Humanities - Free Admission
DESCRIPTION:
URL:https://thetulsaartsdistrict.org/event/faces-of-the-mother-road-the-lost-portraits-of-s-j-tyler-at-oklahoma-center-for-the-humanities-free-admission-2026-01-03/2026-01-29/
LOCATION:Oklahoma Center for the Humanities – 101 E Archer\, 101 E Archer St\, Tulsa\, OK\, 74103
END:VEVENT
BEGIN:VEVENT
DTSTART;TZID=America/Chicago:20260128T120000
DTEND;TZID=America/Chicago:20260128T170000
DTSTAMP:20260423T132951
CREATED:20251217T214556Z
LAST-MODIFIED:20260123T224641Z
UID:101682-1769601600-1769619600@thetulsaartsdistrict.org
SUMMARY:"Faces of the Mother Road: The Lost Portraits of S.J. Tyler." + “Art About Town” at Oklahoma Center for the Humanities - Free Admission
DESCRIPTION:
URL:https://thetulsaartsdistrict.org/event/faces-of-the-mother-road-the-lost-portraits-of-s-j-tyler-at-oklahoma-center-for-the-humanities-free-admission-2026-01-03/2026-01-28/
LOCATION:Oklahoma Center for the Humanities – 101 E Archer\, 101 E Archer St\, Tulsa\, OK\, 74103
END:VEVENT
BEGIN:VEVENT
DTSTART;TZID=America/Chicago:20260123T120000
DTEND;TZID=America/Chicago:20260123T170000
DTSTAMP:20260423T132951
CREATED:20251217T214556Z
LAST-MODIFIED:20260123T224640Z
UID:101680-1769169600-1769187600@thetulsaartsdistrict.org
SUMMARY:"Faces of the Mother Road: The Lost Portraits of S.J. Tyler." + “Art About Town” at Oklahoma Center for the Humanities - Free Admission
DESCRIPTION:
URL:https://thetulsaartsdistrict.org/event/faces-of-the-mother-road-the-lost-portraits-of-s-j-tyler-at-oklahoma-center-for-the-humanities-free-admission-2026-01-03/2026-01-23/
LOCATION:Oklahoma Center for the Humanities – 101 E Archer\, 101 E Archer St\, Tulsa\, OK\, 74103
END:VEVENT
BEGIN:VEVENT
DTSTART;TZID=America/Chicago:20260122T120000
DTEND;TZID=America/Chicago:20260122T170000
DTSTAMP:20260423T132951
CREATED:20251217T214556Z
LAST-MODIFIED:20260123T224639Z
UID:101679-1769083200-1769101200@thetulsaartsdistrict.org
SUMMARY:"Faces of the Mother Road: The Lost Portraits of S.J. Tyler." + “Art About Town” at Oklahoma Center for the Humanities - Free Admission
DESCRIPTION:
URL:https://thetulsaartsdistrict.org/event/faces-of-the-mother-road-the-lost-portraits-of-s-j-tyler-at-oklahoma-center-for-the-humanities-free-admission-2026-01-03/2026-01-22/
LOCATION:Oklahoma Center for the Humanities – 101 E Archer\, 101 E Archer St\, Tulsa\, OK\, 74103
END:VEVENT
BEGIN:VEVENT
DTSTART;TZID=America/Chicago:20260121T120000
DTEND;TZID=America/Chicago:20260121T170000
DTSTAMP:20260423T132951
CREATED:20251217T214556Z
LAST-MODIFIED:20260123T224635Z
UID:101678-1768996800-1769014800@thetulsaartsdistrict.org
SUMMARY:"Faces of the Mother Road: The Lost Portraits of S.J. Tyler." + “Art About Town” at Oklahoma Center for the Humanities - Free Admission
DESCRIPTION:
URL:https://thetulsaartsdistrict.org/event/faces-of-the-mother-road-the-lost-portraits-of-s-j-tyler-at-oklahoma-center-for-the-humanities-free-admission-2026-01-03/2026-01-21/
LOCATION:Oklahoma Center for the Humanities – 101 E Archer\, 101 E Archer St\, Tulsa\, OK\, 74103
END:VEVENT
BEGIN:VEVENT
DTSTART;TZID=America/Chicago:20260117T120000
DTEND;TZID=America/Chicago:20260117T170000
DTSTAMP:20260423T132951
CREATED:20251217T214556Z
LAST-MODIFIED:20260123T224635Z
UID:101677-1768651200-1768669200@thetulsaartsdistrict.org
SUMMARY:"Faces of the Mother Road: The Lost Portraits of S.J. Tyler." + “Art About Town” at Oklahoma Center for the Humanities - Free Admission
DESCRIPTION:
URL:https://thetulsaartsdistrict.org/event/faces-of-the-mother-road-the-lost-portraits-of-s-j-tyler-at-oklahoma-center-for-the-humanities-free-admission-2026-01-03/2026-01-17/
LOCATION:Oklahoma Center for the Humanities – 101 E Archer\, 101 E Archer St\, Tulsa\, OK\, 74103
END:VEVENT
BEGIN:VEVENT
DTSTART;TZID=America/Chicago:20260116T120000
DTEND;TZID=America/Chicago:20260116T170000
DTSTAMP:20260423T132951
CREATED:20251217T214556Z
LAST-MODIFIED:20260123T224634Z
UID:101676-1768564800-1768582800@thetulsaartsdistrict.org
SUMMARY:"Faces of the Mother Road: The Lost Portraits of S.J. Tyler." + “Art About Town” at Oklahoma Center for the Humanities - Free Admission
DESCRIPTION:
URL:https://thetulsaartsdistrict.org/event/faces-of-the-mother-road-the-lost-portraits-of-s-j-tyler-at-oklahoma-center-for-the-humanities-free-admission-2026-01-03/2026-01-16/
LOCATION:Oklahoma Center for the Humanities – 101 E Archer\, 101 E Archer St\, Tulsa\, OK\, 74103
END:VEVENT
BEGIN:VEVENT
DTSTART;TZID=America/Chicago:20260115T120000
DTEND;TZID=America/Chicago:20260115T170000
DTSTAMP:20260423T132951
CREATED:20251217T214556Z
LAST-MODIFIED:20260123T224633Z
UID:101675-1768478400-1768496400@thetulsaartsdistrict.org
SUMMARY:"Faces of the Mother Road: The Lost Portraits of S.J. Tyler." + “Art About Town” at Oklahoma Center for the Humanities - Free Admission
DESCRIPTION:
URL:https://thetulsaartsdistrict.org/event/faces-of-the-mother-road-the-lost-portraits-of-s-j-tyler-at-oklahoma-center-for-the-humanities-free-admission-2026-01-03/2026-01-15/
LOCATION:Oklahoma Center for the Humanities – 101 E Archer\, 101 E Archer St\, Tulsa\, OK\, 74103
END:VEVENT
BEGIN:VEVENT
DTSTART;TZID=America/Chicago:20260114T120000
DTEND;TZID=America/Chicago:20260114T170000
DTSTAMP:20260423T132951
CREATED:20251217T214556Z
LAST-MODIFIED:20260123T224633Z
UID:101674-1768392000-1768410000@thetulsaartsdistrict.org
SUMMARY:"Faces of the Mother Road: The Lost Portraits of S.J. Tyler." + “Art About Town” at Oklahoma Center for the Humanities - Free Admission
DESCRIPTION:
URL:https://thetulsaartsdistrict.org/event/faces-of-the-mother-road-the-lost-portraits-of-s-j-tyler-at-oklahoma-center-for-the-humanities-free-admission-2026-01-03/2026-01-14/
LOCATION:Oklahoma Center for the Humanities – 101 E Archer\, 101 E Archer St\, Tulsa\, OK\, 74103
END:VEVENT
BEGIN:VEVENT
DTSTART;TZID=America/Chicago:20260110T120000
DTEND;TZID=America/Chicago:20260110T170000
DTSTAMP:20260423T132951
CREATED:20251217T214556Z
LAST-MODIFIED:20260123T224632Z
UID:101673-1768046400-1768064400@thetulsaartsdistrict.org
SUMMARY:"Faces of the Mother Road: The Lost Portraits of S.J. Tyler." + “Art About Town” at Oklahoma Center for the Humanities - Free Admission
DESCRIPTION:
URL:https://thetulsaartsdistrict.org/event/faces-of-the-mother-road-the-lost-portraits-of-s-j-tyler-at-oklahoma-center-for-the-humanities-free-admission-2026-01-03/2026-01-10/
LOCATION:Oklahoma Center for the Humanities – 101 E Archer\, 101 E Archer St\, Tulsa\, OK\, 74103
END:VEVENT
BEGIN:VEVENT
DTSTART;TZID=America/Chicago:20260109T120000
DTEND;TZID=America/Chicago:20260109T170000
DTSTAMP:20260423T132951
CREATED:20251217T214556Z
LAST-MODIFIED:20260123T224631Z
UID:101672-1767960000-1767978000@thetulsaartsdistrict.org
SUMMARY:"Faces of the Mother Road: The Lost Portraits of S.J. Tyler." + “Art About Town” at Oklahoma Center for the Humanities - Free Admission
DESCRIPTION:
URL:https://thetulsaartsdistrict.org/event/faces-of-the-mother-road-the-lost-portraits-of-s-j-tyler-at-oklahoma-center-for-the-humanities-free-admission-2026-01-03/2026-01-09/
LOCATION:Oklahoma Center for the Humanities – 101 E Archer\, 101 E Archer St\, Tulsa\, OK\, 74103
END:VEVENT
BEGIN:VEVENT
DTSTART;TZID=America/Chicago:20260108T120000
DTEND;TZID=America/Chicago:20260108T170000
DTSTAMP:20260423T132951
CREATED:20251217T214556Z
LAST-MODIFIED:20260123T224631Z
UID:101671-1767873600-1767891600@thetulsaartsdistrict.org
SUMMARY:"Faces of the Mother Road: The Lost Portraits of S.J. Tyler." + “Art About Town” at Oklahoma Center for the Humanities - Free Admission
DESCRIPTION:
URL:https://thetulsaartsdistrict.org/event/faces-of-the-mother-road-the-lost-portraits-of-s-j-tyler-at-oklahoma-center-for-the-humanities-free-admission-2026-01-03/2026-01-08/
LOCATION:Oklahoma Center for the Humanities – 101 E Archer\, 101 E Archer St\, Tulsa\, OK\, 74103
END:VEVENT
BEGIN:VEVENT
DTSTART;TZID=America/Chicago:20260107T120000
DTEND;TZID=America/Chicago:20260107T170000
DTSTAMP:20260423T132951
CREATED:20251217T214556Z
LAST-MODIFIED:20260123T224630Z
UID:101670-1767787200-1767805200@thetulsaartsdistrict.org
SUMMARY:"Faces of the Mother Road: The Lost Portraits of S.J. Tyler." + “Art About Town” at Oklahoma Center for the Humanities - Free Admission
DESCRIPTION:
URL:https://thetulsaartsdistrict.org/event/faces-of-the-mother-road-the-lost-portraits-of-s-j-tyler-at-oklahoma-center-for-the-humanities-free-admission-2026-01-03/2026-01-07/
LOCATION:Oklahoma Center for the Humanities – 101 E Archer\, 101 E Archer St\, Tulsa\, OK\, 74103
END:VEVENT
BEGIN:VEVENT
DTSTART;TZID=America/Chicago:20260103T120000
DTEND;TZID=America/Chicago:20260103T170000
DTSTAMP:20260423T132951
CREATED:20251217T214556Z
LAST-MODIFIED:20260123T224627Z
UID:101669-1767441600-1767459600@thetulsaartsdistrict.org
SUMMARY:"Faces of the Mother Road: The Lost Portraits of S.J. Tyler." + “Art About Town” at Oklahoma Center for the Humanities - Free Admission
DESCRIPTION:
URL:https://thetulsaartsdistrict.org/event/faces-of-the-mother-road-the-lost-portraits-of-s-j-tyler-at-oklahoma-center-for-the-humanities-free-admission-2026-01-03/2026-01-03/
LOCATION:Oklahoma Center for the Humanities – 101 E Archer\, 101 E Archer St\, Tulsa\, OK\, 74103
END:VEVENT
BEGIN:VEVENT
DTSTART;TZID=America/Chicago:20260102T180000
DTEND;TZID=America/Chicago:20260102T210000
DTSTAMP:20260423T132951
CREATED:20251217T214556Z
LAST-MODIFIED:20251218T002756Z
UID:101666-1767376800-1767387600@thetulsaartsdistrict.org
SUMMARY:OPENING: "Faces of the Mother Road: The Lost Portraits of S.J. Tyler." at Oklahoma Center for the Humanities with music by Mark Gibson and Tulsa Opera - Free Admission
DESCRIPTION:
URL:https://thetulsaartsdistrict.org/event/faces-of-the-mother-road-the-lost-portraits-of-s-j-tyler-at-oklahoma-center-for-the-humanities-free-admission/
LOCATION:Oklahoma Center for the Humanities – 101 E Archer\, 101 E Archer St\, Tulsa\, OK\, 74103
END:VEVENT
BEGIN:VEVENT
DTSTART;TZID=America/Chicago:20251213T120000
DTEND;TZID=America/Chicago:20251213T170000
DTSTAMP:20260423T132951
CREATED:20250924T172847Z
LAST-MODIFIED:20250924T172847Z
UID:99040-1765627200-1765645200@thetulsaartsdistrict.org
SUMMARY:“Art About Town” presented by the Alpha Rho Tau Civic Association + “Margaret Roach Wheeler: A Retrospective" at Oklahoma Center for the Humanities
DESCRIPTION:
URL:https://thetulsaartsdistrict.org/event/art-about-town-presented-by-the-alpha-rho-tau-civic-association-margaret-roach-wheeler-a-retrospective-at-oklahoma-center-for-the-humanities-2025-10-04/2025-12-13/
LOCATION:Oklahoma Center for the Humanities – 101 E Archer\, 101 E Archer St\, Tulsa\, OK\, 74103
END:VEVENT
BEGIN:VEVENT
DTSTART;TZID=America/Chicago:20251212T120000
DTEND;TZID=America/Chicago:20251212T170000
DTSTAMP:20260423T132951
CREATED:20250924T172847Z
LAST-MODIFIED:20250924T172847Z
UID:99039-1765540800-1765558800@thetulsaartsdistrict.org
SUMMARY:“Art About Town” presented by the Alpha Rho Tau Civic Association + “Margaret Roach Wheeler: A Retrospective" at Oklahoma Center for the Humanities
DESCRIPTION:
URL:https://thetulsaartsdistrict.org/event/art-about-town-presented-by-the-alpha-rho-tau-civic-association-margaret-roach-wheeler-a-retrospective-at-oklahoma-center-for-the-humanities-2025-10-04/2025-12-12/
LOCATION:Oklahoma Center for the Humanities – 101 E Archer\, 101 E Archer St\, Tulsa\, OK\, 74103
END:VEVENT
BEGIN:VEVENT
DTSTART;TZID=America/Chicago:20251211T120000
DTEND;TZID=America/Chicago:20251211T170000
DTSTAMP:20260423T132951
CREATED:20250924T172847Z
LAST-MODIFIED:20250924T172847Z
UID:99038-1765454400-1765472400@thetulsaartsdistrict.org
SUMMARY:“Art About Town” presented by the Alpha Rho Tau Civic Association + “Margaret Roach Wheeler: A Retrospective" at Oklahoma Center for the Humanities
DESCRIPTION:
URL:https://thetulsaartsdistrict.org/event/art-about-town-presented-by-the-alpha-rho-tau-civic-association-margaret-roach-wheeler-a-retrospective-at-oklahoma-center-for-the-humanities-2025-10-04/2025-12-11/
LOCATION:Oklahoma Center for the Humanities – 101 E Archer\, 101 E Archer St\, Tulsa\, OK\, 74103
END:VEVENT
BEGIN:VEVENT
DTSTART;TZID=America/Chicago:20251210T120000
DTEND;TZID=America/Chicago:20251210T170000
DTSTAMP:20260423T132951
CREATED:20250924T172847Z
LAST-MODIFIED:20250924T172847Z
UID:99037-1765368000-1765386000@thetulsaartsdistrict.org
SUMMARY:“Art About Town” presented by the Alpha Rho Tau Civic Association + “Margaret Roach Wheeler: A Retrospective" at Oklahoma Center for the Humanities
DESCRIPTION:
URL:https://thetulsaartsdistrict.org/event/art-about-town-presented-by-the-alpha-rho-tau-civic-association-margaret-roach-wheeler-a-retrospective-at-oklahoma-center-for-the-humanities-2025-10-04/2025-12-10/
LOCATION:Oklahoma Center for the Humanities – 101 E Archer\, 101 E Archer St\, Tulsa\, OK\, 74103
END:VEVENT
BEGIN:VEVENT
DTSTART;TZID=America/Chicago:20251206T120000
DTEND;TZID=America/Chicago:20251206T170000
DTSTAMP:20260423T132951
CREATED:20250924T172847Z
LAST-MODIFIED:20250924T172847Z
UID:99036-1765022400-1765040400@thetulsaartsdistrict.org
SUMMARY:“Art About Town” presented by the Alpha Rho Tau Civic Association + “Margaret Roach Wheeler: A Retrospective" at Oklahoma Center for the Humanities
DESCRIPTION:
URL:https://thetulsaartsdistrict.org/event/art-about-town-presented-by-the-alpha-rho-tau-civic-association-margaret-roach-wheeler-a-retrospective-at-oklahoma-center-for-the-humanities-2025-10-04/2025-12-06/
LOCATION:Oklahoma Center for the Humanities – 101 E Archer\, 101 E Archer St\, Tulsa\, OK\, 74103
END:VEVENT
BEGIN:VEVENT
DTSTART;TZID=America/Chicago:20251205T120000
DTEND;TZID=America/Chicago:20251205T210000
DTSTAMP:20260423T132951
CREATED:20250924T172847Z
LAST-MODIFIED:20251124T172947Z
UID:99035-1764936000-1764968400@thetulsaartsdistrict.org
SUMMARY:“Art About Town” presented by the Alpha Rho Tau Civic Association + “Margaret Roach Wheeler: A Retrospective" at Oklahoma Center for the Humanities with Music by Benny Reeves 6-9 pm
DESCRIPTION:
URL:https://thetulsaartsdistrict.org/event/art-about-town-presented-by-the-alpha-rho-tau-civic-association-margaret-roach-wheeler-a-retrospective-at-oklahoma-center-for-the-humanities-2025-10-04-2025-12-05/
LOCATION:Oklahoma Center for the Humanities – 101 E Archer\, 101 E Archer St\, Tulsa\, OK\, 74103
END:VEVENT
BEGIN:VEVENT
DTSTART;TZID=America/Chicago:20251204T120000
DTEND;TZID=America/Chicago:20251204T170000
DTSTAMP:20260423T132951
CREATED:20250924T172847Z
LAST-MODIFIED:20250924T172847Z
UID:99034-1764849600-1764867600@thetulsaartsdistrict.org
SUMMARY:“Art About Town” presented by the Alpha Rho Tau Civic Association + “Margaret Roach Wheeler: A Retrospective" at Oklahoma Center for the Humanities
DESCRIPTION:
URL:https://thetulsaartsdistrict.org/event/art-about-town-presented-by-the-alpha-rho-tau-civic-association-margaret-roach-wheeler-a-retrospective-at-oklahoma-center-for-the-humanities-2025-10-04/2025-12-04/
LOCATION:Oklahoma Center for the Humanities – 101 E Archer\, 101 E Archer St\, Tulsa\, OK\, 74103
END:VEVENT
BEGIN:VEVENT
DTSTART;TZID=America/Chicago:20251203T120000
DTEND;TZID=America/Chicago:20251203T170000
DTSTAMP:20260423T132951
CREATED:20250924T172847Z
LAST-MODIFIED:20250924T172847Z
UID:99033-1764763200-1764781200@thetulsaartsdistrict.org
SUMMARY:“Art About Town” presented by the Alpha Rho Tau Civic Association + “Margaret Roach Wheeler: A Retrospective" at Oklahoma Center for the Humanities
DESCRIPTION:
URL:https://thetulsaartsdistrict.org/event/art-about-town-presented-by-the-alpha-rho-tau-civic-association-margaret-roach-wheeler-a-retrospective-at-oklahoma-center-for-the-humanities-2025-10-04/2025-12-03/
LOCATION:Oklahoma Center for the Humanities – 101 E Archer\, 101 E Archer St\, Tulsa\, OK\, 74103
END:VEVENT
BEGIN:VEVENT
DTSTART;TZID=America/Chicago:20251201T190000
DTEND;TZID=America/Chicago:20251201T200000
DTSTAMP:20260423T132951
CREATED:20251123T144018Z
LAST-MODIFIED:20251123T144021Z
UID:100874-1764615600-1764619200@thetulsaartsdistrict.org
SUMMARY:Oklahoma Center for the Humanities hosts a special event with Joy Harjo to celebrate the publication of her latest book\, Girl Warrior\, 
DESCRIPTION:Bob Dylan Center\, Magic City Books\, Tulsa Artist Fellowship\, and The University of Tulsa’s Oklahoma Center for the Humanities are proud to present a special event with Joy Harjo to celebrate the publication of her latest book\, Girl Warrior\, 
URL:https://thetulsaartsdistrict.org/event/oklahoma-center-for-the-humanities-hosts-a-special-event-with-joy-harjo-to-celebrate-the-publication-of-her-latest-book-girl-warrior/
LOCATION:Oklahoma Center for the Humanities – 101 E Archer\, 101 E Archer St\, Tulsa\, OK\, 74103
END:VEVENT
END:VCALENDAR