BEGIN:VCALENDAR
VERSION:2.0
PRODID:-//Tulsa Arts District - ECPv6.15.20//NONSGML v1.0//EN
CALSCALE:GREGORIAN
METHOD:PUBLISH
X-WR-CALNAME:Tulsa Arts District
X-ORIGINAL-URL:https://thetulsaartsdistrict.org
X-WR-CALDESC:Events for Tulsa Arts District
REFRESH-INTERVAL;VALUE=DURATION:PT1H
X-Robots-Tag:noindex
X-PUBLISHED-TTL:PT1H
BEGIN:VTIMEZONE
TZID:America/Chicago
BEGIN:DAYLIGHT
TZOFFSETFROM:-0600
TZOFFSETTO:-0500
TZNAME:CDT
DTSTART:20250309T080000
END:DAYLIGHT
BEGIN:STANDARD
TZOFFSETFROM:-0500
TZOFFSETTO:-0600
TZNAME:CST
DTSTART:20251102T070000
END:STANDARD
BEGIN:DAYLIGHT
TZOFFSETFROM:-0600
TZOFFSETTO:-0500
TZNAME:CDT
DTSTART:20260308T080000
END:DAYLIGHT
BEGIN:STANDARD
TZOFFSETFROM:-0500
TZOFFSETTO:-0600
TZNAME:CST
DTSTART:20261101T070000
END:STANDARD
BEGIN:DAYLIGHT
TZOFFSETFROM:-0600
TZOFFSETTO:-0500
TZNAME:CDT
DTSTART:20270314T080000
END:DAYLIGHT
BEGIN:STANDARD
TZOFFSETFROM:-0500
TZOFFSETTO:-0600
TZNAME:CST
DTSTART:20271107T070000
END:STANDARD
END:VTIMEZONE
BEGIN:VEVENT
DTSTART;TZID=America/Chicago:20260708T163000
DTEND;TZID=America/Chicago:20260708T193000
DTSTAMP:20260423T065312
CREATED:20260415T205556Z
LAST-MODIFIED:20260415T210121Z
UID:118269-1783528200-1783539000@thetulsaartsdistrict.org
SUMMARY:Midweek Market at Santa Fe Square!
DESCRIPTION:
URL:https://thetulsaartsdistrict.org/event/midweek-market-at-santa-fe-square/2026-07-08/
LOCATION:Sante Fe Square\, 415 E 2nd St\, Tulsa\, Oklahoma\, United States
END:VEVENT
BEGIN:VEVENT
DTSTART;TZID=America/Chicago:20260715T163000
DTEND;TZID=America/Chicago:20260715T193000
DTSTAMP:20260423T065312
CREATED:20260415T205556Z
LAST-MODIFIED:20260415T210122Z
UID:118270-1784133000-1784143800@thetulsaartsdistrict.org
SUMMARY:Midweek Market at Santa Fe Square!
DESCRIPTION:
URL:https://thetulsaartsdistrict.org/event/midweek-market-at-santa-fe-square/2026-07-15/
LOCATION:Sante Fe Square\, 415 E 2nd St\, Tulsa\, Oklahoma\, United States
END:VEVENT
BEGIN:VEVENT
DTSTART;TZID=America/Chicago:20260722T163000
DTEND;TZID=America/Chicago:20260722T193000
DTSTAMP:20260423T065312
CREATED:20260415T205556Z
LAST-MODIFIED:20260415T210122Z
UID:118271-1784737800-1784748600@thetulsaartsdistrict.org
SUMMARY:Midweek Market at Santa Fe Square!
DESCRIPTION:
URL:https://thetulsaartsdistrict.org/event/midweek-market-at-santa-fe-square/2026-07-22/
LOCATION:Sante Fe Square\, 415 E 2nd St\, Tulsa\, Oklahoma\, United States
END:VEVENT
BEGIN:VEVENT
DTSTART;TZID=America/Chicago:20260729T163000
DTEND;TZID=America/Chicago:20260729T193000
DTSTAMP:20260423T065312
CREATED:20260415T205556Z
LAST-MODIFIED:20260415T210123Z
UID:118272-1785342600-1785353400@thetulsaartsdistrict.org
SUMMARY:Midweek Market at Santa Fe Square!
DESCRIPTION:
URL:https://thetulsaartsdistrict.org/event/midweek-market-at-santa-fe-square/2026-07-29/
LOCATION:Sante Fe Square\, 415 E 2nd St\, Tulsa\, Oklahoma\, United States
END:VEVENT
BEGIN:VEVENT
DTSTART;TZID=America/Chicago:20260805T163000
DTEND;TZID=America/Chicago:20260805T193000
DTSTAMP:20260423T065312
CREATED:20260415T205556Z
LAST-MODIFIED:20260415T210123Z
UID:118273-1785947400-1785958200@thetulsaartsdistrict.org
SUMMARY:Midweek Market at Santa Fe Square!
DESCRIPTION:
URL:https://thetulsaartsdistrict.org/event/midweek-market-at-santa-fe-square/2026-08-05/
LOCATION:Sante Fe Square\, 415 E 2nd St\, Tulsa\, Oklahoma\, United States
END:VEVENT
BEGIN:VEVENT
DTSTART;TZID=America/Chicago:20260812T163000
DTEND;TZID=America/Chicago:20260812T193000
DTSTAMP:20260423T065312
CREATED:20260415T205556Z
LAST-MODIFIED:20260415T210124Z
UID:118274-1786552200-1786563000@thetulsaartsdistrict.org
SUMMARY:Midweek Market at Santa Fe Square!
DESCRIPTION:
URL:https://thetulsaartsdistrict.org/event/midweek-market-at-santa-fe-square/2026-08-12/
LOCATION:Sante Fe Square\, 415 E 2nd St\, Tulsa\, Oklahoma\, United States
END:VEVENT
BEGIN:VEVENT
DTSTART;TZID=America/Chicago:20260819T163000
DTEND;TZID=America/Chicago:20260819T193000
DTSTAMP:20260423T065312
CREATED:20260415T205556Z
LAST-MODIFIED:20260415T210124Z
UID:118275-1787157000-1787167800@thetulsaartsdistrict.org
SUMMARY:Midweek Market at Santa Fe Square!
DESCRIPTION:
URL:https://thetulsaartsdistrict.org/event/midweek-market-at-santa-fe-square/2026-08-19/
LOCATION:Sante Fe Square\, 415 E 2nd St\, Tulsa\, Oklahoma\, United States
END:VEVENT
BEGIN:VEVENT
DTSTART;TZID=America/Chicago:20260826T163000
DTEND;TZID=America/Chicago:20260826T193000
DTSTAMP:20260423T065312
CREATED:20260415T205556Z
LAST-MODIFIED:20260415T210125Z
UID:118276-1787761800-1787772600@thetulsaartsdistrict.org
SUMMARY:Midweek Market at Santa Fe Square!
DESCRIPTION:
URL:https://thetulsaartsdistrict.org/event/midweek-market-at-santa-fe-square/2026-08-26/
LOCATION:Sante Fe Square\, 415 E 2nd St\, Tulsa\, Oklahoma\, United States
END:VEVENT
BEGIN:VEVENT
DTSTART;TZID=America/Chicago:20260902T163000
DTEND;TZID=America/Chicago:20260902T193000
DTSTAMP:20260423T065312
CREATED:20260415T205556Z
LAST-MODIFIED:20260415T210125Z
UID:118277-1788366600-1788377400@thetulsaartsdistrict.org
SUMMARY:Midweek Market at Santa Fe Square!
DESCRIPTION:
URL:https://thetulsaartsdistrict.org/event/midweek-market-at-santa-fe-square/2026-09-02/
LOCATION:Sante Fe Square\, 415 E 2nd St\, Tulsa\, Oklahoma\, United States
END:VEVENT
BEGIN:VEVENT
DTSTART;TZID=America/Chicago:20260909T163000
DTEND;TZID=America/Chicago:20260909T193000
DTSTAMP:20260423T065312
CREATED:20260415T205556Z
LAST-MODIFIED:20260415T210128Z
UID:118278-1788971400-1788982200@thetulsaartsdistrict.org
SUMMARY:Midweek Market at Santa Fe Square!
DESCRIPTION:
URL:https://thetulsaartsdistrict.org/event/midweek-market-at-santa-fe-square/2026-09-09/
LOCATION:Sante Fe Square\, 415 E 2nd St\, Tulsa\, Oklahoma\, United States
END:VEVENT
BEGIN:VEVENT
DTSTART;TZID=America/Chicago:20260916T163000
DTEND;TZID=America/Chicago:20260916T193000
DTSTAMP:20260423T065312
CREATED:20260415T205556Z
LAST-MODIFIED:20260415T210129Z
UID:118279-1789576200-1789587000@thetulsaartsdistrict.org
SUMMARY:Midweek Market at Santa Fe Square!
DESCRIPTION:
URL:https://thetulsaartsdistrict.org/event/midweek-market-at-santa-fe-square/2026-09-16/
LOCATION:Sante Fe Square\, 415 E 2nd St\, Tulsa\, Oklahoma\, United States
END:VEVENT
BEGIN:VEVENT
DTSTART;TZID=America/Chicago:20260923T163000
DTEND;TZID=America/Chicago:20260923T193000
DTSTAMP:20260423T065312
CREATED:20260415T205556Z
LAST-MODIFIED:20260415T210129Z
UID:118280-1790181000-1790191800@thetulsaartsdistrict.org
SUMMARY:Midweek Market at Santa Fe Square!
DESCRIPTION:
URL:https://thetulsaartsdistrict.org/event/midweek-market-at-santa-fe-square/2026-09-23/
LOCATION:Sante Fe Square\, 415 E 2nd St\, Tulsa\, Oklahoma\, United States
END:VEVENT
BEGIN:VEVENT
DTSTART;TZID=America/Chicago:20260930T163000
DTEND;TZID=America/Chicago:20260930T193000
DTSTAMP:20260423T065312
CREATED:20260415T205556Z
LAST-MODIFIED:20260415T210130Z
UID:118281-1790785800-1790796600@thetulsaartsdistrict.org
SUMMARY:Midweek Market at Santa Fe Square!
DESCRIPTION:
URL:https://thetulsaartsdistrict.org/event/midweek-market-at-santa-fe-square/2026-09-30/
LOCATION:Sante Fe Square\, 415 E 2nd St\, Tulsa\, Oklahoma\, United States
END:VEVENT
BEGIN:VEVENT
DTSTART;TZID=America/Chicago:20261007T163000
DTEND;TZID=America/Chicago:20261007T193000
DTSTAMP:20260423T065312
CREATED:20260415T205556Z
LAST-MODIFIED:20260415T210130Z
UID:118282-1791390600-1791401400@thetulsaartsdistrict.org
SUMMARY:Midweek Market at Santa Fe Square!
DESCRIPTION:
URL:https://thetulsaartsdistrict.org/event/midweek-market-at-santa-fe-square/2026-10-07/
LOCATION:Sante Fe Square\, 415 E 2nd St\, Tulsa\, Oklahoma\, United States
END:VEVENT
BEGIN:VEVENT
DTSTART;TZID=America/Chicago:20261014T163000
DTEND;TZID=America/Chicago:20261014T193000
DTSTAMP:20260423T065312
CREATED:20260415T205556Z
LAST-MODIFIED:20260415T210130Z
UID:118283-1791995400-1792006200@thetulsaartsdistrict.org
SUMMARY:Midweek Market at Santa Fe Square!
DESCRIPTION:
URL:https://thetulsaartsdistrict.org/event/midweek-market-at-santa-fe-square/2026-10-14/
LOCATION:Sante Fe Square\, 415 E 2nd St\, Tulsa\, Oklahoma\, United States
END:VEVENT
BEGIN:VEVENT
DTSTART;TZID=America/Chicago:20261021T163000
DTEND;TZID=America/Chicago:20261021T193000
DTSTAMP:20260423T065312
CREATED:20260415T205556Z
LAST-MODIFIED:20260415T210131Z
UID:118284-1792600200-1792611000@thetulsaartsdistrict.org
SUMMARY:Midweek Market at Santa Fe Square!
DESCRIPTION:
URL:https://thetulsaartsdistrict.org/event/midweek-market-at-santa-fe-square/2026-10-21/
LOCATION:Sante Fe Square\, 415 E 2nd St\, Tulsa\, Oklahoma\, United States
END:VEVENT
BEGIN:VEVENT
DTSTART;TZID=America/Chicago:20261028T163000
DTEND;TZID=America/Chicago:20261028T193000
DTSTAMP:20260423T065312
CREATED:20260415T205556Z
LAST-MODIFIED:20260415T210131Z
UID:118285-1793205000-1793215800@thetulsaartsdistrict.org
SUMMARY:Midweek Market at Santa Fe Square!
DESCRIPTION:
URL:https://thetulsaartsdistrict.org/event/midweek-market-at-santa-fe-square/2026-10-28/
LOCATION:Sante Fe Square\, 415 E 2nd St\, Tulsa\, Oklahoma\, United States
END:VEVENT
BEGIN:VEVENT
DTSTART;TZID=America/Chicago:20261104T163000
DTEND;TZID=America/Chicago:20261104T193000
DTSTAMP:20260423T065312
CREATED:20260415T205556Z
LAST-MODIFIED:20260415T210132Z
UID:118286-1793809800-1793820600@thetulsaartsdistrict.org
SUMMARY:Midweek Market at Santa Fe Square!
DESCRIPTION:
URL:https://thetulsaartsdistrict.org/event/midweek-market-at-santa-fe-square/2026-11-04/
LOCATION:Sante Fe Square\, 415 E 2nd St\, Tulsa\, Oklahoma\, United States
END:VEVENT
END:VCALENDAR