BEGIN:VCALENDAR
VERSION:2.0
PRODID:-//Tulsa Arts District - ECPv6.15.20//NONSGML v1.0//EN
CALSCALE:GREGORIAN
METHOD:PUBLISH
X-WR-CALNAME:Tulsa Arts District
X-ORIGINAL-URL:https://thetulsaartsdistrict.org
X-WR-CALDESC:Events for Tulsa Arts District
REFRESH-INTERVAL;VALUE=DURATION:PT1H
X-Robots-Tag:noindex
X-PUBLISHED-TTL:PT1H
BEGIN:VTIMEZONE
TZID:America/Chicago
BEGIN:DAYLIGHT
TZOFFSETFROM:-0600
TZOFFSETTO:-0500
TZNAME:CDT
DTSTART:20250309T080000
END:DAYLIGHT
BEGIN:STANDARD
TZOFFSETFROM:-0500
TZOFFSETTO:-0600
TZNAME:CST
DTSTART:20251102T070000
END:STANDARD
BEGIN:DAYLIGHT
TZOFFSETFROM:-0600
TZOFFSETTO:-0500
TZNAME:CDT
DTSTART:20260308T080000
END:DAYLIGHT
BEGIN:STANDARD
TZOFFSETFROM:-0500
TZOFFSETTO:-0600
TZNAME:CST
DTSTART:20261101T070000
END:STANDARD
BEGIN:DAYLIGHT
TZOFFSETFROM:-0600
TZOFFSETTO:-0500
TZNAME:CDT
DTSTART:20270314T080000
END:DAYLIGHT
BEGIN:STANDARD
TZOFFSETFROM:-0500
TZOFFSETTO:-0600
TZNAME:CST
DTSTART:20271107T070000
END:STANDARD
END:VTIMEZONE
BEGIN:VEVENT
DTSTART;TZID=America/Chicago:20260423T220000
DTEND;TZID=America/Chicago:20260423T230000
DTSTAMP:20260423T133241
CREATED:20260215T224006Z
LAST-MODIFIED:20260215T224006Z
UID:115723-1776981600-1776985200@thetulsaartsdistrict.org
SUMMARY:PONY-OKE W/ KRONK at Soundpony
DESCRIPTION:
URL:https://thetulsaartsdistrict.org/event/pony-oke-w-kronk-at-soundpony/2026-04-23/
LOCATION:Soundpony\, 409 N Main\, Tulsa\, OK\, 74103\, United States
END:VEVENT
BEGIN:VEVENT
DTSTART;TZID=America/Chicago:20260425T220000
DTEND;TZID=America/Chicago:20260426T010000
DTSTAMP:20260423T133241
CREATED:20260330T214108Z
LAST-MODIFIED:20260330T214110Z
UID:115758-1777154400-1777165200@thetulsaartsdistrict.org
SUMMARY:SKY RUN ROGER at Soundpony
DESCRIPTION:
URL:https://thetulsaartsdistrict.org/event/sky-run-roger-at-soundpony-27/
LOCATION:Soundpony\, 409 N Main\, Tulsa\, OK\, 74103\, United States
END:VEVENT
BEGIN:VEVENT
DTSTART;TZID=America/Chicago:20260430T220000
DTEND;TZID=America/Chicago:20260430T230000
DTSTAMP:20260423T133241
CREATED:20260215T224006Z
LAST-MODIFIED:20260215T224006Z
UID:115724-1777586400-1777590000@thetulsaartsdistrict.org
SUMMARY:PONY-OKE W/ KRONK at Soundpony
DESCRIPTION:
URL:https://thetulsaartsdistrict.org/event/pony-oke-w-kronk-at-soundpony/2026-04-30/
LOCATION:Soundpony\, 409 N Main\, Tulsa\, OK\, 74103\, United States
END:VEVENT
BEGIN:VEVENT
DTSTART;TZID=America/Chicago:20260507T220000
DTEND;TZID=America/Chicago:20260507T230000
DTSTAMP:20260423T133241
CREATED:20260215T224006Z
LAST-MODIFIED:20260215T224006Z
UID:115725-1778191200-1778194800@thetulsaartsdistrict.org
SUMMARY:PONY-OKE W/ KRONK at Soundpony
DESCRIPTION:
URL:https://thetulsaartsdistrict.org/event/pony-oke-w-kronk-at-soundpony/2026-05-07/
LOCATION:Soundpony\, 409 N Main\, Tulsa\, OK\, 74103\, United States
END:VEVENT
BEGIN:VEVENT
DTSTART;TZID=America/Chicago:20260514T220000
DTEND;TZID=America/Chicago:20260514T230000
DTSTAMP:20260423T133241
CREATED:20260215T224006Z
LAST-MODIFIED:20260215T224006Z
UID:115726-1778796000-1778799600@thetulsaartsdistrict.org
SUMMARY:PONY-OKE W/ KRONK at Soundpony
DESCRIPTION:
URL:https://thetulsaartsdistrict.org/event/pony-oke-w-kronk-at-soundpony/2026-05-14/
LOCATION:Soundpony\, 409 N Main\, Tulsa\, OK\, 74103\, United States
END:VEVENT
BEGIN:VEVENT
DTSTART;TZID=America/Chicago:20260521T220000
DTEND;TZID=America/Chicago:20260521T230000
DTSTAMP:20260423T133241
CREATED:20260215T224006Z
LAST-MODIFIED:20260215T224006Z
UID:115727-1779400800-1779404400@thetulsaartsdistrict.org
SUMMARY:PONY-OKE W/ KRONK at Soundpony
DESCRIPTION:
URL:https://thetulsaartsdistrict.org/event/pony-oke-w-kronk-at-soundpony/2026-05-21/
LOCATION:Soundpony\, 409 N Main\, Tulsa\, OK\, 74103\, United States
END:VEVENT
BEGIN:VEVENT
DTSTART;TZID=America/Chicago:20260528T220000
DTEND;TZID=America/Chicago:20260528T230000
DTSTAMP:20260423T133241
CREATED:20260215T224006Z
LAST-MODIFIED:20260215T224006Z
UID:115728-1780005600-1780009200@thetulsaartsdistrict.org
SUMMARY:PONY-OKE W/ KRONK at Soundpony
DESCRIPTION:
URL:https://thetulsaartsdistrict.org/event/pony-oke-w-kronk-at-soundpony/2026-05-28/
LOCATION:Soundpony\, 409 N Main\, Tulsa\, OK\, 74103\, United States
END:VEVENT
BEGIN:VEVENT
DTSTART;TZID=America/Chicago:20260604T220000
DTEND;TZID=America/Chicago:20260604T230000
DTSTAMP:20260423T133241
CREATED:20260215T224006Z
LAST-MODIFIED:20260215T224006Z
UID:115729-1780610400-1780614000@thetulsaartsdistrict.org
SUMMARY:PONY-OKE W/ KRONK at Soundpony
DESCRIPTION:
URL:https://thetulsaartsdistrict.org/event/pony-oke-w-kronk-at-soundpony/2026-06-04/
LOCATION:Soundpony\, 409 N Main\, Tulsa\, OK\, 74103\, United States
END:VEVENT
BEGIN:VEVENT
DTSTART;TZID=America/Chicago:20260611T220000
DTEND;TZID=America/Chicago:20260611T230000
DTSTAMP:20260423T133241
CREATED:20260215T224006Z
LAST-MODIFIED:20260215T224006Z
UID:115730-1781215200-1781218800@thetulsaartsdistrict.org
SUMMARY:PONY-OKE W/ KRONK at Soundpony
DESCRIPTION:
URL:https://thetulsaartsdistrict.org/event/pony-oke-w-kronk-at-soundpony/2026-06-11/
LOCATION:Soundpony\, 409 N Main\, Tulsa\, OK\, 74103\, United States
END:VEVENT
BEGIN:VEVENT
DTSTART;TZID=America/Chicago:20260618T220000
DTEND;TZID=America/Chicago:20260618T230000
DTSTAMP:20260423T133241
CREATED:20260215T224006Z
LAST-MODIFIED:20260215T224006Z
UID:115731-1781820000-1781823600@thetulsaartsdistrict.org
SUMMARY:PONY-OKE W/ KRONK at Soundpony
DESCRIPTION:
URL:https://thetulsaartsdistrict.org/event/pony-oke-w-kronk-at-soundpony/2026-06-18/
LOCATION:Soundpony\, 409 N Main\, Tulsa\, OK\, 74103\, United States
END:VEVENT
BEGIN:VEVENT
DTSTART;TZID=America/Chicago:20260625T220000
DTEND;TZID=America/Chicago:20260625T230000
DTSTAMP:20260423T133241
CREATED:20260215T224006Z
LAST-MODIFIED:20260215T224006Z
UID:115732-1782424800-1782428400@thetulsaartsdistrict.org
SUMMARY:PONY-OKE W/ KRONK at Soundpony
DESCRIPTION:
URL:https://thetulsaartsdistrict.org/event/pony-oke-w-kronk-at-soundpony/2026-06-25/
LOCATION:Soundpony\, 409 N Main\, Tulsa\, OK\, 74103\, United States
END:VEVENT
BEGIN:VEVENT
DTSTART;TZID=America/Chicago:20260702T220000
DTEND;TZID=America/Chicago:20260702T230000
DTSTAMP:20260423T133241
CREATED:20260215T224006Z
LAST-MODIFIED:20260215T224006Z
UID:115733-1783029600-1783033200@thetulsaartsdistrict.org
SUMMARY:PONY-OKE W/ KRONK at Soundpony
DESCRIPTION:
URL:https://thetulsaartsdistrict.org/event/pony-oke-w-kronk-at-soundpony/2026-07-02/
LOCATION:Soundpony\, 409 N Main\, Tulsa\, OK\, 74103\, United States
END:VEVENT
BEGIN:VEVENT
DTSTART;TZID=America/Chicago:20260709T220000
DTEND;TZID=America/Chicago:20260709T230000
DTSTAMP:20260423T133241
CREATED:20260215T224006Z
LAST-MODIFIED:20260215T224006Z
UID:115734-1783634400-1783638000@thetulsaartsdistrict.org
SUMMARY:PONY-OKE W/ KRONK at Soundpony
DESCRIPTION:
URL:https://thetulsaartsdistrict.org/event/pony-oke-w-kronk-at-soundpony/2026-07-09/
LOCATION:Soundpony\, 409 N Main\, Tulsa\, OK\, 74103\, United States
END:VEVENT
BEGIN:VEVENT
DTSTART;TZID=America/Chicago:20260716T220000
DTEND;TZID=America/Chicago:20260716T230000
DTSTAMP:20260423T133241
CREATED:20260215T224006Z
LAST-MODIFIED:20260215T224006Z
UID:115735-1784239200-1784242800@thetulsaartsdistrict.org
SUMMARY:PONY-OKE W/ KRONK at Soundpony
DESCRIPTION:
URL:https://thetulsaartsdistrict.org/event/pony-oke-w-kronk-at-soundpony/2026-07-16/
LOCATION:Soundpony\, 409 N Main\, Tulsa\, OK\, 74103\, United States
END:VEVENT
BEGIN:VEVENT
DTSTART;TZID=America/Chicago:20260723T220000
DTEND;TZID=America/Chicago:20260723T230000
DTSTAMP:20260423T133241
CREATED:20260215T224006Z
LAST-MODIFIED:20260215T224006Z
UID:115736-1784844000-1784847600@thetulsaartsdistrict.org
SUMMARY:PONY-OKE W/ KRONK at Soundpony
DESCRIPTION:
URL:https://thetulsaartsdistrict.org/event/pony-oke-w-kronk-at-soundpony/2026-07-23/
LOCATION:Soundpony\, 409 N Main\, Tulsa\, OK\, 74103\, United States
END:VEVENT
BEGIN:VEVENT
DTSTART;TZID=America/Chicago:20260730T220000
DTEND;TZID=America/Chicago:20260730T230000
DTSTAMP:20260423T133241
CREATED:20260215T224006Z
LAST-MODIFIED:20260215T224006Z
UID:115737-1785448800-1785452400@thetulsaartsdistrict.org
SUMMARY:PONY-OKE W/ KRONK at Soundpony
DESCRIPTION:
URL:https://thetulsaartsdistrict.org/event/pony-oke-w-kronk-at-soundpony/2026-07-30/
LOCATION:Soundpony\, 409 N Main\, Tulsa\, OK\, 74103\, United States
END:VEVENT
BEGIN:VEVENT
DTSTART;TZID=America/Chicago:20260806T220000
DTEND;TZID=America/Chicago:20260806T230000
DTSTAMP:20260423T133241
CREATED:20260215T224006Z
LAST-MODIFIED:20260215T224006Z
UID:115738-1786053600-1786057200@thetulsaartsdistrict.org
SUMMARY:PONY-OKE W/ KRONK at Soundpony
DESCRIPTION:
URL:https://thetulsaartsdistrict.org/event/pony-oke-w-kronk-at-soundpony/2026-08-06/
LOCATION:Soundpony\, 409 N Main\, Tulsa\, OK\, 74103\, United States
END:VEVENT
BEGIN:VEVENT
DTSTART;TZID=America/Chicago:20260813T220000
DTEND;TZID=America/Chicago:20260813T230000
DTSTAMP:20260423T133241
CREATED:20260215T224006Z
LAST-MODIFIED:20260215T224006Z
UID:115739-1786658400-1786662000@thetulsaartsdistrict.org
SUMMARY:PONY-OKE W/ KRONK at Soundpony
DESCRIPTION:
URL:https://thetulsaartsdistrict.org/event/pony-oke-w-kronk-at-soundpony/2026-08-13/
LOCATION:Soundpony\, 409 N Main\, Tulsa\, OK\, 74103\, United States
END:VEVENT
BEGIN:VEVENT
DTSTART;TZID=America/Chicago:20260820T220000
DTEND;TZID=America/Chicago:20260820T230000
DTSTAMP:20260423T133241
CREATED:20260215T224006Z
LAST-MODIFIED:20260215T224006Z
UID:115740-1787263200-1787266800@thetulsaartsdistrict.org
SUMMARY:PONY-OKE W/ KRONK at Soundpony
DESCRIPTION:
URL:https://thetulsaartsdistrict.org/event/pony-oke-w-kronk-at-soundpony/2026-08-20/
LOCATION:Soundpony\, 409 N Main\, Tulsa\, OK\, 74103\, United States
END:VEVENT
BEGIN:VEVENT
DTSTART;TZID=America/Chicago:20260827T220000
DTEND;TZID=America/Chicago:20260827T230000
DTSTAMP:20260423T133241
CREATED:20260215T224006Z
LAST-MODIFIED:20260215T224006Z
UID:115741-1787868000-1787871600@thetulsaartsdistrict.org
SUMMARY:PONY-OKE W/ KRONK at Soundpony
DESCRIPTION:
URL:https://thetulsaartsdistrict.org/event/pony-oke-w-kronk-at-soundpony/2026-08-27/
LOCATION:Soundpony\, 409 N Main\, Tulsa\, OK\, 74103\, United States
END:VEVENT
END:VCALENDAR