BEGIN:VCALENDAR
VERSION:2.0
PRODID:-//Tulsa Arts District - ECPv6.15.20//NONSGML v1.0//EN
CALSCALE:GREGORIAN
METHOD:PUBLISH
X-WR-CALNAME:Tulsa Arts District
X-ORIGINAL-URL:https://thetulsaartsdistrict.org
X-WR-CALDESC:Events for Tulsa Arts District
REFRESH-INTERVAL;VALUE=DURATION:PT1H
X-Robots-Tag:noindex
X-PUBLISHED-TTL:PT1H
BEGIN:VTIMEZONE
TZID:America/Chicago
BEGIN:DAYLIGHT
TZOFFSETFROM:-0600
TZOFFSETTO:-0500
TZNAME:CDT
DTSTART:20250309T080000
END:DAYLIGHT
BEGIN:STANDARD
TZOFFSETFROM:-0500
TZOFFSETTO:-0600
TZNAME:CST
DTSTART:20251102T070000
END:STANDARD
BEGIN:DAYLIGHT
TZOFFSETFROM:-0600
TZOFFSETTO:-0500
TZNAME:CDT
DTSTART:20260308T080000
END:DAYLIGHT
BEGIN:STANDARD
TZOFFSETFROM:-0500
TZOFFSETTO:-0600
TZNAME:CST
DTSTART:20261101T070000
END:STANDARD
BEGIN:DAYLIGHT
TZOFFSETFROM:-0600
TZOFFSETTO:-0500
TZNAME:CDT
DTSTART:20270314T080000
END:DAYLIGHT
BEGIN:STANDARD
TZOFFSETFROM:-0500
TZOFFSETTO:-0600
TZNAME:CST
DTSTART:20271107T070000
END:STANDARD
END:VTIMEZONE
BEGIN:VEVENT
DTSTART;TZID=America/Chicago:20260423T150000
DTEND;TZID=America/Chicago:20260423T233000
DTSTAMP:20260423T114104
CREATED:20241222T203213Z
LAST-MODIFIED:20241222T203213Z
UID:102124-1776956400-1776987000@thetulsaartsdistrict.org
SUMMARY:All well drinks on special until close every Thursday at Hunt Club!
DESCRIPTION:
URL:https://thetulsaartsdistrict.org/event/all-well-drinks-on-special-until-close-every-thursday-at-hunt-club-2025-03-27-2025-12-18/2026-04-23/
LOCATION:The Hunt Club\, 224 N Main\, Tulsa\, OK\, 74103\, United States
END:VEVENT
BEGIN:VEVENT
DTSTART;TZID=America/Chicago:20260423T173000
DTEND;TZID=America/Chicago:20260423T193000
DTSTAMP:20260423T114104
CREATED:20260226T201420Z
LAST-MODIFIED:20260226T201420Z
UID:115431-1776965400-1776972600@thetulsaartsdistrict.org
SUMMARY:JT and the Dirtbox Wailers at Hunt Club
DESCRIPTION:
URL:https://thetulsaartsdistrict.org/event/jt-and-the-dirtbox-wailers-at-hunt-club-6/2026-04-23/
LOCATION:The Hunt Club\, 224 N Main\, Tulsa\, OK\, 74103\, United States
END:VEVENT
BEGIN:VEVENT
DTSTART;TZID=America/Chicago:20260424T220000
DTEND;TZID=America/Chicago:20260424T233000
DTSTAMP:20260423T114104
CREATED:20260327T201902Z
LAST-MODIFIED:20260327T201905Z
UID:115496-1777068000-1777073400@thetulsaartsdistrict.org
SUMMARY:Hosty at Hunt Club
DESCRIPTION:
URL:https://thetulsaartsdistrict.org/event/hosty-at-hunt-club-10/
LOCATION:The Hunt Club\, 224 N Main\, Tulsa\, OK\, 74103\, United States
END:VEVENT
BEGIN:VEVENT
DTSTART;TZID=America/Chicago:20260425T170000
DTEND;TZID=America/Chicago:20260425T190000
DTSTAMP:20260423T114104
CREATED:20260324T212254Z
LAST-MODIFIED:20260324T212254Z
UID:115428-1777136400-1777143600@thetulsaartsdistrict.org
SUMMARY:Oklahoma Space Program at Hunt Club
DESCRIPTION:
URL:https://thetulsaartsdistrict.org/event/oklahoma-space-program-at-hunt-club-2/2026-04-25/
LOCATION:The Hunt Club\, 224 N Main\, Tulsa\, OK\, 74103\, United States
END:VEVENT
BEGIN:VEVENT
DTSTART;TZID=America/Chicago:20260425T213000
DTEND;TZID=America/Chicago:20260425T233000
DTSTAMP:20260423T114104
CREATED:20260327T202059Z
LAST-MODIFIED:20260327T202101Z
UID:115498-1777152600-1777159800@thetulsaartsdistrict.org
SUMMARY:Howard Mahan and Friends at The Hunt Club
DESCRIPTION:
URL:https://thetulsaartsdistrict.org/event/howard-mahan-and-friends-at-the-hunt-club/
LOCATION:The Hunt Club\, 224 N Main\, Tulsa\, OK\, 74103\, United States
END:VEVENT
BEGIN:VEVENT
DTSTART;TZID=America/Chicago:20260426T180000
DTEND;TZID=America/Chicago:20260426T200000
DTSTAMP:20260423T114104
CREATED:20241222T194016Z
LAST-MODIFIED:20260422T165857Z
UID:104774-1777226400-1777233600@thetulsaartsdistrict.org
SUMMARY:Dustin & Ayngel Pittsley at The Hunt Club
DESCRIPTION:
URL:https://thetulsaartsdistrict.org/event/sunday-song-swap-at-the-hunt-club-2025-01-26-2025-05-18-2025-10-26-2025-11-09-2025-11-30-2025-12-28-2026-01-04-2026-01-18-2026-04-12-2026-04-26/
LOCATION:The Hunt Club\, 224 N Main\, Tulsa\, OK\, 74103\, United States
END:VEVENT
BEGIN:VEVENT
DTSTART;TZID=America/Chicago:20260428T160000
DTEND;TZID=America/Chicago:20260428T220000
DTSTAMP:20260423T114104
CREATED:20240826T202954Z
LAST-MODIFIED:20240826T202954Z
UID:102070-1777392000-1777413600@thetulsaartsdistrict.org
SUMMARY:Taco Tuesday Special at The Hunt Club
DESCRIPTION:
URL:https://thetulsaartsdistrict.org/event/taco-tuesday-special-at-the-hunt-club-2024-12-17-2024-12-24-2025-05-20-2025-06-24-2025-12-30/2026-04-28/
LOCATION:The Hunt Club\, 224 N Main\, Tulsa\, OK\, 74103\, United States
END:VEVENT
BEGIN:VEVENT
DTSTART;TZID=America/Chicago:20260428T210000
DTEND;TZID=America/Chicago:20260428T230000
DTSTAMP:20260423T114104
CREATED:20251223T161420Z
LAST-MODIFIED:20251223T161420Z
UID:115773-1777410000-1777417200@thetulsaartsdistrict.org
SUMMARY:FA Tuesdays with JP at The Hunt Club
DESCRIPTION:
URL:https://thetulsaartsdistrict.org/event/fa-tuesdays-with-jp-at-the-hunt-club-2026-01-27/2026-04-28/
LOCATION:The Hunt Club\, 224 N Main\, Tulsa\, OK\, 74103\, United States
END:VEVENT
BEGIN:VEVENT
DTSTART;TZID=America/Chicago:20260429T160000
DTEND;TZID=America/Chicago:20260429T233000
DTSTAMP:20260423T114104
CREATED:20241201T163945Z
LAST-MODIFIED:20241201T163945Z
UID:102098-1777478400-1777505400@thetulsaartsdistrict.org
SUMMARY:White Claws and PBR Tallboys at Hunt Club
DESCRIPTION:
URL:https://thetulsaartsdistrict.org/event/white-claws-and-pbr-tallboys-at-hunt-club-2024-12-18-2025-06-25-2025-12-17/2026-04-29/
LOCATION:The Hunt Club\, 224 N Main\, Tulsa\, OK\, 74103\, United States
END:VEVENT
BEGIN:VEVENT
DTSTART;TZID=America/Chicago:20260429T200000
DTEND;TZID=America/Chicago:20260429T210000
DTSTAMP:20260423T114104
CREATED:20250622T214639Z
LAST-MODIFIED:20250622T214639Z
UID:101409-1777492800-1777496400@thetulsaartsdistrict.org
SUMMARY:Open Mic Comedy Night at The Hunt Club – sign up at 8 – show at 8:30
DESCRIPTION:
URL:https://thetulsaartsdistrict.org/event/open-mic-comedy-night-at-the-hunt-club-sign-up-at-8-show-at-830-2025-12-03/2026-04-29/
LOCATION:The Hunt Club\, 224 N Main\, Tulsa\, OK\, 74103\, United States
END:VEVENT
BEGIN:VEVENT
DTSTART;TZID=America/Chicago:20260430T150000
DTEND;TZID=America/Chicago:20260430T233000
DTSTAMP:20260423T114104
CREATED:20241222T203213Z
LAST-MODIFIED:20241222T203213Z
UID:102125-1777561200-1777591800@thetulsaartsdistrict.org
SUMMARY:All well drinks on special until close every Thursday at Hunt Club!
DESCRIPTION:
URL:https://thetulsaartsdistrict.org/event/all-well-drinks-on-special-until-close-every-thursday-at-hunt-club-2025-03-27-2025-12-18/2026-04-30/
LOCATION:The Hunt Club\, 224 N Main\, Tulsa\, OK\, 74103\, United States
END:VEVENT
BEGIN:VEVENT
DTSTART;TZID=America/Chicago:20260501T220000
DTEND;TZID=America/Chicago:20260501T233000
DTSTAMP:20260423T114104
CREATED:20260327T202337Z
LAST-MODIFIED:20260327T202339Z
UID:115500-1777672800-1777678200@thetulsaartsdistrict.org
SUMMARY:Hosty at Hunt Club
DESCRIPTION:
URL:https://thetulsaartsdistrict.org/event/hosty-at-hunt-club-11/
LOCATION:The Hunt Club\, 224 N Main\, Tulsa\, OK\, 74103\, United States
END:VEVENT
BEGIN:VEVENT
DTSTART;TZID=America/Chicago:20260505T160000
DTEND;TZID=America/Chicago:20260505T220000
DTSTAMP:20260423T114104
CREATED:20240826T202954Z
LAST-MODIFIED:20240826T202954Z
UID:102071-1777996800-1778018400@thetulsaartsdistrict.org
SUMMARY:Taco Tuesday Special at The Hunt Club
DESCRIPTION:
URL:https://thetulsaartsdistrict.org/event/taco-tuesday-special-at-the-hunt-club-2024-12-17-2024-12-24-2025-05-20-2025-06-24-2025-12-30/2026-05-05/
LOCATION:The Hunt Club\, 224 N Main\, Tulsa\, OK\, 74103\, United States
END:VEVENT
BEGIN:VEVENT
DTSTART;TZID=America/Chicago:20260506T160000
DTEND;TZID=America/Chicago:20260506T233000
DTSTAMP:20260423T114104
CREATED:20241201T163945Z
LAST-MODIFIED:20241201T163945Z
UID:102099-1778083200-1778110200@thetulsaartsdistrict.org
SUMMARY:White Claws and PBR Tallboys at Hunt Club
DESCRIPTION:
URL:https://thetulsaartsdistrict.org/event/white-claws-and-pbr-tallboys-at-hunt-club-2024-12-18-2025-06-25-2025-12-17/2026-05-06/
LOCATION:The Hunt Club\, 224 N Main\, Tulsa\, OK\, 74103\, United States
END:VEVENT
BEGIN:VEVENT
DTSTART;TZID=America/Chicago:20260506T200000
DTEND;TZID=America/Chicago:20260506T210000
DTSTAMP:20260423T114104
CREATED:20250622T214639Z
LAST-MODIFIED:20250622T214639Z
UID:101410-1778097600-1778101200@thetulsaartsdistrict.org
SUMMARY:Open Mic Comedy Night at The Hunt Club – sign up at 8 – show at 8:30
DESCRIPTION:
URL:https://thetulsaartsdistrict.org/event/open-mic-comedy-night-at-the-hunt-club-sign-up-at-8-show-at-830-2025-12-03/2026-05-06/
LOCATION:The Hunt Club\, 224 N Main\, Tulsa\, OK\, 74103\, United States
END:VEVENT
BEGIN:VEVENT
DTSTART;TZID=America/Chicago:20260507T150000
DTEND;TZID=America/Chicago:20260507T233000
DTSTAMP:20260423T114104
CREATED:20241222T203213Z
LAST-MODIFIED:20241222T203213Z
UID:102126-1778166000-1778196600@thetulsaartsdistrict.org
SUMMARY:All well drinks on special until close every Thursday at Hunt Club!
DESCRIPTION:
URL:https://thetulsaartsdistrict.org/event/all-well-drinks-on-special-until-close-every-thursday-at-hunt-club-2025-03-27-2025-12-18/2026-05-07/
LOCATION:The Hunt Club\, 224 N Main\, Tulsa\, OK\, 74103\, United States
END:VEVENT
BEGIN:VEVENT
DTSTART;TZID=America/Chicago:20260512T160000
DTEND;TZID=America/Chicago:20260512T220000
DTSTAMP:20260423T114104
CREATED:20240826T202954Z
LAST-MODIFIED:20240826T202954Z
UID:102072-1778601600-1778623200@thetulsaartsdistrict.org
SUMMARY:Taco Tuesday Special at The Hunt Club
DESCRIPTION:
URL:https://thetulsaartsdistrict.org/event/taco-tuesday-special-at-the-hunt-club-2024-12-17-2024-12-24-2025-05-20-2025-06-24-2025-12-30/2026-05-12/
LOCATION:The Hunt Club\, 224 N Main\, Tulsa\, OK\, 74103\, United States
END:VEVENT
BEGIN:VEVENT
DTSTART;TZID=America/Chicago:20260513T160000
DTEND;TZID=America/Chicago:20260513T233000
DTSTAMP:20260423T114104
CREATED:20241201T163945Z
LAST-MODIFIED:20241201T163945Z
UID:102100-1778688000-1778715000@thetulsaartsdistrict.org
SUMMARY:White Claws and PBR Tallboys at Hunt Club
DESCRIPTION:
URL:https://thetulsaartsdistrict.org/event/white-claws-and-pbr-tallboys-at-hunt-club-2024-12-18-2025-06-25-2025-12-17/2026-05-13/
LOCATION:The Hunt Club\, 224 N Main\, Tulsa\, OK\, 74103\, United States
END:VEVENT
BEGIN:VEVENT
DTSTART;TZID=America/Chicago:20260513T200000
DTEND;TZID=America/Chicago:20260513T210000
DTSTAMP:20260423T114104
CREATED:20250622T214639Z
LAST-MODIFIED:20250622T214639Z
UID:101411-1778702400-1778706000@thetulsaartsdistrict.org
SUMMARY:Open Mic Comedy Night at The Hunt Club – sign up at 8 – show at 8:30
DESCRIPTION:
URL:https://thetulsaartsdistrict.org/event/open-mic-comedy-night-at-the-hunt-club-sign-up-at-8-show-at-830-2025-12-03/2026-05-13/
LOCATION:The Hunt Club\, 224 N Main\, Tulsa\, OK\, 74103\, United States
END:VEVENT
BEGIN:VEVENT
DTSTART;TZID=America/Chicago:20260514T150000
DTEND;TZID=America/Chicago:20260514T233000
DTSTAMP:20260423T114104
CREATED:20241222T203213Z
LAST-MODIFIED:20241222T203213Z
UID:102127-1778770800-1778801400@thetulsaartsdistrict.org
SUMMARY:All well drinks on special until close every Thursday at Hunt Club!
DESCRIPTION:
URL:https://thetulsaartsdistrict.org/event/all-well-drinks-on-special-until-close-every-thursday-at-hunt-club-2025-03-27-2025-12-18/2026-05-14/
LOCATION:The Hunt Club\, 224 N Main\, Tulsa\, OK\, 74103\, United States
END:VEVENT
BEGIN:VEVENT
DTSTART;TZID=America/Chicago:20260519T160000
DTEND;TZID=America/Chicago:20260519T220000
DTSTAMP:20260423T114104
CREATED:20240826T202954Z
LAST-MODIFIED:20240826T202954Z
UID:102073-1779206400-1779228000@thetulsaartsdistrict.org
SUMMARY:Taco Tuesday Special at The Hunt Club
DESCRIPTION:
URL:https://thetulsaartsdistrict.org/event/taco-tuesday-special-at-the-hunt-club-2024-12-17-2024-12-24-2025-05-20-2025-06-24-2025-12-30/2026-05-19/
LOCATION:The Hunt Club\, 224 N Main\, Tulsa\, OK\, 74103\, United States
END:VEVENT
BEGIN:VEVENT
DTSTART;TZID=America/Chicago:20260520T160000
DTEND;TZID=America/Chicago:20260520T233000
DTSTAMP:20260423T114104
CREATED:20241201T163945Z
LAST-MODIFIED:20241201T163945Z
UID:102101-1779292800-1779319800@thetulsaartsdistrict.org
SUMMARY:White Claws and PBR Tallboys at Hunt Club
DESCRIPTION:
URL:https://thetulsaartsdistrict.org/event/white-claws-and-pbr-tallboys-at-hunt-club-2024-12-18-2025-06-25-2025-12-17/2026-05-20/
LOCATION:The Hunt Club\, 224 N Main\, Tulsa\, OK\, 74103\, United States
END:VEVENT
BEGIN:VEVENT
DTSTART;TZID=America/Chicago:20260520T200000
DTEND;TZID=America/Chicago:20260520T210000
DTSTAMP:20260423T114104
CREATED:20250622T214639Z
LAST-MODIFIED:20250622T214639Z
UID:101412-1779307200-1779310800@thetulsaartsdistrict.org
SUMMARY:Open Mic Comedy Night at The Hunt Club – sign up at 8 – show at 8:30
DESCRIPTION:
URL:https://thetulsaartsdistrict.org/event/open-mic-comedy-night-at-the-hunt-club-sign-up-at-8-show-at-830-2025-12-03/2026-05-20/
LOCATION:The Hunt Club\, 224 N Main\, Tulsa\, OK\, 74103\, United States
END:VEVENT
BEGIN:VEVENT
DTSTART;TZID=America/Chicago:20260521T150000
DTEND;TZID=America/Chicago:20260521T233000
DTSTAMP:20260423T114104
CREATED:20241222T203213Z
LAST-MODIFIED:20241222T203213Z
UID:102128-1779375600-1779406200@thetulsaartsdistrict.org
SUMMARY:All well drinks on special until close every Thursday at Hunt Club!
DESCRIPTION:
URL:https://thetulsaartsdistrict.org/event/all-well-drinks-on-special-until-close-every-thursday-at-hunt-club-2025-03-27-2025-12-18/2026-05-21/
LOCATION:The Hunt Club\, 224 N Main\, Tulsa\, OK\, 74103\, United States
END:VEVENT
BEGIN:VEVENT
DTSTART;TZID=America/Chicago:20260526T160000
DTEND;TZID=America/Chicago:20260526T220000
DTSTAMP:20260423T114104
CREATED:20240826T202954Z
LAST-MODIFIED:20240826T202954Z
UID:102074-1779811200-1779832800@thetulsaartsdistrict.org
SUMMARY:Taco Tuesday Special at The Hunt Club
DESCRIPTION:
URL:https://thetulsaartsdistrict.org/event/taco-tuesday-special-at-the-hunt-club-2024-12-17-2024-12-24-2025-05-20-2025-06-24-2025-12-30/2026-05-26/
LOCATION:The Hunt Club\, 224 N Main\, Tulsa\, OK\, 74103\, United States
END:VEVENT
BEGIN:VEVENT
DTSTART;TZID=America/Chicago:20260527T160000
DTEND;TZID=America/Chicago:20260527T233000
DTSTAMP:20260423T114104
CREATED:20241201T163945Z
LAST-MODIFIED:20241201T163945Z
UID:102102-1779897600-1779924600@thetulsaartsdistrict.org
SUMMARY:White Claws and PBR Tallboys at Hunt Club
DESCRIPTION:
URL:https://thetulsaartsdistrict.org/event/white-claws-and-pbr-tallboys-at-hunt-club-2024-12-18-2025-06-25-2025-12-17/2026-05-27/
LOCATION:The Hunt Club\, 224 N Main\, Tulsa\, OK\, 74103\, United States
END:VEVENT
BEGIN:VEVENT
DTSTART;TZID=America/Chicago:20260527T200000
DTEND;TZID=America/Chicago:20260527T210000
DTSTAMP:20260423T114104
CREATED:20250622T214639Z
LAST-MODIFIED:20250622T214639Z
UID:101413-1779912000-1779915600@thetulsaartsdistrict.org
SUMMARY:Open Mic Comedy Night at The Hunt Club – sign up at 8 – show at 8:30
DESCRIPTION:
URL:https://thetulsaartsdistrict.org/event/open-mic-comedy-night-at-the-hunt-club-sign-up-at-8-show-at-830-2025-12-03/2026-05-27/
LOCATION:The Hunt Club\, 224 N Main\, Tulsa\, OK\, 74103\, United States
END:VEVENT
BEGIN:VEVENT
DTSTART;TZID=America/Chicago:20260528T150000
DTEND;TZID=America/Chicago:20260528T233000
DTSTAMP:20260423T114104
CREATED:20241222T203213Z
LAST-MODIFIED:20241222T203213Z
UID:102129-1779980400-1780011000@thetulsaartsdistrict.org
SUMMARY:All well drinks on special until close every Thursday at Hunt Club!
DESCRIPTION:
URL:https://thetulsaartsdistrict.org/event/all-well-drinks-on-special-until-close-every-thursday-at-hunt-club-2025-03-27-2025-12-18/2026-05-28/
LOCATION:The Hunt Club\, 224 N Main\, Tulsa\, OK\, 74103\, United States
END:VEVENT
BEGIN:VEVENT
DTSTART;TZID=America/Chicago:20260602T160000
DTEND;TZID=America/Chicago:20260602T220000
DTSTAMP:20260423T114104
CREATED:20240826T202954Z
LAST-MODIFIED:20240826T202954Z
UID:102075-1780416000-1780437600@thetulsaartsdistrict.org
SUMMARY:Taco Tuesday Special at The Hunt Club
DESCRIPTION:
URL:https://thetulsaartsdistrict.org/event/taco-tuesday-special-at-the-hunt-club-2024-12-17-2024-12-24-2025-05-20-2025-06-24-2025-12-30/2026-06-02/
LOCATION:The Hunt Club\, 224 N Main\, Tulsa\, OK\, 74103\, United States
END:VEVENT
BEGIN:VEVENT
DTSTART;TZID=America/Chicago:20260603T160000
DTEND;TZID=America/Chicago:20260603T233000
DTSTAMP:20260423T114104
CREATED:20241201T163945Z
LAST-MODIFIED:20241201T163945Z
UID:102103-1780502400-1780529400@thetulsaartsdistrict.org
SUMMARY:White Claws and PBR Tallboys at Hunt Club
DESCRIPTION:
URL:https://thetulsaartsdistrict.org/event/white-claws-and-pbr-tallboys-at-hunt-club-2024-12-18-2025-06-25-2025-12-17/2026-06-03/
LOCATION:The Hunt Club\, 224 N Main\, Tulsa\, OK\, 74103\, United States
END:VEVENT
END:VCALENDAR