BEGIN:VCALENDAR
VERSION:2.0
PRODID:-//Tulsa Arts District - ECPv6.15.20//NONSGML v1.0//EN
CALSCALE:GREGORIAN
METHOD:PUBLISH
X-ORIGINAL-URL:https://thetulsaartsdistrict.org
X-WR-CALDESC:Events for Tulsa Arts District
REFRESH-INTERVAL;VALUE=DURATION:PT1H
X-Robots-Tag:noindex
X-PUBLISHED-TTL:PT1H
BEGIN:VTIMEZONE
TZID:America/Chicago
BEGIN:DAYLIGHT
TZOFFSETFROM:-0600
TZOFFSETTO:-0500
TZNAME:CDT
DTSTART:20210314T080000
END:DAYLIGHT
BEGIN:STANDARD
TZOFFSETFROM:-0500
TZOFFSETTO:-0600
TZNAME:CST
DTSTART:20211107T070000
END:STANDARD
BEGIN:DAYLIGHT
TZOFFSETFROM:-0600
TZOFFSETTO:-0500
TZNAME:CDT
DTSTART:20220313T080000
END:DAYLIGHT
BEGIN:STANDARD
TZOFFSETFROM:-0500
TZOFFSETTO:-0600
TZNAME:CST
DTSTART:20221106T070000
END:STANDARD
BEGIN:DAYLIGHT
TZOFFSETFROM:-0600
TZOFFSETTO:-0500
TZNAME:CDT
DTSTART:20230312T080000
END:DAYLIGHT
BEGIN:STANDARD
TZOFFSETFROM:-0500
TZOFFSETTO:-0600
TZNAME:CST
DTSTART:20231105T070000
END:STANDARD
END:VTIMEZONE
BEGIN:VEVENT
DTSTART;TZID=America/Chicago:20220930T180000
DTEND;TZID=America/Chicago:20220930T200000
DTSTAMP:20260423T095809
CREATED:20220927T220606Z
LAST-MODIFIED:20220927T220608Z
UID:45343-1664560800-1664568000@thetulsaartsdistrict.org
SUMMARY:The Americana Roadshow featuring Matt Axton and Tar and Flowers at The Hunt Club
DESCRIPTION:
URL:https://thetulsaartsdistrict.org/event/the-americana-roadshow-featuring-matt-axton-and-tar-and-flowers-at-the-hunt-club/
LOCATION:The Hunt Club\, 224 N Main\, Tulsa\, OK\, 74103\, United States
END:VEVENT
BEGIN:VEVENT
DTSTART;TZID=America/Chicago:20220929T200000
DTEND;TZID=America/Chicago:20220929T223000
DTSTAMP:20260423T095809
CREATED:20220928T201356Z
LAST-MODIFIED:20220928T201357Z
UID:45372-1664481600-1664490600@thetulsaartsdistrict.org
SUMMARY:Sarah Popejoy at The Hunt Club
DESCRIPTION:
URL:https://thetulsaartsdistrict.org/event/sarah-popejoy-at-the-hunt-club/
LOCATION:The Hunt Club\, 224 N Main\, Tulsa\, OK\, 74103\, United States
END:VEVENT
BEGIN:VEVENT
DTSTART;TZID=America/Chicago:20220924T220000
DTEND;TZID=America/Chicago:20220925T010000
DTSTAMP:20260423T095809
CREATED:20220830T141046Z
LAST-MODIFIED:20220830T141047Z
UID:44453-1664056800-1664067600@thetulsaartsdistrict.org
SUMMARY:RPM at The Hunt Club
DESCRIPTION:
URL:https://thetulsaartsdistrict.org/event/rpm-at-the-hunt-club-16/
LOCATION:The Hunt Club\, 224 N Main\, Tulsa\, OK\, 74103\, United States
END:VEVENT
BEGIN:VEVENT
DTSTART;TZID=America/Chicago:20220923T220000
DTEND;TZID=America/Chicago:20220924T010000
DTSTAMP:20260423T095809
CREATED:20220830T140937Z
LAST-MODIFIED:20220830T140938Z
UID:44450-1663970400-1663981200@thetulsaartsdistrict.org
SUMMARY:Dante and the Bird Dogs at The Hunt Club
DESCRIPTION:
URL:https://thetulsaartsdistrict.org/event/dante-and-the-bird-dogs-at-the-hunt-club-4/
LOCATION:The Hunt Club\, 224 N Main\, Tulsa\, OK\, 74103\, United States
END:VEVENT
BEGIN:VEVENT
DTSTART;TZID=America/Chicago:20220922T200000
DTEND;TZID=America/Chicago:20220922T230000
DTSTAMP:20260423T095809
CREATED:20220830T140738Z
LAST-MODIFIED:20220830T140740Z
UID:44447-1663876800-1663887600@thetulsaartsdistrict.org
SUMMARY:Singer and Song Writer Round at The Hunt Club
DESCRIPTION:
URL:https://thetulsaartsdistrict.org/event/singer-and-song-writer-round-at-the-hunt-club/
LOCATION:The Hunt Club\, 224 N Main\, Tulsa\, OK\, 74103\, United States
END:VEVENT
BEGIN:VEVENT
DTSTART;TZID=America/Chicago:20220917T220000
DTEND;TZID=America/Chicago:20220918T010000
DTSTAMP:20260423T095809
CREATED:20220830T135228Z
LAST-MODIFIED:20220830T135416Z
UID:44436-1663452000-1663462800@thetulsaartsdistrict.org
SUMMARY:The Hunt Club with Hurricane Romance
DESCRIPTION:
URL:https://thetulsaartsdistrict.org/event/the-hunt-club-with-hurricane-romance/
LOCATION:The Hunt Club\, 224 N Main\, Tulsa\, OK\, 74103\, United States
END:VEVENT
BEGIN:VEVENT
DTSTART;TZID=America/Chicago:20220916T190000
DTEND;TZID=America/Chicago:20220917T020000
DTSTAMP:20260423T095809
CREATED:20220915T131429Z
LAST-MODIFIED:20220915T143334Z
UID:45039-1663354800-1663380000@thetulsaartsdistrict.org
SUMMARY:Dreamland Festival at The Hunt Club featuring TEA RUSH - KEENG CUT - EMANI - NASTI BAYB - KARA DAWN - W3SST - MIC FEEL - SANAA - TRIBE LUMINESCENT - SOULRSTAR * DJ Holladizzle
DESCRIPTION:
URL:https://thetulsaartsdistrict.org/event/dreamland-festival-at-the-hunt-club-featuring-tea-rush-keeng-cut-emani-nasti-bayb-kara-dawn-w3sst-mic-feel-sanaa-tribe-luminescent-soulrstar/
LOCATION:The Hunt Club\, 224 N Main\, Tulsa\, OK\, 74103\, United States
END:VEVENT
BEGIN:VEVENT
DTSTART;TZID=America/Chicago:20220916T080000
DTEND;TZID=America/Chicago:20220917T170000
DTSTAMP:20260423T095809
CREATED:20220830T140545Z
LAST-MODIFIED:20220830T140546Z
UID:44444-1663315200-1663434000@thetulsaartsdistrict.org
SUMMARY:Dreamland Music Festival at The Hunt Club
DESCRIPTION:
URL:https://thetulsaartsdistrict.org/event/dreamland-music-festival-at-the-hunt-club/
LOCATION:The Hunt Club\, 224 N Main\, Tulsa\, OK\, 74103\, United States
END:VEVENT
BEGIN:VEVENT
DTSTART;TZID=America/Chicago:20220915T200000
DTEND;TZID=America/Chicago:20220915T230000
DTSTAMP:20260423T095809
CREATED:20220830T134959Z
LAST-MODIFIED:20220830T135930Z
UID:44433-1663272000-1663282800@thetulsaartsdistrict.org
SUMMARY:SEAN HARRISON -- Live at The Hunt Club
DESCRIPTION:
URL:https://thetulsaartsdistrict.org/event/sean-harrison-live-at-the-hunt-club-2/
LOCATION:The Hunt Club\, 224 N Main\, Tulsa\, OK\, 74103\, United States
END:VEVENT
BEGIN:VEVENT
DTSTART;TZID=America/Chicago:20220914T200000
DTEND;TZID=America/Chicago:20220914T210000
DTSTAMP:20260423T095809
CREATED:20201104T192337Z
LAST-MODIFIED:20220915T175226Z
UID:39047-1663185600-1663189200@thetulsaartsdistrict.org
SUMMARY:Gettin’ Greasy presents Open Mic Comedy Night at The Hunt Club
DESCRIPTION:
URL:https://thetulsaartsdistrict.org/event/soundstooth-open-mic-comedy-night-at-the-hunt-club-2022-01-26-2022-09-14/2022-09-14/
LOCATION:The Hunt Club\, 224 N Main\, Tulsa\, OK\, 74103\, United States
END:VEVENT
BEGIN:VEVENT
DTSTART;TZID=America/Chicago:20220911T170000
DTEND;TZID=America/Chicago:20220911T200000
DTSTAMP:20260423T095809
CREATED:20201206T162424Z
LAST-MODIFIED:20220909T192644Z
UID:41056-1662915600-1662926400@thetulsaartsdistrict.org
SUMMARY:Jim Bachmann featuring Michael Kyle Brown at The Hunt Club
DESCRIPTION:
URL:https://thetulsaartsdistrict.org/event/jordan-cox-at-the-hunt-club-2022-06-19-2022-06-19-2022-09-11/
LOCATION:The Hunt Club\, 224 N Main\, Tulsa\, OK\, 74103\, United States
END:VEVENT
BEGIN:VEVENT
DTSTART;TZID=America/Chicago:20220910T220000
DTEND;TZID=America/Chicago:20220911T010000
DTSTAMP:20260423T095809
CREATED:20220830T140425Z
LAST-MODIFIED:20220909T192210Z
UID:44442-1662847200-1662858000@thetulsaartsdistrict.org
SUMMARY:Bad Decisions at The Hunt Club at The Hunt Club
DESCRIPTION:
URL:https://thetulsaartsdistrict.org/event/bc-and-the-big-rig-at-the-hunt-club-10/
LOCATION:The Hunt Club\, 224 N Main\, Tulsa\, OK\, 74103\, United States
END:VEVENT
BEGIN:VEVENT
DTSTART;TZID=America/Chicago:20220909T220000
DTEND;TZID=America/Chicago:20220910T010000
DTSTAMP:20260423T095809
CREATED:20220830T140304Z
LAST-MODIFIED:20220830T140327Z
UID:44440-1662760800-1662771600@thetulsaartsdistrict.org
SUMMARY:Jake and the Idols at the Hunt Club
DESCRIPTION:
URL:https://thetulsaartsdistrict.org/event/jake-and-the-idols-at-the-hunt-club-3/
LOCATION:The Hunt Club\, 224 N Main\, Tulsa\, OK\, 74103\, United States
END:VEVENT
BEGIN:VEVENT
DTSTART;TZID=America/Chicago:20220903T220000
DTEND;TZID=America/Chicago:20220904T010000
DTSTAMP:20260423T095809
CREATED:20220830T140147Z
LAST-MODIFIED:20220830T140148Z
UID:44438-1662242400-1662253200@thetulsaartsdistrict.org
SUMMARY:Brandon Clark at the Hunt Club
DESCRIPTION:
URL:https://thetulsaartsdistrict.org/event/brandon-clark-at-the-hunt-club-8/
LOCATION:The Hunt Club\, 224 N Main\, Tulsa\, OK\, 74103\, United States
END:VEVENT
BEGIN:VEVENT
DTSTART;TZID=America/Chicago:20220902T220000
DTEND;TZID=America/Chicago:20220903T010000
DTSTAMP:20260423T095809
CREATED:20220730T144725Z
LAST-MODIFIED:20220730T144726Z
UID:43249-1662156000-1662166800@thetulsaartsdistrict.org
SUMMARY:Biscuits and Gravy at the Hunt Club
DESCRIPTION:
URL:https://thetulsaartsdistrict.org/event/biscuits-and-gravy-at-the-hunt-club/
LOCATION:The Hunt Club\, 224 N Main\, Tulsa\, OK\, 74103\, United States
END:VEVENT
BEGIN:VEVENT
DTSTART;TZID=America/Chicago:20220901T220000
DTEND;TZID=America/Chicago:20220902T010000
DTSTAMP:20260423T095809
CREATED:20220830T114328Z
LAST-MODIFIED:20220830T140013Z
UID:44431-1662069600-1662080400@thetulsaartsdistrict.org
SUMMARY:Ryan Graham at The Hunt Club
DESCRIPTION:
URL:https://thetulsaartsdistrict.org/event/ryan-graham-at-the-hunt-club/
LOCATION:The Hunt Club\, 224 N Main\, Tulsa\, OK\, 74103\, United States
END:VEVENT
BEGIN:VEVENT
DTSTART;TZID=America/Chicago:20220828T170000
DTEND;TZID=America/Chicago:20220828T200000
DTSTAMP:20260423T095809
CREATED:20201206T162424Z
LAST-MODIFIED:20220825T133844Z
UID:41054-1661706000-1661716800@thetulsaartsdistrict.org
SUMMARY:Jim Bachmann at The Hunt Club
DESCRIPTION:
URL:https://thetulsaartsdistrict.org/event/jordan-cox-at-the-hunt-club-2022-06-19-2022-06-19-2022-08-28/
LOCATION:The Hunt Club\, 224 N Main\, Tulsa\, OK\, 74103\, United States
END:VEVENT
BEGIN:VEVENT
DTSTART;TZID=America/Chicago:20220827T220000
DTEND;TZID=America/Chicago:20220828T010000
DTSTAMP:20260423T095809
CREATED:20220730T144555Z
LAST-MODIFIED:20220730T144556Z
UID:43247-1661637600-1661648400@thetulsaartsdistrict.org
SUMMARY:RPM at The Hunt Club
DESCRIPTION:
URL:https://thetulsaartsdistrict.org/event/rpm-at-the-hunt-club-15/
LOCATION:The Hunt Club\, 224 N Main\, Tulsa\, OK\, 74103\, United States
END:VEVENT
BEGIN:VEVENT
DTSTART;TZID=America/Chicago:20220826T220000
DTEND;TZID=America/Chicago:20220827T010000
DTSTAMP:20260423T095809
CREATED:20220730T144500Z
LAST-MODIFIED:20220730T144501Z
UID:43244-1661551200-1661562000@thetulsaartsdistrict.org
SUMMARY:Riverside Rebellion at The Hunt Club
DESCRIPTION:
URL:https://thetulsaartsdistrict.org/event/riverside-rebellion-at-the-hunt-club-2/
LOCATION:The Hunt Club\, 224 N Main\, Tulsa\, OK\, 74103\, United States
END:VEVENT
BEGIN:VEVENT
DTSTART;TZID=America/Chicago:20220825T200000
DTEND;TZID=America/Chicago:20220825T230000
DTSTAMP:20260423T095809
CREATED:20220825T133201Z
LAST-MODIFIED:20220825T133202Z
UID:44152-1661457600-1661468400@thetulsaartsdistrict.org
SUMMARY:Bryce Dicus & Dustin Herring at The Hunt Club
DESCRIPTION:
URL:https://thetulsaartsdistrict.org/event/bryce-dicus-dustin-herring-at-the-hunt-club-2/
LOCATION:The Hunt Club\, 224 N Main\, Tulsa\, OK\, 74103\, United States
END:VEVENT
BEGIN:VEVENT
DTSTART;TZID=America/Chicago:20220820T220000
DTEND;TZID=America/Chicago:20220821T010000
DTSTAMP:20260423T095809
CREATED:20220730T144325Z
LAST-MODIFIED:20220730T144326Z
UID:43241-1661032800-1661043600@thetulsaartsdistrict.org
SUMMARY:The Plumbers at the Hunt Club
DESCRIPTION:
URL:https://thetulsaartsdistrict.org/event/the-plumbers-at-the-hunt-club-7/
LOCATION:The Hunt Club\, 224 N Main\, Tulsa\, OK\, 74103\, United States
END:VEVENT
BEGIN:VEVENT
DTSTART;TZID=America/Chicago:20220819T220000
DTEND;TZID=America/Chicago:20220820T230000
DTSTAMP:20260423T095809
CREATED:20220622T201210Z
LAST-MODIFIED:20220818T222959Z
UID:41073-1660946400-1661036400@thetulsaartsdistrict.org
SUMMARY:Syd Trio at the Hunt Club
DESCRIPTION:
URL:https://thetulsaartsdistrict.org/event/std-trio-at-the-hunt-club/
LOCATION:The Hunt Club\, 224 N Main\, Tulsa\, OK\, 74103\, United States
END:VEVENT
BEGIN:VEVENT
DTSTART;TZID=America/Chicago:20220817T200000
DTEND;TZID=America/Chicago:20220817T210000
DTSTAMP:20260423T095809
CREATED:20201104T192337Z
LAST-MODIFIED:20220816T213952Z
UID:39043-1660766400-1660770000@thetulsaartsdistrict.org
SUMMARY:Soundstooth Open Mic Comedy Night at The Hunt Club + Gavin's Last Shift during Happy Hour
DESCRIPTION:
URL:https://thetulsaartsdistrict.org/event/soundstooth-open-mic-comedy-night-at-the-hunt-club-2022-01-26-2022-08-17/
LOCATION:The Hunt Club\, 224 N Main\, Tulsa\, OK\, 74103\, United States
END:VEVENT
BEGIN:VEVENT
DTSTART;TZID=America/Chicago:20220814T160000
DTEND;TZID=America/Chicago:20220814T190000
DTSTAMP:20260423T095809
CREATED:20220730T143913Z
LAST-MODIFIED:20220812T213829Z
UID:43235-1660492800-1660503600@thetulsaartsdistrict.org
SUMMARY:Jim Bachmann at the Hunt Club
DESCRIPTION:
URL:https://thetulsaartsdistrict.org/event/bc-and-the-big-rig-at-the-hunt-club-9/
LOCATION:The Hunt Club\, 224 N Main\, Tulsa\, OK\, 74103\, United States
END:VEVENT
BEGIN:VEVENT
DTSTART;TZID=America/Chicago:20220813T220000
DTEND;TZID=America/Chicago:20220814T010000
DTSTAMP:20260423T095809
CREATED:20201206T162424Z
LAST-MODIFIED:20220812T192307Z
UID:41052-1660428000-1660438800@thetulsaartsdistrict.org
SUMMARY:Brandon Clark & Jordan Cox at The Hunt Club
DESCRIPTION:
URL:https://thetulsaartsdistrict.org/event/jordan-cox-at-the-hunt-club-2022-06-19-2022-06-19-2022-08-14/
LOCATION:The Hunt Club\, 224 N Main\, Tulsa\, OK\, 74103\, United States
END:VEVENT
BEGIN:VEVENT
DTSTART;TZID=America/Chicago:20220812T220000
DTEND;TZID=America/Chicago:20220813T010000
DTSTAMP:20260423T095809
CREATED:20220812T124214Z
LAST-MODIFIED:20220812T124215Z
UID:43891-1660341600-1660352400@thetulsaartsdistrict.org
SUMMARY:Travis Bond and the Rebel Souls at The Hunt Club
DESCRIPTION:
URL:https://thetulsaartsdistrict.org/event/travis-bond-and-the-rebel-souls-at-the-hunt-club-3/
LOCATION:The Hunt Club\, 224 N Main\, Tulsa\, OK\, 74103\, United States
END:VEVENT
BEGIN:VEVENT
DTSTART;TZID=America/Chicago:20220805T220000
DTEND;TZID=America/Chicago:20220806T010000
DTSTAMP:20260423T095809
CREATED:20220730T143653Z
LAST-MODIFIED:20220730T143654Z
UID:43230-1659736800-1659747600@thetulsaartsdistrict.org
SUMMARY:JT and the Dirt Wailers at The Hunt Club
DESCRIPTION:
URL:https://thetulsaartsdistrict.org/event/jt-and-the-dirt-wailers-at-the-hunt-club/
LOCATION:The Hunt Club\, 224 N Main\, Tulsa\, OK\, 74103\, United States
END:VEVENT
BEGIN:VEVENT
DTSTART;TZID=America/Chicago:20220804T200000
DTEND;TZID=America/Chicago:20220804T220000
DTSTAMP:20260423T095809
CREATED:20220627T122948Z
LAST-MODIFIED:20220627T122949Z
UID:41240-1659643200-1659650400@thetulsaartsdistrict.org
SUMMARY:THE HUNT CLUB | Brightwire / Grifters & Shills
DESCRIPTION:
URL:https://thetulsaartsdistrict.org/event/the-hunt-club-brightwire-grifters-shills/
LOCATION:The Hunt Club\, 224 N Main\, Tulsa\, OK\, 74103\, United States
END:VEVENT
BEGIN:VEVENT
DTSTART;TZID=America/Chicago:20220731T160000
DTEND;TZID=America/Chicago:20220731T190000
DTSTAMP:20260423T095809
CREATED:20201206T162424Z
LAST-MODIFIED:20220727T181317Z
UID:41050-1659283200-1659294000@thetulsaartsdistrict.org
SUMMARY:Jim Bachmann at The Hunt Club
DESCRIPTION:
URL:https://thetulsaartsdistrict.org/event/jordan-cox-at-the-hunt-club-2022-06-19-2022-06-19-2022-07-31/
LOCATION:The Hunt Club\, 224 N Main\, Tulsa\, OK\, 74103\, United States
END:VEVENT
BEGIN:VEVENT
DTSTART;TZID=America/Chicago:20220730T220000
DTEND;TZID=America/Chicago:20220731T010000
DTSTAMP:20260423T095809
CREATED:20220622T202254Z
LAST-MODIFIED:20220622T202255Z
UID:41086-1659218400-1659229200@thetulsaartsdistrict.org
SUMMARY:BC and the Big Rig at The Hunt Club
DESCRIPTION:
URL:https://thetulsaartsdistrict.org/event/bc-and-the-big-rig-at-the-hunt-club-8/
LOCATION:The Hunt Club\, 224 N Main\, Tulsa\, OK\, 74103\, United States
END:VEVENT
END:VCALENDAR