BEGIN:VCALENDAR
VERSION:2.0
PRODID:-//Tulsa Arts District - ECPv6.15.18//NONSGML v1.0//EN
CALSCALE:GREGORIAN
METHOD:PUBLISH
X-ORIGINAL-URL:https://thetulsaartsdistrict.org
X-WR-CALDESC:Events for Tulsa Arts District
REFRESH-INTERVAL;VALUE=DURATION:PT1H
X-Robots-Tag:noindex
X-PUBLISHED-TTL:PT1H
BEGIN:VTIMEZONE
TZID:America/Chicago
BEGIN:DAYLIGHT
TZOFFSETFROM:-0600
TZOFFSETTO:-0500
TZNAME:CDT
DTSTART:20240310T080000
END:DAYLIGHT
BEGIN:STANDARD
TZOFFSETFROM:-0500
TZOFFSETTO:-0600
TZNAME:CST
DTSTART:20241103T070000
END:STANDARD
BEGIN:DAYLIGHT
TZOFFSETFROM:-0600
TZOFFSETTO:-0500
TZNAME:CDT
DTSTART:20250309T080000
END:DAYLIGHT
BEGIN:STANDARD
TZOFFSETFROM:-0500
TZOFFSETTO:-0600
TZNAME:CST
DTSTART:20251102T070000
END:STANDARD
BEGIN:DAYLIGHT
TZOFFSETFROM:-0600
TZOFFSETTO:-0500
TZNAME:CDT
DTSTART:20260308T080000
END:DAYLIGHT
BEGIN:STANDARD
TZOFFSETFROM:-0500
TZOFFSETTO:-0600
TZNAME:CST
DTSTART:20261101T070000
END:STANDARD
END:VTIMEZONE
BEGIN:VEVENT
DTSTART;TZID=America/Chicago:20250909T190000
DTEND;TZID=America/Chicago:20250909T210000
DTSTAMP:20260401T124215
CREATED:20250817T173544Z
LAST-MODIFIED:20250817T180738Z
UID:97134-1757444400-1757451600@thetulsaartsdistrict.org
SUMMARY:Tulsa Drillers vs Arkansas Travelers + 2 News Oklahoma $2 Tuesday + Tito's Vodka Pregame & Busch Light Happy at ONEOK Field in Greenwood
DESCRIPTION:
URL:https://thetulsaartsdistrict.org/event/tulsa-drillers-vs-arkansas-travelers-at-oneok-fiel-in-greenwood/
LOCATION:Tulsa Drillers\, 201 N Elgin\, Tulsa\, OK\, 74120\, United States
END:VEVENT
BEGIN:VEVENT
DTSTART;TZID=America/Chicago:20250831T170000
DTEND;TZID=America/Chicago:20250831T210000
DTSTAMP:20260401T124215
CREATED:20250711T150852Z
LAST-MODIFIED:20250711T161500Z
UID:95897-1756659600-1756674000@thetulsaartsdistrict.org
SUMMARY:Tulsa Drillers vs Corpus Christi Hooks + Labor Day Weekend Fireworks! + Tito's Vodka Pregame Happy Half Hour at ONEOK Field in Greenwood
DESCRIPTION:
URL:https://thetulsaartsdistrict.org/event/tulsa-drillers-vs-corpus-christi-hooks-at-oneok-field-in-greenwood-5-2025-08-31/
LOCATION:Tulsa Drillers\, 201 N Elgin\, Tulsa\, OK\, 74120\, United States
END:VEVENT
BEGIN:VEVENT
DTSTART;TZID=America/Chicago:20250830T180000
DTEND;TZID=America/Chicago:20250830T210000
DTSTAMP:20260401T124215
CREATED:20250711T150852Z
LAST-MODIFIED:20250711T161020Z
UID:95896-1756576800-1756587600@thetulsaartsdistrict.org
SUMMARY:Tulsa Drillers vs Corpus Christi Hooks + NewsChannel 8 Grand Slam Saturday + Tito's Vodka Pregame Happy Half Hour at ONEOK Field in Greenwood
DESCRIPTION:
URL:https://thetulsaartsdistrict.org/event/tulsa-drillers-vs-corpus-christi-hooks-at-oneok-field-in-greenwood-5-2025-08-30/
LOCATION:Tulsa Drillers\, 201 N Elgin\, Tulsa\, OK\, 74120\, United States
END:VEVENT
BEGIN:VEVENT
DTSTART;TZID=America/Chicago:20250829T180000
DTEND;TZID=America/Chicago:20250829T210000
DTSTAMP:20260401T124216
CREATED:20250711T150852Z
LAST-MODIFIED:20250711T160748Z
UID:95895-1756490400-1756501200@thetulsaartsdistrict.org
SUMMARY:Tulsa Drillers vs Corpus Christi Hooks + News On 6 K-Hits Friday Night Fireworks + Tito's Vodka Pregame Happy Half Hour at ONEOK Field in Greenwood
DESCRIPTION:
URL:https://thetulsaartsdistrict.org/event/tulsa-drillers-vs-corpus-christi-hooks-at-oneok-field-in-greenwood-5-2025-08-29/
LOCATION:Tulsa Drillers\, 201 N Elgin\, Tulsa\, OK\, 74120\, United States
END:VEVENT
BEGIN:VEVENT
DTSTART;TZID=America/Chicago:20250828T190000
DTEND;TZID=America/Chicago:20250828T210000
DTSTAMP:20260401T124216
CREATED:20250711T150852Z
LAST-MODIFIED:20250711T160552Z
UID:95894-1756407600-1756414800@thetulsaartsdistrict.org
SUMMARY:Tulsa Drillers vs Corpus Christi Hooks + FOX23 Thirsty Thursday + Drillers Hat Giveaway + Thirsty Thursday Drink Specials + Tito's Vodka Pregame Happy Half Hour at ONEOK Field in Greenwood
DESCRIPTION:
URL:https://thetulsaartsdistrict.org/event/tulsa-drillers-vs-corpus-christi-hooks-at-oneok-field-in-greenwood-5-2025-08-28/
LOCATION:Tulsa Drillers\, 201 N Elgin\, Tulsa\, OK\, 74120\, United States
END:VEVENT
BEGIN:VEVENT
DTSTART;TZID=America/Chicago:20250827T190000
DTEND;TZID=America/Chicago:20250827T210000
DTSTAMP:20260401T124216
CREATED:20250711T150852Z
LAST-MODIFIED:20250711T160159Z
UID:95893-1756321200-1756328400@thetulsaartsdistrict.org
SUMMARY:Tulsa Drillers vs Corpus Christi Hooks + Bark in the Park & $3 White Claws + Postgame Pups Run the Bases + Williams Make-A-Difference Wednesday + Tito's Vodka Pregame Happy Half Hour at ONEOK Field in Greenwood
DESCRIPTION:
URL:https://thetulsaartsdistrict.org/event/tulsa-drillers-vs-corpus-christi-hooks-at-oneok-field-in-greenwood-5-2025-08-27/
LOCATION:Tulsa Drillers\, 201 N Elgin\, Tulsa\, OK\, 74120\, United States
END:VEVENT
BEGIN:VEVENT
DTSTART;TZID=America/Chicago:20250826T190000
DTEND;TZID=America/Chicago:20250826T210000
DTSTAMP:20260401T124216
CREATED:20250711T150852Z
LAST-MODIFIED:20250711T155549Z
UID:95890-1756234800-1756242000@thetulsaartsdistrict.org
SUMMARY:Tulsa Drillers vs Corpus Christi Hooks + 2 News Oklahoma $2 Tuesday + Tito's Vodka & Busch Light Pregame Happy Hour at ONEOK Field in Greenwood
DESCRIPTION:
URL:https://thetulsaartsdistrict.org/event/tulsa-drillers-vs-corpus-christi-hooks-at-oneok-field-in-greenwood-5/
LOCATION:Tulsa Drillers\, 201 N Elgin\, Tulsa\, OK\, 74120\, United States
END:VEVENT
BEGIN:VEVENT
DTSTART;TZID=America/Chicago:20250817T120000
DTEND;TZID=America/Chicago:20250817T140000
DTSTAMP:20260401T124216
CREATED:20250711T140732Z
LAST-MODIFIED:20250711T145457Z
UID:95862-1755432000-1755439200@thetulsaartsdistrict.org
SUMMARY:Tulsa Drillers vs San Antonio Missions + Kids Get In FREE! Kids Run the Bases! & Catch on the Field + FREE QuikTrip Hornsby's Hangout + Tito's Vodka Pregame Happy Half Hour at ONEOK Field in Greenwood
DESCRIPTION:
URL:https://thetulsaartsdistrict.org/event/tulsa-drillers-vs-san-antonio-missions-at-oneok-field-in-greenwood-2-2025-08-13-2025-08-17/
LOCATION:Tulsa Drillers\, 201 N Elgin\, Tulsa\, OK\, 74120\, United States
END:VEVENT
BEGIN:VEVENT
DTSTART;TZID=America/Chicago:20250816T190000
DTEND;TZID=America/Chicago:20250816T210000
DTSTAMP:20260401T124216
CREATED:20250711T140732Z
LAST-MODIFIED:20250711T144855Z
UID:95861-1755370800-1755378000@thetulsaartsdistrict.org
SUMMARY:Tulsa Drillers vs San Antonio Missions + NewsChannel 8 Grand Slam Saturday - Fireworks + Drillers BeerFest + Hearing Loss Awareness Night Tito's Vodka Pregame Happy Half Hour at ONEOK Field in Greenwood
DESCRIPTION:
URL:https://thetulsaartsdistrict.org/event/tulsa-drillers-vs-san-antonio-missions-at-oneok-field-in-greenwood-2-2025-08-13-2025-08-16/
LOCATION:Tulsa Drillers\, 201 N Elgin\, Tulsa\, OK\, 74120\, United States
END:VEVENT
BEGIN:VEVENT
DTSTART;TZID=America/Chicago:20250815T190000
DTEND;TZID=America/Chicago:20250815T210000
DTSTAMP:20260401T124216
CREATED:20250711T140732Z
LAST-MODIFIED:20250711T144532Z
UID:95860-1755284400-1755291600@thetulsaartsdistrict.org
SUMMARY:Tulsa Drillers vs San Antonio Missions + News On 6 K-Hits Friday Night Fireworks + Tito's Vodka Pregame Happy Half Hour at ONEOK Field in Greenwood
DESCRIPTION:
URL:https://thetulsaartsdistrict.org/event/tulsa-drillers-vs-san-antonio-missions-at-oneok-field-in-greenwood-2-2025-08-13-2025-08-15/
LOCATION:Tulsa Drillers\, 201 N Elgin\, Tulsa\, OK\, 74120\, United States
END:VEVENT
BEGIN:VEVENT
DTSTART;TZID=America/Chicago:20250814T190000
DTEND;TZID=America/Chicago:20250814T210000
DTSTAMP:20260401T124216
CREATED:20250711T140732Z
LAST-MODIFIED:20250803T192618Z
UID:95859-1755198000-1755205200@thetulsaartsdistrict.org
SUMMARY:Tulsa Drillers vs San Antonio Missions + FOX23 Thirsty Thursday Drink Specials + SITCOM NIGHT with Steve Hytner Appearance + Tito's Vodka Pregame at ONEOK Field in Greenwood
DESCRIPTION:
URL:https://thetulsaartsdistrict.org/event/tulsa-drillers-vs-san-antonio-missions-at-oneok-field-in-greenwood-2-2025-08-13-2025-08-14/
LOCATION:Tulsa Drillers\, 201 N Elgin\, Tulsa\, OK\, 74120\, United States
END:VEVENT
BEGIN:VEVENT
DTSTART;TZID=America/Chicago:20250813T190000
DTEND;TZID=America/Chicago:20250813T210000
DTSTAMP:20260401T124216
CREATED:20250711T140732Z
LAST-MODIFIED:20250711T143827Z
UID:95858-1755111600-1755118800@thetulsaartsdistrict.org
SUMMARY:Tulsa Drillers vs San Antonio Missions + Bark in the Park & $3 White Claws + Postgame Pups Run the Bases + Williams Make-A-Difference Wednesday + Tito's Vodka Pregame Happy Half Hour at ONEOK Field in Greenwood
DESCRIPTION:
URL:https://thetulsaartsdistrict.org/event/tulsa-drillers-vs-san-antonio-missions-at-oneok-field-in-greenwood-2-2025-08-13/
LOCATION:Tulsa Drillers\, 201 N Elgin\, Tulsa\, OK\, 74120\, United States
END:VEVENT
BEGIN:VEVENT
DTSTART;TZID=America/Chicago:20250812T190000
DTEND;TZID=America/Chicago:20250812T210000
DTSTAMP:20260401T124216
CREATED:20250711T140732Z
LAST-MODIFIED:20250711T141335Z
UID:95855-1755025200-1755032400@thetulsaartsdistrict.org
SUMMARY:Tulsa Drillers vs San Antonio Missions + 2 News Oklahoma $2 Tuesday + Tito's Vodka Pregame & Busch Light Happy Hour! at ONEOK Field in Greenwood
DESCRIPTION:
URL:https://thetulsaartsdistrict.org/event/tulsa-drillers-vs-san-antonio-missions-at-oneok-field-in-greenwood-2/
LOCATION:Tulsa Drillers\, 201 N Elgin\, Tulsa\, OK\, 74120\, United States
END:VEVENT
BEGIN:VEVENT
DTSTART;TZID=America/Chicago:20250727T120000
DTEND;TZID=America/Chicago:20250727T140000
DTSTAMP:20260401T124216
CREATED:20250619T224849Z
LAST-MODIFIED:20250619T232044Z
UID:93550-1753617600-1753624800@thetulsaartsdistrict.org
SUMMARY:Tulsa Drillers vs Springfield Cardinals + NewsChannel 8 FUNday Sunday + Kids Run the Bases & Catch on the Field! + FREE QuikTrip Hornsby's Hangout + Tito's Vodka Pregame Happy Half Hour at ONEOK Field in Greenwood
DESCRIPTION:
URL:https://thetulsaartsdistrict.org/event/tulsa-drillers-vs-springfield-cardinals-at-oneok-field-in-greenwood-6-2025-07-27/
LOCATION:Tulsa Drillers\, 201 N Elgin\, Tulsa\, OK\, 74120\, United States
END:VEVENT
BEGIN:VEVENT
DTSTART;TZID=America/Chicago:20250726T190000
DTEND;TZID=America/Chicago:20250726T210000
DTSTAMP:20260401T124216
CREATED:20250619T224849Z
LAST-MODIFIED:20250619T231549Z
UID:93549-1753556400-1753563600@thetulsaartsdistrict.org
SUMMARY:Tulsa Drillers vs Springfield Cardinals + NewsChannel 8 Grand Slam Saturday - Back to School Backpack + Mascot Mania + Tito's Vodka Pregame Happy Half Hour at ONEOK Field in Greenwood
DESCRIPTION:
URL:https://thetulsaartsdistrict.org/event/tulsa-drillers-vs-springfield-cardinals-at-oneok-field-in-greenwood-6-2025-07-26/
LOCATION:Tulsa Drillers\, 201 N Elgin\, Tulsa\, OK\, 74120\, United States
END:VEVENT
BEGIN:VEVENT
DTSTART;TZID=America/Chicago:20250725T190000
DTEND;TZID=America/Chicago:20250725T210000
DTSTAMP:20260401T124216
CREATED:20250619T224849Z
LAST-MODIFIED:20250619T231031Z
UID:93548-1753470000-1753477200@thetulsaartsdistrict.org
SUMMARY:Tulsa Drillers vs Springfield Cardinals + News On 6 K-Hits Friday Night Fireworks + Christmas in July! + Tito's Vodka Pregame Happy Half Hour at ONEOK Field in Greenwood
DESCRIPTION:
URL:https://thetulsaartsdistrict.org/event/tulsa-drillers-vs-springfield-cardinals-at-oneok-field-in-greenwood-6-2025-07-25/
LOCATION:Tulsa Drillers\, 201 N Elgin\, Tulsa\, OK\, 74120\, United States
END:VEVENT
BEGIN:VEVENT
DTSTART;TZID=America/Chicago:20250724T190000
DTEND;TZID=America/Chicago:20250724T210000
DTSTAMP:20260401T124216
CREATED:20250619T224849Z
LAST-MODIFIED:20250619T230735Z
UID:93547-1753383600-1753390800@thetulsaartsdistrict.org
SUMMARY:Tulsa Drillers vs Springfield Cardinals + FOX23 Thirsty Thursday + Drillers Margaritaville Jersey Giveaway + Thirsty Thursday Drink Specials + Tito's Vodka Pregame at ONEOK Field in Greenwood
DESCRIPTION:
URL:https://thetulsaartsdistrict.org/event/tulsa-drillers-vs-springfield-cardinals-at-oneok-field-in-greenwood-6-2025-07-24/
LOCATION:Tulsa Drillers\, 201 N Elgin\, Tulsa\, OK\, 74120\, United States
END:VEVENT
BEGIN:VEVENT
DTSTART;TZID=America/Chicago:20250723T190000
DTEND;TZID=America/Chicago:20250723T210000
DTSTAMP:20260401T124216
CREATED:20250619T224849Z
LAST-MODIFIED:20250619T230439Z
UID:93546-1753297200-1753304400@thetulsaartsdistrict.org
SUMMARY:Tulsa Drillers vs Springfield Cardinals + Bark in the Park & $3 White Claws + Postgame Pups Run the Bases + Williams Make-A-Difference Wednesday + Tito's Vodka Pregame Happy Half Hour at ONEOK Field in Greenwood
DESCRIPTION:
URL:https://thetulsaartsdistrict.org/event/tulsa-drillers-vs-springfield-cardinals-at-oneok-field-in-greenwood-6-2025-07-23/
LOCATION:Tulsa Drillers\, 201 N Elgin\, Tulsa\, OK\, 74120\, United States
END:VEVENT
BEGIN:VEVENT
DTSTART;TZID=America/Chicago:20250722T190000
DTEND;TZID=America/Chicago:20250722T210000
DTSTAMP:20260401T124216
CREATED:20250619T224849Z
LAST-MODIFIED:20250619T225930Z
UID:93543-1753210800-1753218000@thetulsaartsdistrict.org
SUMMARY:Tulsa Drillers vs Springfield Cardinals + 2 News Oklahoma $2 Tuesday at ONEOK Field in Greenwood
DESCRIPTION:
URL:https://thetulsaartsdistrict.org/event/tulsa-drillers-vs-springfield-cardinals-at-oneok-field-in-greenwood-6/
LOCATION:Tulsa Drillers\, 201 N Elgin\, Tulsa\, OK\, 74120\, United States
END:VEVENT
BEGIN:VEVENT
DTSTART;TZID=America/Chicago:20250720T190000
DTEND;TZID=America/Chicago:20250720T210000
DTSTAMP:20260401T124216
CREATED:20250619T202911Z
LAST-MODIFIED:20250619T223418Z
UID:93524-1753038000-1753045200@thetulsaartsdistrict.org
SUMMARY:Tulsa Drillers vs NW Arkansas Naturals + NewsChannel 8 FUNday Sunday + Noodlers Weekend + Kids Run the Bases! + FREE QuikTrip Hornsby's Hangout + Kids Catch on Field + Tito's Vodka Pregame Happy Half Hour at ONEOK Field in Greenwood
DESCRIPTION:
URL:https://thetulsaartsdistrict.org/event/tulsa-drillers-bs-nw-arkansas-naturals-2025-07-19-2025-07-20/
LOCATION:Tulsa Drillers\, 201 N Elgin\, Tulsa\, OK\, 74120\, United States
END:VEVENT
BEGIN:VEVENT
DTSTART;TZID=America/Chicago:20250719T190000
DTEND;TZID=America/Chicago:20250719T210000
DTSTAMP:20260401T124216
CREATED:20250619T202911Z
LAST-MODIFIED:20250619T222940Z
UID:93523-1752951600-1752958800@thetulsaartsdistrict.org
SUMMARY:Tulsa Drillers vs NW Arkansas Naturals + NewsChannel 8 Grand Slam Saturday - Noodlers Beach Hat Giveaway + Noodlers Weekend + Tito's Vodka Pregame Happy Half Hour at ONEOK Field in Greenwood
DESCRIPTION:
URL:https://thetulsaartsdistrict.org/event/tulsa-drillers-bs-nw-arkansas-naturals-2025-07-19/
LOCATION:Tulsa Drillers\, 201 N Elgin\, Tulsa\, OK\, 74120\, United States
END:VEVENT
BEGIN:VEVENT
DTSTART;TZID=America/Chicago:20250718T190000
DTEND;TZID=America/Chicago:20250718T210000
DTSTAMP:20260401T124216
CREATED:20250619T202911Z
LAST-MODIFIED:20250619T222324Z
UID:93520-1752865200-1752872400@thetulsaartsdistrict.org
SUMMARY:Tulsa Drillers vs NW Arkansas Naturals + News On 6 K-Hits Friday Night Fireworks + Noodlers Weekend + Tito's Vodka Pregame Happy Half Hour at ONEOK Field in Greenwood
DESCRIPTION:
URL:https://thetulsaartsdistrict.org/event/tulsa-drillers-bs-nw-arkansas-naturals/
LOCATION:Tulsa Drillers\, 201 N Elgin\, Tulsa\, OK\, 74120\, United States
END:VEVENT
BEGIN:VEVENT
DTSTART;TZID=America/Chicago:20250703T183000
DTEND;TZID=America/Chicago:20250703T203000
DTSTAMP:20260401T124216
CREATED:20250619T190746Z
LAST-MODIFIED:20250619T220554Z
UID:93519-1751567400-1751574600@thetulsaartsdistrict.org
SUMMARY:Tulsa Drillers vs Wichita Wind Surge + Red\, White & Drillers Blue Fireworks! + Tito's Vodka Pregame Happy Half Hour at ONEOK Field in Greenwood
DESCRIPTION:
URL:https://thetulsaartsdistrict.org/event/tulsa-drillers-vs-wichita-wind-surge-at-oneok-field-in-greenwood-3-2025-07-03/
LOCATION:Tulsa Drillers\, 201 N Elgin\, Tulsa\, OK\, 74120\, United States
END:VEVENT
BEGIN:VEVENT
DTSTART;TZID=America/Chicago:20250702T190000
DTEND;TZID=America/Chicago:20250702T210000
DTSTAMP:20260401T124216
CREATED:20250619T190746Z
LAST-MODIFIED:20250619T220757Z
UID:93518-1751482800-1751490000@thetulsaartsdistrict.org
SUMMARY:Tulsa Drillers vs Wichita Wind Surge + Red\, White & Drillers Blue Fireworks! + Tito's Vodka Pregame Happy Half Hour at ONEOK Field in Greenwood
DESCRIPTION:
URL:https://thetulsaartsdistrict.org/event/tulsa-drillers-vs-wichita-wind-surge-at-oneok-field-in-greenwood-3-2025-07-02/
LOCATION:Tulsa Drillers\, 201 N Elgin\, Tulsa\, OK\, 74120\, United States
END:VEVENT
BEGIN:VEVENT
DTSTART;TZID=America/Chicago:20250701T190000
DTEND;TZID=America/Chicago:20250701T210000
DTSTAMP:20260401T124216
CREATED:20250619T190746Z
LAST-MODIFIED:20250619T221837Z
UID:93515-1751396400-1751403600@thetulsaartsdistrict.org
SUMMARY:Tulsa Drillers vs Wichita Wind Surge + Red\, White & Drillers Blue Fireworks! + Tito's Vodka Pregame Happy Half Hour at ONEOK Field in Greenwood
DESCRIPTION:
URL:https://thetulsaartsdistrict.org/event/tulsa-drillers-vs-wichita-wind-surge-at-oneok-field-in-greenwood-3/
LOCATION:Tulsa Drillers\, 201 N Elgin\, Tulsa\, OK\, 74120\, United States
END:VEVENT
BEGIN:VEVENT
DTSTART;TZID=America/Chicago:20250622T173000
DTEND;TZID=America/Chicago:20250622T210000
DTSTAMP:20260401T124216
CREATED:20250622T121953Z
LAST-MODIFIED:20250622T121956Z
UID:94637-1750613400-1750626000@thetulsaartsdistrict.org
SUMMARY:NBA Championship Game 7 Watch Party at ONEOK Field hosted by Tulsa Drillers - Tip-off at 7 pm
DESCRIPTION:
URL:https://thetulsaartsdistrict.org/event/nba-championship-game-7-watch-party-at-oneok-field-hosted-by-tulsa-drillers-tip-off-at-7-pm/
LOCATION:Tulsa Drillers\, 201 N Elgin\, Tulsa\, OK\, 74120\, United States
END:VEVENT
BEGIN:VEVENT
DTSTART;TZID=America/Chicago:20250622T130000
DTEND;TZID=America/Chicago:20250622T150000
DTSTAMP:20260401T124216
CREATED:20250523T202206Z
LAST-MODIFIED:20250523T204702Z
UID:92650-1750597200-1750604400@thetulsaartsdistrict.org
SUMMARY:Tulsa Drillers vs Midland RockHounds at ONEOK Field in Greenwood + NewsChannel 8 FUNday Sunday! - Kids Eat Free + Hornsby Building Block Toy Giveaway + Kids Run the Bases & Catch on Field! + FREE QuikTrip Hornsby's Hangout + Tito's Vodka Pregame Happy Hour!
DESCRIPTION:
URL:https://thetulsaartsdistrict.org/event/tulsa-drillers-vs-midland-rockhounds-at-oneok-field-in-greenwood-2-2025-06-18-2025-06-22/
LOCATION:Tulsa Drillers\, 201 N Elgin\, Tulsa\, OK\, 74120\, United States
END:VEVENT
BEGIN:VEVENT
DTSTART;TZID=America/Chicago:20250621T190000
DTEND;TZID=America/Chicago:20250621T210000
DTSTAMP:20260401T124216
CREATED:20250523T202206Z
LAST-MODIFIED:20250523T204149Z
UID:92649-1750532400-1750539600@thetulsaartsdistrict.org
SUMMARY:Tulsa Drillers vs Midland RockHounds at ONEOK Field in Greenwood + NewsChannel 8 Grand Slam Saturday - "T" Town Clowns Hat Giveaway + "T" Town Clowns Weekend + Tito's Vodka Pregame & Busch Light Happy Hour!
DESCRIPTION:
URL:https://thetulsaartsdistrict.org/event/tulsa-drillers-vs-midland-rockhounds-at-oneok-field-in-greenwood-2-2025-06-18-2025-06-21/
LOCATION:Tulsa Drillers\, 201 N Elgin\, Tulsa\, OK\, 74120\, United States
END:VEVENT
BEGIN:VEVENT
DTSTART;TZID=America/Chicago:20250621T173000
DTEND;TZID=America/Chicago:20250621T193000
DTSTAMP:20260401T124216
CREATED:20250614T160158Z
LAST-MODIFIED:20250614T160201Z
UID:93370-1750527000-1750534200@thetulsaartsdistrict.org
SUMMARY:Tulsa Drillers Beerfest presented by Skiatook Paws & Claws Animal Rescue at ONEOK Field in Greenwood
DESCRIPTION:
URL:https://thetulsaartsdistrict.org/event/tulsa-drillers-beerfest-presented-by-skiatook-paws-claws-animal-rescue-at-oneok-field-in-greenwood/
LOCATION:Tulsa Drillers\, 201 N Elgin\, Tulsa\, OK\, 74120\, United States
END:VEVENT
BEGIN:VEVENT
DTSTART;TZID=America/Chicago:20250620T190000
DTEND;TZID=America/Chicago:20250620T210000
DTSTAMP:20260401T124216
CREATED:20250523T202206Z
LAST-MODIFIED:20250523T203955Z
UID:92648-1750446000-1750453200@thetulsaartsdistrict.org
SUMMARY:Tulsa Drillers vs Midland RockHounds at ONEOK Field in Greenwood + News On 6 K-Hits Friday Night Fireworks + "T" Town Clowns Weekend + Tito's Vodka Pregame Happy Hour!
DESCRIPTION:
URL:https://thetulsaartsdistrict.org/event/tulsa-drillers-vs-midland-rockhounds-at-oneok-field-in-greenwood-2-2025-06-18-2025-06-20/
LOCATION:Tulsa Drillers\, 201 N Elgin\, Tulsa\, OK\, 74120\, United States
END:VEVENT
END:VCALENDAR