BEGIN:VCALENDAR
VERSION:2.0
PRODID:-//Tulsa Arts District - ECPv6.15.20//NONSGML v1.0//EN
CALSCALE:GREGORIAN
METHOD:PUBLISH
X-ORIGINAL-URL:https://thetulsaartsdistrict.org
X-WR-CALDESC:Events for Tulsa Arts District
REFRESH-INTERVAL;VALUE=DURATION:PT1H
X-Robots-Tag:noindex
X-PUBLISHED-TTL:PT1H
BEGIN:VTIMEZONE
TZID:America/Chicago
BEGIN:DAYLIGHT
TZOFFSETFROM:-0600
TZOFFSETTO:-0500
TZNAME:CDT
DTSTART:20180311T080000
END:DAYLIGHT
BEGIN:STANDARD
TZOFFSETFROM:-0500
TZOFFSETTO:-0600
TZNAME:CST
DTSTART:20181104T070000
END:STANDARD
BEGIN:DAYLIGHT
TZOFFSETFROM:-0600
TZOFFSETTO:-0500
TZNAME:CDT
DTSTART:20190310T080000
END:DAYLIGHT
BEGIN:STANDARD
TZOFFSETFROM:-0500
TZOFFSETTO:-0600
TZNAME:CST
DTSTART:20191103T070000
END:STANDARD
BEGIN:DAYLIGHT
TZOFFSETFROM:-0600
TZOFFSETTO:-0500
TZNAME:CDT
DTSTART:20200308T080000
END:DAYLIGHT
BEGIN:STANDARD
TZOFFSETFROM:-0500
TZOFFSETTO:-0600
TZNAME:CST
DTSTART:20201101T070000
END:STANDARD
BEGIN:DAYLIGHT
TZOFFSETFROM:-0600
TZOFFSETTO:-0500
TZNAME:CDT
DTSTART:20210314T080000
END:DAYLIGHT
BEGIN:STANDARD
TZOFFSETFROM:-0500
TZOFFSETTO:-0600
TZNAME:CST
DTSTART:20211107T070000
END:STANDARD
BEGIN:DAYLIGHT
TZOFFSETFROM:-0600
TZOFFSETTO:-0500
TZNAME:CDT
DTSTART:20220313T080000
END:DAYLIGHT
BEGIN:STANDARD
TZOFFSETFROM:-0500
TZOFFSETTO:-0600
TZNAME:CST
DTSTART:20221106T070000
END:STANDARD
BEGIN:DAYLIGHT
TZOFFSETFROM:-0600
TZOFFSETTO:-0500
TZNAME:CDT
DTSTART:20230312T080000
END:DAYLIGHT
BEGIN:STANDARD
TZOFFSETFROM:-0500
TZOFFSETTO:-0600
TZNAME:CST
DTSTART:20231105T070000
END:STANDARD
BEGIN:DAYLIGHT
TZOFFSETFROM:-0600
TZOFFSETTO:-0500
TZNAME:CDT
DTSTART:20240310T080000
END:DAYLIGHT
BEGIN:STANDARD
TZOFFSETFROM:-0500
TZOFFSETTO:-0600
TZNAME:CST
DTSTART:20241103T070000
END:STANDARD
BEGIN:DAYLIGHT
TZOFFSETFROM:-0600
TZOFFSETTO:-0500
TZNAME:CDT
DTSTART:20250309T080000
END:DAYLIGHT
BEGIN:STANDARD
TZOFFSETFROM:-0500
TZOFFSETTO:-0600
TZNAME:CST
DTSTART:20251102T070000
END:STANDARD
BEGIN:DAYLIGHT
TZOFFSETFROM:-0600
TZOFFSETTO:-0500
TZNAME:CDT
DTSTART:20260308T080000
END:DAYLIGHT
BEGIN:STANDARD
TZOFFSETFROM:-0500
TZOFFSETTO:-0600
TZNAME:CST
DTSTART:20261101T070000
END:STANDARD
END:VTIMEZONE
BEGIN:VEVENT
DTSTART;TZID=America/Chicago:20250415T190000
DTEND;TZID=America/Chicago:20250415T200000
DTSTAMP:20260423T113855
CREATED:20250323T181343Z
LAST-MODIFIED:20250323T181346Z
UID:90010-1744743600-1744747200@thetulsaartsdistrict.org
SUMMARY:Elise Paschen to celebrate her new book\, Blood Wolf Moon. Co-hosted by Magic City Books at Tulsa Historical Society
DESCRIPTION:
URL:https://thetulsaartsdistrict.org/event/elise-paschen-to-celebrate-her-new-book-blood-wolf-moon-co-hosted-by-magic-city-books-at-tulsa-historical-society/
LOCATION:Tulsa Historical Society\, 2445 S Peoria Avenue\, Tulsa\, OK\, 74114\, United States
END:VEVENT
BEGIN:VEVENT
DTSTART;TZID=America/Chicago:20241021T190000
DTEND;TZID=America/Chicago:20241021T200000
DTSTAMP:20260423T113855
CREATED:20240922T180729Z
LAST-MODIFIED:20240922T180732Z
UID:80972-1729537200-1729540800@thetulsaartsdistrict.org
SUMMARY:Tulsa native Russell Cobb is back to celebrate the publication of his new book\, Ghosts of Crook County: An Oil Fortune\, A Phantom Child and the Fight for Indigenous Land. hosted by Magic City Books at Tulsa Historical Society
DESCRIPTION:
URL:https://thetulsaartsdistrict.org/event/tulsa-native-russell-cobb-is-back-to-celebrate-the-publication-of-his-new-book-ghosts-of-crook-county-an-oil-fortune-a-phantom-child-and-the-fight-for-indigenous-land-hosted-by-magic-city-boo/
LOCATION:Tulsa Historical Society\, 2445 S Peoria Avenue\, Tulsa\, OK\, 74114\, United States
END:VEVENT
BEGIN:VEVENT
DTSTART;TZID=America/Chicago:20240615T130000
DTEND;TZID=America/Chicago:20240615T140000
DTSTAMP:20260423T113855
CREATED:20240601T151321Z
LAST-MODIFIED:20240601T151321Z
UID:74225-1718456400-1718460000@thetulsaartsdistrict.org
SUMMARY:Sally Dennison and Michael Wallis in conversation with Jeff Martin about her book One + Heart at Tulsa Historical Society
DESCRIPTION:
URL:https://thetulsaartsdistrict.org/event/sally-dennison-and-michael-wallis-in-conversation-with-jeff-martin-about-her-book-one-heart-at-tulsa-historical-society/
LOCATION:Tulsa Historical Society\, 2445 S Peoria Avenue\, Tulsa\, OK\, 74114\, United States
END:VEVENT
BEGIN:VEVENT
DTSTART;TZID=America/Chicago:20230107T110000
DTEND;TZID=America/Chicago:20230107T120000
DTSTAMP:20260423T113855
CREATED:20221222T214824Z
LAST-MODIFIED:20221222T214826Z
UID:49131-1673089200-1673092800@thetulsaartsdistrict.org
SUMMARY:J.D. Colbert at Tulsa Historical Society hosted by Magic City Books
DESCRIPTION:
URL:https://thetulsaartsdistrict.org/event/j-d-colbert-at-tulsa-historical-society-hosted-by-magic-city-books/
LOCATION:Tulsa Historical Society\, 2445 S Peoria Avenue\, Tulsa\, OK\, 74114\, United States
END:VEVENT
BEGIN:VEVENT
DTSTART;TZID=America/Chicago:20190930T190000
DTEND;TZID=America/Chicago:20190930T203000
DTSTAMP:20260423T113855
CREATED:20190929T174858Z
LAST-MODIFIED:20190929T174859Z
UID:9952-1569870000-1569875400@thetulsaartsdistrict.org
SUMMARY:Randy Krehbiel - Tulsa 1921: Reporting a Massacre at Tulsa Historical Society
DESCRIPTION:
URL:https://thetulsaartsdistrict.org/event/randy-krehbiel-tulsa-1921-reporting-a-massacre-at-tulsa-historical-society/
LOCATION:Tulsa Historical Society\, 2445 S Peoria Avenue\, Tulsa\, OK\, 74114\, United States
END:VEVENT
END:VCALENDAR