BEGIN:VCALENDAR
VERSION:2.0
PRODID:-//Tulsa Arts District - ECPv6.15.20//NONSGML v1.0//EN
CALSCALE:GREGORIAN
METHOD:PUBLISH
X-WR-CALNAME:Tulsa Arts District
X-ORIGINAL-URL:https://thetulsaartsdistrict.org
X-WR-CALDESC:Events for Tulsa Arts District
REFRESH-INTERVAL;VALUE=DURATION:PT1H
X-Robots-Tag:noindex
X-PUBLISHED-TTL:PT1H
BEGIN:VTIMEZONE
TZID:America/Chicago
BEGIN:DAYLIGHT
TZOFFSETFROM:-0600
TZOFFSETTO:-0500
TZNAME:CDT
DTSTART:20180311T080000
END:DAYLIGHT
BEGIN:STANDARD
TZOFFSETFROM:-0500
TZOFFSETTO:-0600
TZNAME:CST
DTSTART:20181104T070000
END:STANDARD
BEGIN:DAYLIGHT
TZOFFSETFROM:-0600
TZOFFSETTO:-0500
TZNAME:CDT
DTSTART:20190310T080000
END:DAYLIGHT
BEGIN:STANDARD
TZOFFSETFROM:-0500
TZOFFSETTO:-0600
TZNAME:CST
DTSTART:20191103T070000
END:STANDARD
BEGIN:DAYLIGHT
TZOFFSETFROM:-0600
TZOFFSETTO:-0500
TZNAME:CDT
DTSTART:20200308T080000
END:DAYLIGHT
BEGIN:STANDARD
TZOFFSETFROM:-0500
TZOFFSETTO:-0600
TZNAME:CST
DTSTART:20201101T070000
END:STANDARD
BEGIN:DAYLIGHT
TZOFFSETFROM:-0600
TZOFFSETTO:-0500
TZNAME:CDT
DTSTART:20210314T080000
END:DAYLIGHT
BEGIN:STANDARD
TZOFFSETFROM:-0500
TZOFFSETTO:-0600
TZNAME:CST
DTSTART:20211107T070000
END:STANDARD
BEGIN:DAYLIGHT
TZOFFSETFROM:-0600
TZOFFSETTO:-0500
TZNAME:CDT
DTSTART:20220313T080000
END:DAYLIGHT
BEGIN:STANDARD
TZOFFSETFROM:-0500
TZOFFSETTO:-0600
TZNAME:CST
DTSTART:20221106T070000
END:STANDARD
BEGIN:DAYLIGHT
TZOFFSETFROM:-0600
TZOFFSETTO:-0500
TZNAME:CDT
DTSTART:20230312T080000
END:DAYLIGHT
BEGIN:STANDARD
TZOFFSETFROM:-0500
TZOFFSETTO:-0600
TZNAME:CST
DTSTART:20231105T070000
END:STANDARD
BEGIN:DAYLIGHT
TZOFFSETFROM:-0600
TZOFFSETTO:-0500
TZNAME:CDT
DTSTART:20240310T080000
END:DAYLIGHT
BEGIN:STANDARD
TZOFFSETFROM:-0500
TZOFFSETTO:-0600
TZNAME:CST
DTSTART:20241103T070000
END:STANDARD
END:VTIMEZONE
BEGIN:VEVENT
DTSTART;TZID=America/Chicago:20230312T160000
DTEND;TZID=America/Chicago:20230312T180000
DTSTAMP:20260421T071115
CREATED:20230311T151549Z
LAST-MODIFIED:20230311T175846Z
UID:52509-1678636800-1678644000@thetulsaartsdistrict.org
SUMMARY:Austin ‘Tall Guy’ Ellis versus Bre ‘La Gen Z’ Sandoval competition at Valkyrie
DESCRIPTION:Catch the biggest match up of the season: Austin ‘Tall Guy’ Ellis versus Bre ‘La Gen Z’ Sandoval competing to see who can complete all 50 graduation cocktails first. \n\n\n\nDoors open at 4pm. $5 graduation cocktails. Place your bets now
URL:https://thetulsaartsdistrict.org/event/austin-tall-guy-ellis-versus-bre-la-gen-z-sandoval-competion-at-valkyrie/
LOCATION:Valkyrie\, 13 E Reconciliation Way\, Tulsa\, OK\, 74103\, United States
END:VEVENT
BEGIN:VEVENT
DTSTART;TZID=America/Chicago:20221204T180000
DTEND;TZID=America/Chicago:20221204T230000
DTSTAMP:20260421T071115
CREATED:20221201T155528Z
LAST-MODIFIED:20221201T155529Z
UID:48688-1670176800-1670194800@thetulsaartsdistrict.org
SUMMARY:Repeal Day at Valkyrie with DJ Sydney Lee and MC Scott Phillips
DESCRIPTION:
URL:https://thetulsaartsdistrict.org/event/repeal-day-at-valkyrie-with-dj-sydney-lee-and-mc-scott-phillips/
LOCATION:Valkyrie\, 13 E Reconciliation Way\, Tulsa\, OK\, 74103\, United States
END:VEVENT
BEGIN:VEVENT
DTSTART;TZID=America/Chicago:20220609T170000
DTEND;TZID=America/Chicago:20220610T010000
DTSTAMP:20260421T071115
CREATED:20220609T124055Z
LAST-MODIFIED:20220609T124056Z
UID:40642-1654794000-1654822800@thetulsaartsdistrict.org
SUMMARY:Valkiversary // Valkyrie Turns 10!!!!!
DESCRIPTION:
URL:https://thetulsaartsdistrict.org/event/valkiversary-valkyrie-turns-10/
LOCATION:Valkyrie\, 13 E Reconciliation Way\, Tulsa\, OK\, 74103\, United States
END:VEVENT
BEGIN:VEVENT
DTSTART;TZID=America/Chicago:20210814T180000
DTEND;TZID=America/Chicago:20210814T190000
DTSTAMP:20260421T071115
CREATED:20210811T133826Z
LAST-MODIFIED:20210811T133827Z
UID:28210-1628964000-1628967600@thetulsaartsdistrict.org
SUMMARY:Bourbon Authority Fred Minnick at Valkyrie
DESCRIPTION:
URL:https://thetulsaartsdistrict.org/event/bourbon-authority-fred-minnick-at-valkyrie/
LOCATION:Valkyrie\, 13 E Reconciliation Way\, Tulsa\, OK\, 74103\, United States
END:VEVENT
BEGIN:VEVENT
DTSTART;TZID=America/Chicago:20191205T160000
DTEND;TZID=America/Chicago:20191206T170000
DTSTAMP:20260421T071115
CREATED:20191205T221832Z
LAST-MODIFIED:20191205T221833Z
UID:12182-1575561600-1575651600@thetulsaartsdistrict.org
SUMMARY:5th Annual Repeal Day Party at Valkyrie
DESCRIPTION:
URL:https://thetulsaartsdistrict.org/event/5th-annual-repeal-day-party-at-valkyrie/
LOCATION:Valkyrie\, 13 E Reconciliation Way\, Tulsa\, OK\, 74103\, United States
END:VEVENT
END:VCALENDAR