BEGIN:VCALENDAR
VERSION:2.0
PRODID:-//Tulsa Arts District - ECPv6.15.20//NONSGML v1.0//EN
CALSCALE:GREGORIAN
METHOD:PUBLISH
X-WR-CALNAME:Tulsa Arts District
X-ORIGINAL-URL:https://thetulsaartsdistrict.org
X-WR-CALDESC:Events for Tulsa Arts District
REFRESH-INTERVAL;VALUE=DURATION:PT1H
X-Robots-Tag:noindex
X-PUBLISHED-TTL:PT1H
BEGIN:VTIMEZONE
TZID:America/Chicago
BEGIN:DAYLIGHT
TZOFFSETFROM:-0600
TZOFFSETTO:-0500
TZNAME:CDT
DTSTART:20240310T080000
END:DAYLIGHT
BEGIN:STANDARD
TZOFFSETFROM:-0500
TZOFFSETTO:-0600
TZNAME:CST
DTSTART:20241103T070000
END:STANDARD
BEGIN:DAYLIGHT
TZOFFSETFROM:-0600
TZOFFSETTO:-0500
TZNAME:CDT
DTSTART:20250309T080000
END:DAYLIGHT
BEGIN:STANDARD
TZOFFSETFROM:-0500
TZOFFSETTO:-0600
TZNAME:CST
DTSTART:20251102T070000
END:STANDARD
BEGIN:DAYLIGHT
TZOFFSETFROM:-0600
TZOFFSETTO:-0500
TZNAME:CDT
DTSTART:20260308T080000
END:DAYLIGHT
BEGIN:STANDARD
TZOFFSETFROM:-0500
TZOFFSETTO:-0600
TZNAME:CST
DTSTART:20261101T070000
END:STANDARD
BEGIN:DAYLIGHT
TZOFFSETFROM:-0600
TZOFFSETTO:-0500
TZNAME:CDT
DTSTART:20270314T080000
END:DAYLIGHT
BEGIN:STANDARD
TZOFFSETFROM:-0500
TZOFFSETTO:-0600
TZNAME:CST
DTSTART:20271107T070000
END:STANDARD
END:VTIMEZONE
BEGIN:VEVENT
DTSTART;TZID=America/Chicago:20260223T073000
DTEND;TZID=America/Chicago:20260223T230000
DTSTAMP:20260421T052310
CREATED:20260130T202451Z
LAST-MODIFIED:20260130T202451Z
UID:114915-1771831800-1771887600@thetulsaartsdistrict.org
SUMMARY:Scraps Designs presents\, A Collection of Abstract Works at Vast Bank Lobby
DESCRIPTION:Abstract Works featuring work by Rebecca Blood\, Juni Peraza\, Jamie Pierson\, Candacee White and May Yang
URL:https://thetulsaartsdistrict.org/event/scraps-designs-presents-a-collection-of-abstract-works-at-vast-bank-lobby/2026-02-23/
LOCATION:Vast Bank\, 110 N. Elgin\, Tulsa\, OK\, 74103\, United States
END:VEVENT
BEGIN:VEVENT
DTSTART;TZID=America/Chicago:20260222T090000
DTEND;TZID=America/Chicago:20260222T220000
DTSTAMP:20260421T052310
CREATED:20260130T202451Z
LAST-MODIFIED:20260130T202451Z
UID:114914-1771750800-1771797600@thetulsaartsdistrict.org
SUMMARY:Scraps Designs presents\, A Collection of Abstract Works at Vast Bank Lobby
DESCRIPTION:Abstract Works featuring work by Rebecca Blood\, Juni Peraza\, Jamie Pierson\, Candacee White and May Yang
URL:https://thetulsaartsdistrict.org/event/scraps-designs-presents-a-collection-of-abstract-works-at-vast-bank-lobby/2026-02-22/
LOCATION:Vast Bank\, 110 N. Elgin\, Tulsa\, OK\, 74103\, United States
END:VEVENT
BEGIN:VEVENT
DTSTART;TZID=America/Chicago:20260221T073000
DTEND;TZID=America/Chicago:20260221T230000
DTSTAMP:20260421T052310
CREATED:20260130T202451Z
LAST-MODIFIED:20260130T202451Z
UID:114913-1771659000-1771714800@thetulsaartsdistrict.org
SUMMARY:Scraps Designs presents\, A Collection of Abstract Works at Vast Bank Lobby
DESCRIPTION:Abstract Works featuring work by Rebecca Blood\, Juni Peraza\, Jamie Pierson\, Candacee White and May Yang
URL:https://thetulsaartsdistrict.org/event/scraps-designs-presents-a-collection-of-abstract-works-at-vast-bank-lobby/2026-02-21/
LOCATION:Vast Bank\, 110 N. Elgin\, Tulsa\, OK\, 74103\, United States
END:VEVENT
BEGIN:VEVENT
DTSTART;TZID=America/Chicago:20260220T073000
DTEND;TZID=America/Chicago:20260220T230000
DTSTAMP:20260421T052310
CREATED:20260130T202451Z
LAST-MODIFIED:20260130T202451Z
UID:114912-1771572600-1771628400@thetulsaartsdistrict.org
SUMMARY:Scraps Designs presents\, A Collection of Abstract Works at Vast Bank Lobby
DESCRIPTION:Abstract Works featuring work by Rebecca Blood\, Juni Peraza\, Jamie Pierson\, Candacee White and May Yang
URL:https://thetulsaartsdistrict.org/event/scraps-designs-presents-a-collection-of-abstract-works-at-vast-bank-lobby/2026-02-20/
LOCATION:Vast Bank\, 110 N. Elgin\, Tulsa\, OK\, 74103\, United States
END:VEVENT
BEGIN:VEVENT
DTSTART;TZID=America/Chicago:20260219T073000
DTEND;TZID=America/Chicago:20260219T230000
DTSTAMP:20260421T052310
CREATED:20260130T202451Z
LAST-MODIFIED:20260130T202451Z
UID:114911-1771486200-1771542000@thetulsaartsdistrict.org
SUMMARY:Scraps Designs presents\, A Collection of Abstract Works at Vast Bank Lobby
DESCRIPTION:Abstract Works featuring work by Rebecca Blood\, Juni Peraza\, Jamie Pierson\, Candacee White and May Yang
URL:https://thetulsaartsdistrict.org/event/scraps-designs-presents-a-collection-of-abstract-works-at-vast-bank-lobby/2026-02-19/
LOCATION:Vast Bank\, 110 N. Elgin\, Tulsa\, OK\, 74103\, United States
END:VEVENT
BEGIN:VEVENT
DTSTART;TZID=America/Chicago:20260218T073000
DTEND;TZID=America/Chicago:20260218T230000
DTSTAMP:20260421T052310
CREATED:20260130T202451Z
LAST-MODIFIED:20260130T202451Z
UID:114910-1771399800-1771455600@thetulsaartsdistrict.org
SUMMARY:Scraps Designs presents\, A Collection of Abstract Works at Vast Bank Lobby
DESCRIPTION:Abstract Works featuring work by Rebecca Blood\, Juni Peraza\, Jamie Pierson\, Candacee White and May Yang
URL:https://thetulsaartsdistrict.org/event/scraps-designs-presents-a-collection-of-abstract-works-at-vast-bank-lobby/2026-02-18/
LOCATION:Vast Bank\, 110 N. Elgin\, Tulsa\, OK\, 74103\, United States
END:VEVENT
BEGIN:VEVENT
DTSTART;TZID=America/Chicago:20260217T073000
DTEND;TZID=America/Chicago:20260217T230000
DTSTAMP:20260421T052310
CREATED:20260130T202451Z
LAST-MODIFIED:20260130T202451Z
UID:114909-1771313400-1771369200@thetulsaartsdistrict.org
SUMMARY:Scraps Designs presents\, A Collection of Abstract Works at Vast Bank Lobby
DESCRIPTION:Abstract Works featuring work by Rebecca Blood\, Juni Peraza\, Jamie Pierson\, Candacee White and May Yang
URL:https://thetulsaartsdistrict.org/event/scraps-designs-presents-a-collection-of-abstract-works-at-vast-bank-lobby/2026-02-17/
LOCATION:Vast Bank\, 110 N. Elgin\, Tulsa\, OK\, 74103\, United States
END:VEVENT
BEGIN:VEVENT
DTSTART;TZID=America/Chicago:20260216T073000
DTEND;TZID=America/Chicago:20260216T230000
DTSTAMP:20260421T052310
CREATED:20260130T202451Z
LAST-MODIFIED:20260130T202451Z
UID:114908-1771227000-1771282800@thetulsaartsdistrict.org
SUMMARY:Scraps Designs presents\, A Collection of Abstract Works at Vast Bank Lobby
DESCRIPTION:Abstract Works featuring work by Rebecca Blood\, Juni Peraza\, Jamie Pierson\, Candacee White and May Yang
URL:https://thetulsaartsdistrict.org/event/scraps-designs-presents-a-collection-of-abstract-works-at-vast-bank-lobby/2026-02-16/
LOCATION:Vast Bank\, 110 N. Elgin\, Tulsa\, OK\, 74103\, United States
END:VEVENT
BEGIN:VEVENT
DTSTART;TZID=America/Chicago:20260215T090000
DTEND;TZID=America/Chicago:20260215T220000
DTSTAMP:20260421T052310
CREATED:20260130T202451Z
LAST-MODIFIED:20260130T202451Z
UID:114907-1771146000-1771192800@thetulsaartsdistrict.org
SUMMARY:Scraps Designs presents\, A Collection of Abstract Works at Vast Bank Lobby
DESCRIPTION:Abstract Works featuring work by Rebecca Blood\, Juni Peraza\, Jamie Pierson\, Candacee White and May Yang
URL:https://thetulsaartsdistrict.org/event/scraps-designs-presents-a-collection-of-abstract-works-at-vast-bank-lobby/2026-02-15/
LOCATION:Vast Bank\, 110 N. Elgin\, Tulsa\, OK\, 74103\, United States
END:VEVENT
BEGIN:VEVENT
DTSTART;TZID=America/Chicago:20260214T073000
DTEND;TZID=America/Chicago:20260214T230000
DTSTAMP:20260421T052310
CREATED:20260130T202451Z
LAST-MODIFIED:20260130T202451Z
UID:114906-1771054200-1771110000@thetulsaartsdistrict.org
SUMMARY:Scraps Designs presents\, A Collection of Abstract Works at Vast Bank Lobby
DESCRIPTION:Abstract Works featuring work by Rebecca Blood\, Juni Peraza\, Jamie Pierson\, Candacee White and May Yang
URL:https://thetulsaartsdistrict.org/event/scraps-designs-presents-a-collection-of-abstract-works-at-vast-bank-lobby/2026-02-14/
LOCATION:Vast Bank\, 110 N. Elgin\, Tulsa\, OK\, 74103\, United States
END:VEVENT
BEGIN:VEVENT
DTSTART;TZID=America/Chicago:20260213T073000
DTEND;TZID=America/Chicago:20260213T230000
DTSTAMP:20260421T052310
CREATED:20260130T202451Z
LAST-MODIFIED:20260130T202451Z
UID:114905-1770967800-1771023600@thetulsaartsdistrict.org
SUMMARY:Scraps Designs presents\, A Collection of Abstract Works at Vast Bank Lobby
DESCRIPTION:Abstract Works featuring work by Rebecca Blood\, Juni Peraza\, Jamie Pierson\, Candacee White and May Yang
URL:https://thetulsaartsdistrict.org/event/scraps-designs-presents-a-collection-of-abstract-works-at-vast-bank-lobby/2026-02-13/
LOCATION:Vast Bank\, 110 N. Elgin\, Tulsa\, OK\, 74103\, United States
END:VEVENT
BEGIN:VEVENT
DTSTART;TZID=America/Chicago:20260212T073000
DTEND;TZID=America/Chicago:20260212T230000
DTSTAMP:20260421T052310
CREATED:20260130T202451Z
LAST-MODIFIED:20260130T202451Z
UID:114904-1770881400-1770937200@thetulsaartsdistrict.org
SUMMARY:Scraps Designs presents\, A Collection of Abstract Works at Vast Bank Lobby
DESCRIPTION:Abstract Works featuring work by Rebecca Blood\, Juni Peraza\, Jamie Pierson\, Candacee White and May Yang
URL:https://thetulsaartsdistrict.org/event/scraps-designs-presents-a-collection-of-abstract-works-at-vast-bank-lobby/2026-02-12/
LOCATION:Vast Bank\, 110 N. Elgin\, Tulsa\, OK\, 74103\, United States
END:VEVENT
BEGIN:VEVENT
DTSTART;TZID=America/Chicago:20260211T073000
DTEND;TZID=America/Chicago:20260211T230000
DTSTAMP:20260421T052310
CREATED:20260130T202451Z
LAST-MODIFIED:20260130T202451Z
UID:114903-1770795000-1770850800@thetulsaartsdistrict.org
SUMMARY:Scraps Designs presents\, A Collection of Abstract Works at Vast Bank Lobby
DESCRIPTION:Abstract Works featuring work by Rebecca Blood\, Juni Peraza\, Jamie Pierson\, Candacee White and May Yang
URL:https://thetulsaartsdistrict.org/event/scraps-designs-presents-a-collection-of-abstract-works-at-vast-bank-lobby/2026-02-11/
LOCATION:Vast Bank\, 110 N. Elgin\, Tulsa\, OK\, 74103\, United States
END:VEVENT
BEGIN:VEVENT
DTSTART;TZID=America/Chicago:20260210T073000
DTEND;TZID=America/Chicago:20260210T230000
DTSTAMP:20260421T052310
CREATED:20260130T202451Z
LAST-MODIFIED:20260130T202451Z
UID:114902-1770708600-1770764400@thetulsaartsdistrict.org
SUMMARY:Scraps Designs presents\, A Collection of Abstract Works at Vast Bank Lobby
DESCRIPTION:Abstract Works featuring work by Rebecca Blood\, Juni Peraza\, Jamie Pierson\, Candacee White and May Yang
URL:https://thetulsaartsdistrict.org/event/scraps-designs-presents-a-collection-of-abstract-works-at-vast-bank-lobby/2026-02-10/
LOCATION:Vast Bank\, 110 N. Elgin\, Tulsa\, OK\, 74103\, United States
END:VEVENT
BEGIN:VEVENT
DTSTART;TZID=America/Chicago:20260209T073000
DTEND;TZID=America/Chicago:20260209T230000
DTSTAMP:20260421T052310
CREATED:20260130T202451Z
LAST-MODIFIED:20260130T202451Z
UID:114901-1770622200-1770678000@thetulsaartsdistrict.org
SUMMARY:Scraps Designs presents\, A Collection of Abstract Works at Vast Bank Lobby
DESCRIPTION:Abstract Works featuring work by Rebecca Blood\, Juni Peraza\, Jamie Pierson\, Candacee White and May Yang
URL:https://thetulsaartsdistrict.org/event/scraps-designs-presents-a-collection-of-abstract-works-at-vast-bank-lobby/2026-02-09/
LOCATION:Vast Bank\, 110 N. Elgin\, Tulsa\, OK\, 74103\, United States
END:VEVENT
BEGIN:VEVENT
DTSTART;TZID=America/Chicago:20260208T090000
DTEND;TZID=America/Chicago:20260208T220000
DTSTAMP:20260421T052310
CREATED:20260130T202451Z
LAST-MODIFIED:20260130T202451Z
UID:114900-1770541200-1770588000@thetulsaartsdistrict.org
SUMMARY:Scraps Designs presents\, A Collection of Abstract Works at Vast Bank Lobby
DESCRIPTION:Abstract Works featuring work by Rebecca Blood\, Juni Peraza\, Jamie Pierson\, Candacee White and May Yang
URL:https://thetulsaartsdistrict.org/event/scraps-designs-presents-a-collection-of-abstract-works-at-vast-bank-lobby/2026-02-08/
LOCATION:Vast Bank\, 110 N. Elgin\, Tulsa\, OK\, 74103\, United States
END:VEVENT
BEGIN:VEVENT
DTSTART;TZID=America/Chicago:20260207T073000
DTEND;TZID=America/Chicago:20260207T230000
DTSTAMP:20260421T052310
CREATED:20260130T202451Z
LAST-MODIFIED:20260130T202451Z
UID:114899-1770449400-1770505200@thetulsaartsdistrict.org
SUMMARY:Scraps Designs presents\, A Collection of Abstract Works at Vast Bank Lobby
DESCRIPTION:Abstract Works featuring work by Rebecca Blood\, Juni Peraza\, Jamie Pierson\, Candacee White and May Yang
URL:https://thetulsaartsdistrict.org/event/scraps-designs-presents-a-collection-of-abstract-works-at-vast-bank-lobby/2026-02-07/
LOCATION:Vast Bank\, 110 N. Elgin\, Tulsa\, OK\, 74103\, United States
END:VEVENT
BEGIN:VEVENT
DTSTART;TZID=America/Chicago:20260206T073000
DTEND;TZID=America/Chicago:20260206T230000
DTSTAMP:20260421T052310
CREATED:20260130T202451Z
LAST-MODIFIED:20260313T132939Z
UID:106624-1770363000-1770418800@thetulsaartsdistrict.org
SUMMARY:Scraps Designs presents\, A Collection of Abstract Works at Vast Bank Lobby
DESCRIPTION:Abstract Works featuring work by Rebecca Blood\, Juni Peraza\, Jamie Pierson\, Candacee White and May Yang
URL:https://thetulsaartsdistrict.org/event/scraps-designs-presents-a-collection-of-abstract-works-at-vast-bank-lobby/2026-02-06/
LOCATION:Vast Bank\, 110 N. Elgin\, Tulsa\, OK\, 74103\, United States
END:VEVENT
BEGIN:VEVENT
DTSTART;TZID=America/Chicago:20260205T073000
DTEND;TZID=America/Chicago:20260205T230000
DTSTAMP:20260421T052310
CREATED:20260130T202451Z
LAST-MODIFIED:20260313T132939Z
UID:106623-1770276600-1770332400@thetulsaartsdistrict.org
SUMMARY:Scraps Designs presents\, A Collection of Abstract Works at Vast Bank Lobby
DESCRIPTION:Abstract Works featuring work by Rebecca Blood\, Juni Peraza\, Jamie Pierson\, Candacee White and May Yang
URL:https://thetulsaartsdistrict.org/event/scraps-designs-presents-a-collection-of-abstract-works-at-vast-bank-lobby/2026-02-05/
LOCATION:Vast Bank\, 110 N. Elgin\, Tulsa\, OK\, 74103\, United States
END:VEVENT
BEGIN:VEVENT
DTSTART;TZID=America/Chicago:20260204T073000
DTEND;TZID=America/Chicago:20260204T230000
DTSTAMP:20260421T052310
CREATED:20260130T202451Z
LAST-MODIFIED:20260130T202451Z
UID:114898-1770190200-1770246000@thetulsaartsdistrict.org
SUMMARY:Scraps Designs presents\, A Collection of Abstract Works at Vast Bank Lobby
DESCRIPTION:Abstract Works featuring work by Rebecca Blood\, Juni Peraza\, Jamie Pierson\, Candacee White and May Yang
URL:https://thetulsaartsdistrict.org/event/scraps-designs-presents-a-collection-of-abstract-works-at-vast-bank-lobby/2026-02-04/
LOCATION:Vast Bank\, 110 N. Elgin\, Tulsa\, OK\, 74103\, United States
END:VEVENT
BEGIN:VEVENT
DTSTART;TZID=America/Chicago:20260204T073000
DTEND;TZID=America/Chicago:20260204T220000
DTSTAMP:20260421T052310
CREATED:20260130T202451Z
LAST-MODIFIED:20260313T132938Z
UID:106622-1770190200-1770242400@thetulsaartsdistrict.org
SUMMARY:Scraps Designs presents\, A Collection of Abstract Works at Vast Bank Lobby
DESCRIPTION:Abstract Works featuring work by Rebecca Blood\, Juni Peraza\, Jamie Pierson\, Candacee White and May Yang
URL:https://thetulsaartsdistrict.org/event/scraps-designs-presents-a-collection-of-abstract-works-at-vast-bank-lobby/2026-02-04/
LOCATION:Vast Bank\, 110 N. Elgin\, Tulsa\, OK\, 74103\, United States
END:VEVENT
BEGIN:VEVENT
DTSTART;TZID=America/Chicago:20260203T073000
DTEND;TZID=America/Chicago:20260203T230000
DTSTAMP:20260421T052310
CREATED:20260130T202451Z
LAST-MODIFIED:20260130T202451Z
UID:114897-1770103800-1770159600@thetulsaartsdistrict.org
SUMMARY:Scraps Designs presents\, A Collection of Abstract Works at Vast Bank Lobby
DESCRIPTION:Abstract Works featuring work by Rebecca Blood\, Juni Peraza\, Jamie Pierson\, Candacee White and May Yang
URL:https://thetulsaartsdistrict.org/event/scraps-designs-presents-a-collection-of-abstract-works-at-vast-bank-lobby/2026-02-03/
LOCATION:Vast Bank\, 110 N. Elgin\, Tulsa\, OK\, 74103\, United States
END:VEVENT
BEGIN:VEVENT
DTSTART;TZID=America/Chicago:20260203T073000
DTEND;TZID=America/Chicago:20260203T220000
DTSTAMP:20260421T052310
CREATED:20260130T202451Z
LAST-MODIFIED:20260313T132938Z
UID:106621-1770103800-1770156000@thetulsaartsdistrict.org
SUMMARY:Scraps Designs presents\, A Collection of Abstract Works at Vast Bank Lobby
DESCRIPTION:Abstract Works featuring work by Rebecca Blood\, Juni Peraza\, Jamie Pierson\, Candacee White and May Yang
URL:https://thetulsaartsdistrict.org/event/scraps-designs-presents-a-collection-of-abstract-works-at-vast-bank-lobby/2026-02-03/
LOCATION:Vast Bank\, 110 N. Elgin\, Tulsa\, OK\, 74103\, United States
END:VEVENT
BEGIN:VEVENT
DTSTART;TZID=America/Chicago:20260202T073000
DTEND;TZID=America/Chicago:20260202T230000
DTSTAMP:20260421T052310
CREATED:20260130T202451Z
LAST-MODIFIED:20260130T202451Z
UID:114896-1770017400-1770073200@thetulsaartsdistrict.org
SUMMARY:Scraps Designs presents\, A Collection of Abstract Works at Vast Bank Lobby
DESCRIPTION:Abstract Works featuring work by Rebecca Blood\, Juni Peraza\, Jamie Pierson\, Candacee White and May Yang
URL:https://thetulsaartsdistrict.org/event/scraps-designs-presents-a-collection-of-abstract-works-at-vast-bank-lobby/2026-02-02/
LOCATION:Vast Bank\, 110 N. Elgin\, Tulsa\, OK\, 74103\, United States
END:VEVENT
BEGIN:VEVENT
DTSTART;TZID=America/Chicago:20260202T073000
DTEND;TZID=America/Chicago:20260202T220000
DTSTAMP:20260421T052310
CREATED:20260130T202451Z
LAST-MODIFIED:20260313T132937Z
UID:106620-1770017400-1770069600@thetulsaartsdistrict.org
SUMMARY:Scraps Designs presents\, A Collection of Abstract Works at Vast Bank Lobby
DESCRIPTION:Abstract Works featuring work by Rebecca Blood\, Juni Peraza\, Jamie Pierson\, Candacee White and May Yang
URL:https://thetulsaartsdistrict.org/event/scraps-designs-presents-a-collection-of-abstract-works-at-vast-bank-lobby/2026-02-02/
LOCATION:Vast Bank\, 110 N. Elgin\, Tulsa\, OK\, 74103\, United States
END:VEVENT
BEGIN:VEVENT
DTSTART;TZID=America/Chicago:20260201T090000
DTEND;TZID=America/Chicago:20260201T220000
DTSTAMP:20260421T052310
CREATED:20260130T202451Z
LAST-MODIFIED:20260313T132936Z
UID:106619-1769936400-1769983200@thetulsaartsdistrict.org
SUMMARY:Scraps Designs presents\, A Collection of Abstract Works at Vast Bank Lobby
DESCRIPTION:Abstract Works featuring work by Rebecca Blood\, Juni Peraza\, Jamie Pierson\, Candacee White and May Yang
URL:https://thetulsaartsdistrict.org/event/scraps-designs-presents-a-collection-of-abstract-works-at-vast-bank-lobby/2026-02-01/
LOCATION:Vast Bank\, 110 N. Elgin\, Tulsa\, OK\, 74103\, United States
END:VEVENT
BEGIN:VEVENT
DTSTART;TZID=America/Chicago:20260131T073000
DTEND;TZID=America/Chicago:20260131T230000
DTSTAMP:20260421T052310
CREATED:20260130T202451Z
LAST-MODIFIED:20260313T132848Z
UID:106616-1769844600-1769900400@thetulsaartsdistrict.org
SUMMARY:Scraps Designs presents\, A Collection of Abstract Works at Vast Bank Lobby
DESCRIPTION:Abstract Works featuring work by Rebecca Blood\, Juni Peraza\, Jamie Pierson\, Candacee White and May Yang
URL:https://thetulsaartsdistrict.org/event/scraps-designs-presents-a-collection-of-abstract-works-at-vast-bank-lobby/2026-01-31/
LOCATION:Vast Bank\, 110 N. Elgin\, Tulsa\, OK\, 74103\, United States
END:VEVENT
BEGIN:VEVENT
DTSTART;TZID=America/Chicago:20260130T073000
DTEND;TZID=America/Chicago:20260130T230000
DTSTAMP:20260421T052310
CREATED:20260130T201300Z
LAST-MODIFIED:20260130T222717Z
UID:106612-1769758200-1769814000@thetulsaartsdistrict.org
SUMMARY:Scraps Designs presents\, A Collection of Abstract Works featuring work by Rebecca Blood\, Juni Peraza\, Jamie Pierson\, Candacee White and May Yang at Vast Bank
DESCRIPTION:
URL:https://thetulsaartsdistrict.org/event/scraps-designs-presents-a-collection-of-abstract-works-featuring-work-by-rebecca-blood-juni-peraza-jamie-pierson-candacee-white-and-may-yang-at-vast-bank/
LOCATION:Vast Bank\, 110 N. Elgin\, Tulsa\, OK\, 74103\, United States
END:VEVENT
BEGIN:VEVENT
DTSTART;TZID=America/Chicago:20251230T070000
DTEND;TZID=America/Chicago:20251230T220000
DTSTAMP:20260421T052310
CREATED:20250930T190637Z
LAST-MODIFIED:20251217T144145Z
UID:99406-1767078000-1767132000@thetulsaartsdistrict.org
SUMMARY:A Collection of Abstract Works in Vast Bank Lobby
DESCRIPTION:Works by Rebecca Blood\, Juni Peraza\, Jamie Pierson\, Candacee White\, May Yang
URL:https://thetulsaartsdistrict.org/event/a-collection-of-abstract-works-at-vast-bank-2025-10-04-2025-12-17/2025-12-30/
LOCATION:Vast Bank\, 110 N. Elgin\, Tulsa\, OK\, 74103\, United States
END:VEVENT
BEGIN:VEVENT
DTSTART;TZID=America/Chicago:20251229T070000
DTEND;TZID=America/Chicago:20251229T170000
DTSTAMP:20260421T052310
CREATED:20250930T190637Z
LAST-MODIFIED:20251217T144145Z
UID:100642-1766991600-1767027600@thetulsaartsdistrict.org
SUMMARY:A Collection of Abstract Works in Vast Bank Lobby
DESCRIPTION:Works by Rebecca Blood\, Juni Peraza\, Jamie Pierson\, Candacee White\, May Yang
URL:https://thetulsaartsdistrict.org/event/a-collection-of-abstract-works-at-vast-bank-2025-10-04-2025-12-17/2025-12-29/
LOCATION:Vast Bank\, 110 N. Elgin\, Tulsa\, OK\, 74103\, United States
END:VEVENT
END:VCALENDAR