BEGIN:VCALENDAR
VERSION:2.0
PRODID:-//Tulsa Arts District - ECPv6.15.20//NONSGML v1.0//EN
CALSCALE:GREGORIAN
METHOD:PUBLISH
X-ORIGINAL-URL:https://thetulsaartsdistrict.org
X-WR-CALDESC:Events for Tulsa Arts District
REFRESH-INTERVAL;VALUE=DURATION:PT1H
X-Robots-Tag:noindex
X-PUBLISHED-TTL:PT1H
BEGIN:VTIMEZONE
TZID:America/Chicago
BEGIN:DAYLIGHT
TZOFFSETFROM:-0600
TZOFFSETTO:-0500
TZNAME:CDT
DTSTART:20250309T080000
END:DAYLIGHT
BEGIN:STANDARD
TZOFFSETFROM:-0500
TZOFFSETTO:-0600
TZNAME:CST
DTSTART:20251102T070000
END:STANDARD
BEGIN:DAYLIGHT
TZOFFSETFROM:-0600
TZOFFSETTO:-0500
TZNAME:CDT
DTSTART:20260308T080000
END:DAYLIGHT
BEGIN:STANDARD
TZOFFSETFROM:-0500
TZOFFSETTO:-0600
TZNAME:CST
DTSTART:20261101T070000
END:STANDARD
BEGIN:DAYLIGHT
TZOFFSETFROM:-0600
TZOFFSETTO:-0500
TZNAME:CDT
DTSTART:20270314T080000
END:DAYLIGHT
BEGIN:STANDARD
TZOFFSETFROM:-0500
TZOFFSETTO:-0600
TZNAME:CST
DTSTART:20271107T070000
END:STANDARD
END:VTIMEZONE
BEGIN:VEVENT
DTSTART;TZID=America/Chicago:20260514T120000
DTEND;TZID=America/Chicago:20260514T180000
DTSTAMP:20260423T083444
CREATED:20260331T213915Z
LAST-MODIFIED:20260331T213915Z
UID:115827-1778760000-1778781600@thetulsaartsdistrict.org
SUMMARY:“A Dozen Loops: The Radical Voice of Woody Guthrie” + “Tom Paxton: A Car Full of Songs\,” + “The Melody of Riot: Jay Farrar\, Son Volt\, and the Legacy of Woody Guthrie\,” at Woody Guthrie Center
DESCRIPTION:
URL:https://thetulsaartsdistrict.org/event/a-dozen-loops-the-radical-voice-of-woody-guthrie-tom-paxton-a-car-full-of-songs-the-melody-of-riot-jay-farrar-son-volt-and-the-legacy-of-woo/2026-05-14/
LOCATION:Woody Guthrie Center\, 102 E Reconciliation Way\, Tulsa\, OK\, 74103\, United States
END:VEVENT
BEGIN:VEVENT
DTSTART;TZID=America/Chicago:20260515T120000
DTEND;TZID=America/Chicago:20260515T180000
DTSTAMP:20260423T083444
CREATED:20260331T213915Z
LAST-MODIFIED:20260331T213915Z
UID:115828-1778846400-1778868000@thetulsaartsdistrict.org
SUMMARY:“A Dozen Loops: The Radical Voice of Woody Guthrie” + “Tom Paxton: A Car Full of Songs\,” + “The Melody of Riot: Jay Farrar\, Son Volt\, and the Legacy of Woody Guthrie\,” at Woody Guthrie Center
DESCRIPTION:
URL:https://thetulsaartsdistrict.org/event/a-dozen-loops-the-radical-voice-of-woody-guthrie-tom-paxton-a-car-full-of-songs-the-melody-of-riot-jay-farrar-son-volt-and-the-legacy-of-woo/2026-05-15/
LOCATION:Woody Guthrie Center\, 102 E Reconciliation Way\, Tulsa\, OK\, 74103\, United States
END:VEVENT
BEGIN:VEVENT
DTSTART;TZID=America/Chicago:20260516T120000
DTEND;TZID=America/Chicago:20260516T180000
DTSTAMP:20260423T083444
CREATED:20260331T213915Z
LAST-MODIFIED:20260331T213915Z
UID:115829-1778932800-1778954400@thetulsaartsdistrict.org
SUMMARY:“A Dozen Loops: The Radical Voice of Woody Guthrie” + “Tom Paxton: A Car Full of Songs\,” + “The Melody of Riot: Jay Farrar\, Son Volt\, and the Legacy of Woody Guthrie\,” at Woody Guthrie Center
DESCRIPTION:
URL:https://thetulsaartsdistrict.org/event/a-dozen-loops-the-radical-voice-of-woody-guthrie-tom-paxton-a-car-full-of-songs-the-melody-of-riot-jay-farrar-son-volt-and-the-legacy-of-woo/2026-05-16/
LOCATION:Woody Guthrie Center\, 102 E Reconciliation Way\, Tulsa\, OK\, 74103\, United States
END:VEVENT
BEGIN:VEVENT
DTSTART;TZID=America/Chicago:20260517T120000
DTEND;TZID=America/Chicago:20260517T180000
DTSTAMP:20260423T083444
CREATED:20260331T213915Z
LAST-MODIFIED:20260331T213915Z
UID:115830-1779019200-1779040800@thetulsaartsdistrict.org
SUMMARY:“A Dozen Loops: The Radical Voice of Woody Guthrie” + “Tom Paxton: A Car Full of Songs\,” + “The Melody of Riot: Jay Farrar\, Son Volt\, and the Legacy of Woody Guthrie\,” at Woody Guthrie Center
DESCRIPTION:
URL:https://thetulsaartsdistrict.org/event/a-dozen-loops-the-radical-voice-of-woody-guthrie-tom-paxton-a-car-full-of-songs-the-melody-of-riot-jay-farrar-son-volt-and-the-legacy-of-woo/2026-05-17/
LOCATION:Woody Guthrie Center\, 102 E Reconciliation Way\, Tulsa\, OK\, 74103\, United States
END:VEVENT
BEGIN:VEVENT
DTSTART;TZID=America/Chicago:20260520T120000
DTEND;TZID=America/Chicago:20260520T180000
DTSTAMP:20260423T083444
CREATED:20260331T213915Z
LAST-MODIFIED:20260331T213915Z
UID:115831-1779278400-1779300000@thetulsaartsdistrict.org
SUMMARY:“A Dozen Loops: The Radical Voice of Woody Guthrie” + “Tom Paxton: A Car Full of Songs\,” + “The Melody of Riot: Jay Farrar\, Son Volt\, and the Legacy of Woody Guthrie\,” at Woody Guthrie Center
DESCRIPTION:
URL:https://thetulsaartsdistrict.org/event/a-dozen-loops-the-radical-voice-of-woody-guthrie-tom-paxton-a-car-full-of-songs-the-melody-of-riot-jay-farrar-son-volt-and-the-legacy-of-woo/2026-05-20/
LOCATION:Woody Guthrie Center\, 102 E Reconciliation Way\, Tulsa\, OK\, 74103\, United States
END:VEVENT
BEGIN:VEVENT
DTSTART;TZID=America/Chicago:20260521T120000
DTEND;TZID=America/Chicago:20260521T180000
DTSTAMP:20260423T083444
CREATED:20260331T213915Z
LAST-MODIFIED:20260331T213915Z
UID:115832-1779364800-1779386400@thetulsaartsdistrict.org
SUMMARY:“A Dozen Loops: The Radical Voice of Woody Guthrie” + “Tom Paxton: A Car Full of Songs\,” + “The Melody of Riot: Jay Farrar\, Son Volt\, and the Legacy of Woody Guthrie\,” at Woody Guthrie Center
DESCRIPTION:
URL:https://thetulsaartsdistrict.org/event/a-dozen-loops-the-radical-voice-of-woody-guthrie-tom-paxton-a-car-full-of-songs-the-melody-of-riot-jay-farrar-son-volt-and-the-legacy-of-woo/2026-05-21/
LOCATION:Woody Guthrie Center\, 102 E Reconciliation Way\, Tulsa\, OK\, 74103\, United States
END:VEVENT
BEGIN:VEVENT
DTSTART;TZID=America/Chicago:20260522T120000
DTEND;TZID=America/Chicago:20260522T180000
DTSTAMP:20260423T083444
CREATED:20260331T213915Z
LAST-MODIFIED:20260331T213915Z
UID:115833-1779451200-1779472800@thetulsaartsdistrict.org
SUMMARY:“A Dozen Loops: The Radical Voice of Woody Guthrie” + “Tom Paxton: A Car Full of Songs\,” + “The Melody of Riot: Jay Farrar\, Son Volt\, and the Legacy of Woody Guthrie\,” at Woody Guthrie Center
DESCRIPTION:
URL:https://thetulsaartsdistrict.org/event/a-dozen-loops-the-radical-voice-of-woody-guthrie-tom-paxton-a-car-full-of-songs-the-melody-of-riot-jay-farrar-son-volt-and-the-legacy-of-woo/2026-05-22/
LOCATION:Woody Guthrie Center\, 102 E Reconciliation Way\, Tulsa\, OK\, 74103\, United States
END:VEVENT
BEGIN:VEVENT
DTSTART;TZID=America/Chicago:20260522T183000
DTEND;TZID=America/Chicago:20260522T200000
DTSTAMP:20260423T083444
CREATED:20260422T223524Z
LAST-MODIFIED:20260422T223526Z
UID:118627-1779474600-1779480000@thetulsaartsdistrict.org
SUMMARY:Admiral Radio takes the stage for the 2026 Common Chords spring concert series at Woody Guthrie Center. 
DESCRIPTION:
URL:https://thetulsaartsdistrict.org/event/admiral-radio-takes-the-stage-for-the-2026-common-chords-spring-concert-series-at-woody-guthrie-center/
LOCATION:Woody Guthrie Center\, 102 E Reconciliation Way\, Tulsa\, OK\, 74103\, United States
END:VEVENT
BEGIN:VEVENT
DTSTART;TZID=America/Chicago:20260523T120000
DTEND;TZID=America/Chicago:20260523T180000
DTSTAMP:20260423T083444
CREATED:20260331T213915Z
LAST-MODIFIED:20260331T213915Z
UID:115834-1779537600-1779559200@thetulsaartsdistrict.org
SUMMARY:“A Dozen Loops: The Radical Voice of Woody Guthrie” + “Tom Paxton: A Car Full of Songs\,” + “The Melody of Riot: Jay Farrar\, Son Volt\, and the Legacy of Woody Guthrie\,” at Woody Guthrie Center
DESCRIPTION:
URL:https://thetulsaartsdistrict.org/event/a-dozen-loops-the-radical-voice-of-woody-guthrie-tom-paxton-a-car-full-of-songs-the-melody-of-riot-jay-farrar-son-volt-and-the-legacy-of-woo/2026-05-23/
LOCATION:Woody Guthrie Center\, 102 E Reconciliation Way\, Tulsa\, OK\, 74103\, United States
END:VEVENT
BEGIN:VEVENT
DTSTART;TZID=America/Chicago:20260523T180000
DTEND;TZID=America/Chicago:20260523T200000
DTSTAMP:20260423T083444
CREATED:20260422T224106Z
LAST-MODIFIED:20260422T224146Z
UID:118631-1779559200-1779566400@thetulsaartsdistrict.org
SUMMARY:Woody Guthrie Center for a special performance by the Women of WoodyFest\, or WOW
DESCRIPTION:
URL:https://thetulsaartsdistrict.org/event/woody-guthrie-center-for-a-special-performance-by-the-women-of-woodyfest-or-wow/
LOCATION:Woody Guthrie Center\, 102 E Reconciliation Way\, Tulsa\, OK\, 74103\, United States
END:VEVENT
BEGIN:VEVENT
DTSTART;TZID=America/Chicago:20260524T120000
DTEND;TZID=America/Chicago:20260524T180000
DTSTAMP:20260423T083444
CREATED:20260331T213915Z
LAST-MODIFIED:20260331T213915Z
UID:115835-1779624000-1779645600@thetulsaartsdistrict.org
SUMMARY:“A Dozen Loops: The Radical Voice of Woody Guthrie” + “Tom Paxton: A Car Full of Songs\,” + “The Melody of Riot: Jay Farrar\, Son Volt\, and the Legacy of Woody Guthrie\,” at Woody Guthrie Center
DESCRIPTION:
URL:https://thetulsaartsdistrict.org/event/a-dozen-loops-the-radical-voice-of-woody-guthrie-tom-paxton-a-car-full-of-songs-the-melody-of-riot-jay-farrar-son-volt-and-the-legacy-of-woo/2026-05-24/
LOCATION:Woody Guthrie Center\, 102 E Reconciliation Way\, Tulsa\, OK\, 74103\, United States
END:VEVENT
BEGIN:VEVENT
DTSTART;TZID=America/Chicago:20260527T120000
DTEND;TZID=America/Chicago:20260527T180000
DTSTAMP:20260423T083444
CREATED:20260331T213915Z
LAST-MODIFIED:20260331T213915Z
UID:115836-1779883200-1779904800@thetulsaartsdistrict.org
SUMMARY:“A Dozen Loops: The Radical Voice of Woody Guthrie” + “Tom Paxton: A Car Full of Songs\,” + “The Melody of Riot: Jay Farrar\, Son Volt\, and the Legacy of Woody Guthrie\,” at Woody Guthrie Center
DESCRIPTION:
URL:https://thetulsaartsdistrict.org/event/a-dozen-loops-the-radical-voice-of-woody-guthrie-tom-paxton-a-car-full-of-songs-the-melody-of-riot-jay-farrar-son-volt-and-the-legacy-of-woo/2026-05-27/
LOCATION:Woody Guthrie Center\, 102 E Reconciliation Way\, Tulsa\, OK\, 74103\, United States
END:VEVENT
BEGIN:VEVENT
DTSTART;TZID=America/Chicago:20260528T120000
DTEND;TZID=America/Chicago:20260528T180000
DTSTAMP:20260423T083444
CREATED:20260331T213915Z
LAST-MODIFIED:20260331T213915Z
UID:115837-1779969600-1779991200@thetulsaartsdistrict.org
SUMMARY:“A Dozen Loops: The Radical Voice of Woody Guthrie” + “Tom Paxton: A Car Full of Songs\,” + “The Melody of Riot: Jay Farrar\, Son Volt\, and the Legacy of Woody Guthrie\,” at Woody Guthrie Center
DESCRIPTION:
URL:https://thetulsaartsdistrict.org/event/a-dozen-loops-the-radical-voice-of-woody-guthrie-tom-paxton-a-car-full-of-songs-the-melody-of-riot-jay-farrar-son-volt-and-the-legacy-of-woo/2026-05-28/
LOCATION:Woody Guthrie Center\, 102 E Reconciliation Way\, Tulsa\, OK\, 74103\, United States
END:VEVENT
BEGIN:VEVENT
DTSTART;TZID=America/Chicago:20260529T120000
DTEND;TZID=America/Chicago:20260529T180000
DTSTAMP:20260423T083444
CREATED:20260331T213915Z
LAST-MODIFIED:20260331T213915Z
UID:115838-1780056000-1780077600@thetulsaartsdistrict.org
SUMMARY:“A Dozen Loops: The Radical Voice of Woody Guthrie” + “Tom Paxton: A Car Full of Songs\,” + “The Melody of Riot: Jay Farrar\, Son Volt\, and the Legacy of Woody Guthrie\,” at Woody Guthrie Center
DESCRIPTION:
URL:https://thetulsaartsdistrict.org/event/a-dozen-loops-the-radical-voice-of-woody-guthrie-tom-paxton-a-car-full-of-songs-the-melody-of-riot-jay-farrar-son-volt-and-the-legacy-of-woo/2026-05-29/
LOCATION:Woody Guthrie Center\, 102 E Reconciliation Way\, Tulsa\, OK\, 74103\, United States
END:VEVENT
BEGIN:VEVENT
DTSTART;TZID=America/Chicago:20260530T120000
DTEND;TZID=America/Chicago:20260530T180000
DTSTAMP:20260423T083444
CREATED:20260331T213915Z
LAST-MODIFIED:20260331T213915Z
UID:115839-1780142400-1780164000@thetulsaartsdistrict.org
SUMMARY:“A Dozen Loops: The Radical Voice of Woody Guthrie” + “Tom Paxton: A Car Full of Songs\,” + “The Melody of Riot: Jay Farrar\, Son Volt\, and the Legacy of Woody Guthrie\,” at Woody Guthrie Center
DESCRIPTION:
URL:https://thetulsaartsdistrict.org/event/a-dozen-loops-the-radical-voice-of-woody-guthrie-tom-paxton-a-car-full-of-songs-the-melody-of-riot-jay-farrar-son-volt-and-the-legacy-of-woo/2026-05-30/
LOCATION:Woody Guthrie Center\, 102 E Reconciliation Way\, Tulsa\, OK\, 74103\, United States
END:VEVENT
BEGIN:VEVENT
DTSTART;TZID=America/Chicago:20260531T120000
DTEND;TZID=America/Chicago:20260531T180000
DTSTAMP:20260423T083444
CREATED:20260331T213915Z
LAST-MODIFIED:20260331T213915Z
UID:115840-1780228800-1780250400@thetulsaartsdistrict.org
SUMMARY:“A Dozen Loops: The Radical Voice of Woody Guthrie” + “Tom Paxton: A Car Full of Songs\,” + “The Melody of Riot: Jay Farrar\, Son Volt\, and the Legacy of Woody Guthrie\,” at Woody Guthrie Center
DESCRIPTION:
URL:https://thetulsaartsdistrict.org/event/a-dozen-loops-the-radical-voice-of-woody-guthrie-tom-paxton-a-car-full-of-songs-the-melody-of-riot-jay-farrar-son-volt-and-the-legacy-of-woo/2026-05-31/
LOCATION:Woody Guthrie Center\, 102 E Reconciliation Way\, Tulsa\, OK\, 74103\, United States
END:VEVENT
BEGIN:VEVENT
DTSTART;TZID=America/Chicago:20260603T120000
DTEND;TZID=America/Chicago:20260603T180000
DTSTAMP:20260423T083444
CREATED:20260331T213915Z
LAST-MODIFIED:20260331T213915Z
UID:115841-1780488000-1780509600@thetulsaartsdistrict.org
SUMMARY:“A Dozen Loops: The Radical Voice of Woody Guthrie” + “Tom Paxton: A Car Full of Songs\,” + “The Melody of Riot: Jay Farrar\, Son Volt\, and the Legacy of Woody Guthrie\,” at Woody Guthrie Center
DESCRIPTION:
URL:https://thetulsaartsdistrict.org/event/a-dozen-loops-the-radical-voice-of-woody-guthrie-tom-paxton-a-car-full-of-songs-the-melody-of-riot-jay-farrar-son-volt-and-the-legacy-of-woo/2026-06-03/
LOCATION:Woody Guthrie Center\, 102 E Reconciliation Way\, Tulsa\, OK\, 74103\, United States
END:VEVENT
BEGIN:VEVENT
DTSTART;TZID=America/Chicago:20260604T120000
DTEND;TZID=America/Chicago:20260604T180000
DTSTAMP:20260423T083444
CREATED:20260331T213915Z
LAST-MODIFIED:20260331T213915Z
UID:115842-1780574400-1780596000@thetulsaartsdistrict.org
SUMMARY:“A Dozen Loops: The Radical Voice of Woody Guthrie” + “Tom Paxton: A Car Full of Songs\,” + “The Melody of Riot: Jay Farrar\, Son Volt\, and the Legacy of Woody Guthrie\,” at Woody Guthrie Center
DESCRIPTION:
URL:https://thetulsaartsdistrict.org/event/a-dozen-loops-the-radical-voice-of-woody-guthrie-tom-paxton-a-car-full-of-songs-the-melody-of-riot-jay-farrar-son-volt-and-the-legacy-of-woo/2026-06-04/
LOCATION:Woody Guthrie Center\, 102 E Reconciliation Way\, Tulsa\, OK\, 74103\, United States
END:VEVENT
BEGIN:VEVENT
DTSTART;TZID=America/Chicago:20260605T120000
DTEND;TZID=America/Chicago:20260605T180000
DTSTAMP:20260423T083444
CREATED:20260331T213915Z
LAST-MODIFIED:20260331T213915Z
UID:115843-1780660800-1780682400@thetulsaartsdistrict.org
SUMMARY:“A Dozen Loops: The Radical Voice of Woody Guthrie” + “Tom Paxton: A Car Full of Songs\,” + “The Melody of Riot: Jay Farrar\, Son Volt\, and the Legacy of Woody Guthrie\,” at Woody Guthrie Center
DESCRIPTION:
URL:https://thetulsaartsdistrict.org/event/a-dozen-loops-the-radical-voice-of-woody-guthrie-tom-paxton-a-car-full-of-songs-the-melody-of-riot-jay-farrar-son-volt-and-the-legacy-of-woo/2026-06-05/
LOCATION:Woody Guthrie Center\, 102 E Reconciliation Way\, Tulsa\, OK\, 74103\, United States
END:VEVENT
BEGIN:VEVENT
DTSTART;TZID=America/Chicago:20260606T120000
DTEND;TZID=America/Chicago:20260606T180000
DTSTAMP:20260423T083444
CREATED:20260331T213915Z
LAST-MODIFIED:20260331T213915Z
UID:115844-1780747200-1780768800@thetulsaartsdistrict.org
SUMMARY:“A Dozen Loops: The Radical Voice of Woody Guthrie” + “Tom Paxton: A Car Full of Songs\,” + “The Melody of Riot: Jay Farrar\, Son Volt\, and the Legacy of Woody Guthrie\,” at Woody Guthrie Center
DESCRIPTION:
URL:https://thetulsaartsdistrict.org/event/a-dozen-loops-the-radical-voice-of-woody-guthrie-tom-paxton-a-car-full-of-songs-the-melody-of-riot-jay-farrar-son-volt-and-the-legacy-of-woo/2026-06-06/
LOCATION:Woody Guthrie Center\, 102 E Reconciliation Way\, Tulsa\, OK\, 74103\, United States
END:VEVENT
BEGIN:VEVENT
DTSTART;TZID=America/Chicago:20260607T120000
DTEND;TZID=America/Chicago:20260607T180000
DTSTAMP:20260423T083444
CREATED:20260331T213915Z
LAST-MODIFIED:20260331T213915Z
UID:115845-1780833600-1780855200@thetulsaartsdistrict.org
SUMMARY:“A Dozen Loops: The Radical Voice of Woody Guthrie” + “Tom Paxton: A Car Full of Songs\,” + “The Melody of Riot: Jay Farrar\, Son Volt\, and the Legacy of Woody Guthrie\,” at Woody Guthrie Center
DESCRIPTION:
URL:https://thetulsaartsdistrict.org/event/a-dozen-loops-the-radical-voice-of-woody-guthrie-tom-paxton-a-car-full-of-songs-the-melody-of-riot-jay-farrar-son-volt-and-the-legacy-of-woo/2026-06-07/
LOCATION:Woody Guthrie Center\, 102 E Reconciliation Way\, Tulsa\, OK\, 74103\, United States
END:VEVENT
BEGIN:VEVENT
DTSTART;TZID=America/Chicago:20260610T120000
DTEND;TZID=America/Chicago:20260610T180000
DTSTAMP:20260423T083444
CREATED:20260331T213915Z
LAST-MODIFIED:20260331T213915Z
UID:115846-1781092800-1781114400@thetulsaartsdistrict.org
SUMMARY:“A Dozen Loops: The Radical Voice of Woody Guthrie” + “Tom Paxton: A Car Full of Songs\,” + “The Melody of Riot: Jay Farrar\, Son Volt\, and the Legacy of Woody Guthrie\,” at Woody Guthrie Center
DESCRIPTION:
URL:https://thetulsaartsdistrict.org/event/a-dozen-loops-the-radical-voice-of-woody-guthrie-tom-paxton-a-car-full-of-songs-the-melody-of-riot-jay-farrar-son-volt-and-the-legacy-of-woo/2026-06-10/
LOCATION:Woody Guthrie Center\, 102 E Reconciliation Way\, Tulsa\, OK\, 74103\, United States
END:VEVENT
BEGIN:VEVENT
DTSTART;TZID=America/Chicago:20260611T120000
DTEND;TZID=America/Chicago:20260611T180000
DTSTAMP:20260423T083444
CREATED:20260331T213915Z
LAST-MODIFIED:20260331T213915Z
UID:115847-1781179200-1781200800@thetulsaartsdistrict.org
SUMMARY:“A Dozen Loops: The Radical Voice of Woody Guthrie” + “Tom Paxton: A Car Full of Songs\,” + “The Melody of Riot: Jay Farrar\, Son Volt\, and the Legacy of Woody Guthrie\,” at Woody Guthrie Center
DESCRIPTION:
URL:https://thetulsaartsdistrict.org/event/a-dozen-loops-the-radical-voice-of-woody-guthrie-tom-paxton-a-car-full-of-songs-the-melody-of-riot-jay-farrar-son-volt-and-the-legacy-of-woo/2026-06-11/
LOCATION:Woody Guthrie Center\, 102 E Reconciliation Way\, Tulsa\, OK\, 74103\, United States
END:VEVENT
BEGIN:VEVENT
DTSTART;TZID=America/Chicago:20260612T120000
DTEND;TZID=America/Chicago:20260612T180000
DTSTAMP:20260423T083444
CREATED:20260331T213915Z
LAST-MODIFIED:20260331T213915Z
UID:115848-1781265600-1781287200@thetulsaartsdistrict.org
SUMMARY:“A Dozen Loops: The Radical Voice of Woody Guthrie” + “Tom Paxton: A Car Full of Songs\,” + “The Melody of Riot: Jay Farrar\, Son Volt\, and the Legacy of Woody Guthrie\,” at Woody Guthrie Center
DESCRIPTION:
URL:https://thetulsaartsdistrict.org/event/a-dozen-loops-the-radical-voice-of-woody-guthrie-tom-paxton-a-car-full-of-songs-the-melody-of-riot-jay-farrar-son-volt-and-the-legacy-of-woo/2026-06-12/
LOCATION:Woody Guthrie Center\, 102 E Reconciliation Way\, Tulsa\, OK\, 74103\, United States
END:VEVENT
BEGIN:VEVENT
DTSTART;TZID=America/Chicago:20260613T120000
DTEND;TZID=America/Chicago:20260613T180000
DTSTAMP:20260423T083444
CREATED:20260331T213915Z
LAST-MODIFIED:20260331T213915Z
UID:115849-1781352000-1781373600@thetulsaartsdistrict.org
SUMMARY:“A Dozen Loops: The Radical Voice of Woody Guthrie” + “Tom Paxton: A Car Full of Songs\,” + “The Melody of Riot: Jay Farrar\, Son Volt\, and the Legacy of Woody Guthrie\,” at Woody Guthrie Center
DESCRIPTION:
URL:https://thetulsaartsdistrict.org/event/a-dozen-loops-the-radical-voice-of-woody-guthrie-tom-paxton-a-car-full-of-songs-the-melody-of-riot-jay-farrar-son-volt-and-the-legacy-of-woo/2026-06-13/
LOCATION:Woody Guthrie Center\, 102 E Reconciliation Way\, Tulsa\, OK\, 74103\, United States
END:VEVENT
BEGIN:VEVENT
DTSTART;TZID=America/Chicago:20260614T120000
DTEND;TZID=America/Chicago:20260614T180000
DTSTAMP:20260423T083444
CREATED:20260331T213915Z
LAST-MODIFIED:20260331T213915Z
UID:115850-1781438400-1781460000@thetulsaartsdistrict.org
SUMMARY:“A Dozen Loops: The Radical Voice of Woody Guthrie” + “Tom Paxton: A Car Full of Songs\,” + “The Melody of Riot: Jay Farrar\, Son Volt\, and the Legacy of Woody Guthrie\,” at Woody Guthrie Center
DESCRIPTION:
URL:https://thetulsaartsdistrict.org/event/a-dozen-loops-the-radical-voice-of-woody-guthrie-tom-paxton-a-car-full-of-songs-the-melody-of-riot-jay-farrar-son-volt-and-the-legacy-of-woo/2026-06-14/
LOCATION:Woody Guthrie Center\, 102 E Reconciliation Way\, Tulsa\, OK\, 74103\, United States
END:VEVENT
END:VCALENDAR